BEGIN:VCALENDAR
VERSION:2.0
PRODID:-//Original Play Österreich - ECPv6.0.8//NONSGML v1.0//EN
CALSCALE:GREGORIAN
METHOD:PUBLISH
X-ORIGINAL-URL:https://www.hiersein.at/op
X-WR-CALDESC:Veranstaltungen für Original Play Österreich
REFRESH-INTERVAL;VALUE=DURATION:PT1H
X-Robots-Tag:noindex
X-PUBLISHED-TTL:PT1H
BEGIN:VTIMEZONE
TZID:Europe/Helsinki
BEGIN:DAYLIGHT
TZOFFSETFROM:+0200
TZOFFSETTO:+0300
TZNAME:EEST
DTSTART:20190331T010000
END:DAYLIGHT
BEGIN:STANDARD
TZOFFSETFROM:+0300
TZOFFSETTO:+0200
TZNAME:EET
DTSTART:20191027T010000
END:STANDARD
END:VTIMEZONE
BEGIN:VEVENT
DTSTART;TZID=Europe/Helsinki:20191007T150000
DTEND;TZID=Europe/Helsinki:20191007T160000
DTSTAMP:20260423T151130
CREATED:20190918T065102Z
LAST-MODIFIED:20190918T072322Z
UID:6031-1570460400-1570464000@www.hiersein.at
SUMMARY:Stadt Haag: Spielgruppe im EKIFAZ\, Hauptplatz 1\, 3350 Stadt Haag\, wöchentlich ab 7. Oktober 2019
DESCRIPTION:Kosten: 10er-Block á € 60\,- pro Kind\n\n‚Von Herzen spielen‘ ist das\, was wir instinktiv mit Babys und Kleinkindern tun – oder wie junge Hunde miteinander spielen. Aber mit ca. drei Jahren weicht dieses liebevolle Spiel in unserer Kultur dem Wettbewerb\, Spielregeln oder sogar Raufen und Kämpfen! Und das verunsichert und frustriert Kinder wie Eltern. Original Play zeigt\, wie man diesen Schatz hinüberretten kann und weiter liebevoll und sicher miteinander spielen kann – von kuschelig bis wild und schnell! Erleben Sie das ‚ursprüngliche Spiel‘ mit Ihren Kindern auf der Mattenfläche.\n\nSpielgruppe für Kinder von 0-12 Jahren\, bei Bedarf wird die Gruppe nach Alter und Spielart geteilt.\n\nwöchentlich ab 07.10.2019\, 15:00 bis 16:00 Uhr\, EKIFAZ Stadt Haag\, Termine:\n07.10.2019\, 15 bis 16.00 Uhr\n14.10.2019\, 15 bis 16.00 Uhr\n\n21.10.2019\, 15 bis 16.00 Uhr\n\n28.10.2019\, 15 bis 16.00 Uhr\n\n04.11.2019\, 15 bis 16.00 Uhr\n\n11.11.2019\, 15 bis 16.00 Uhr\n\n18.11.2019\, 15 bis 16.00 Uhr\n\n25.11.2019\, 15 bis 16.00 Uhr\n\n02.12.2019\, 15 bis 16.00 Uhr\n\n09.12.2019\, 15 bis 16.00 Uhr\n\n\n\n\n\n\n\n\n\n\nAnmeldung: klaus@originalplay.at\, mobil: 0660 / 213 58 01
URL:https://www.hiersein.at/op/veranstaltung/stadt-haag-spielgruppe-im-ekifaz-stadt-haag-07-oktober-2019/
LOCATION:EKIFAZ\, Hauptplatz 1\, 3350 Stadt Haag\, Hauptplatz 1\, Stadt Haag\, Niederosterreich\, 3350\, Österreich
CATEGORIES:Spielgruppen,Spielgruppen Niederoesterreich
ATTACH;FMTTYPE=image/jpeg:https://www.hiersein.at/op/wp-content/uploads/2016/03/KlausBeimSpiel-12.jpg
ORGANIZER;CN="Klaus%20Seits%20-%20Verein%20Original%20Play%20%C3%96sterreich":MAILTO:klaus@originalplay.at
END:VEVENT
BEGIN:VEVENT
DTSTART;TZID=Europe/Helsinki:20191014T150000
DTEND;TZID=Europe/Helsinki:20191014T160000
DTSTAMP:20260423T151130
CREATED:20190918T070310Z
LAST-MODIFIED:20190918T072401Z
UID:6033-1571065200-1571068800@www.hiersein.at
SUMMARY:Stadt Haag: Spielgruppe im EKIFAZ\, Hauptplatz 1\, 3350 Stadt Haag\, wöchentlich ab 7. Oktober 2019
DESCRIPTION:Kosten: 10er-Block á € 60\,- pro Kind\n\n‚Von Herzen spielen‘ ist das\, was wir instinktiv mit Babys und Kleinkindern tun – oder wie junge Hunde miteinander spielen. Aber mit ca. drei Jahren weicht dieses liebevolle Spiel in unserer Kultur dem Wettbewerb\, Spielregeln oder sogar Raufen und Kämpfen! Und das verunsichert und frustriert Kinder wie Eltern. Original Play zeigt\, wie man diesen Schatz hinüberretten kann und weiter liebevoll und sicher miteinander spielen kann – von kuschelig bis wild und schnell! Erleben Sie das ‚ursprüngliche Spiel‘ mit Ihren Kindern auf der Mattenfläche.\n\nSpielgruppe für Kinder von 0-12 Jahren\, bei Bedarf wird die Gruppe nach Alter und Spielart geteilt.\n\nwöchentlich ab 07.10.2019\, 15:00 bis 16:00 Uhr\, EKIFAZ Stadt Haag\, Termine:\n07.10.2019\, 15 bis 16.00 Uhr\n14.10.2019\, 15 bis 16.00 Uhr\n\n21.10.2019\, 15 bis 16.00 Uhr\n\n28.10.2019\, 15 bis 16.00 Uhr\n\n04.11.2019\, 15 bis 16.00 Uhr\n\n11.11.2019\, 15 bis 16.00 Uhr\n\n18.11.2019\, 15 bis 16.00 Uhr\n\n25.11.2019\, 15 bis 16.00 Uhr\n\n02.12.2019\, 15 bis 16.00 Uhr\n\n09.12.2019\, 15 bis 16.00 Uhr\n\n\n\n\n\n\n\n\n\n\nAnmeldung: klaus@originalplay.at\, mobil: 0660 / 213 58 01
URL:https://www.hiersein.at/op/veranstaltung/stadt-haag-spielgruppe-im-ekifaz-stadt-haag-14-oktober-2019/
LOCATION:EKIFAZ\, Hauptplatz 1\, 3350 Stadt Haag\, Hauptplatz 1\, Stadt Haag\, Niederosterreich\, 3350\, Österreich
CATEGORIES:Spielgruppen,Spielgruppen Niederoesterreich
ATTACH;FMTTYPE=image/jpeg:https://www.hiersein.at/op/wp-content/uploads/2016/03/KlausBeimSpiel-12.jpg
ORGANIZER;CN="Klaus%20Seits%20-%20Verein%20Original%20Play%20%C3%96sterreich":MAILTO:klaus@originalplay.at
END:VEVENT
BEGIN:VEVENT
DTSTART;TZID=Europe/Helsinki:20191017T120000
DTEND;TZID=Europe/Helsinki:20191017T130000
DTSTAMP:20260423T151130
CREATED:20191014T142054Z
LAST-MODIFIED:20191014T142054Z
UID:6126-1571313600-1571317200@www.hiersein.at
SUMMARY:Wien: Mitspielen mit Armin in einer GTNMS\, 1040 Wien\, Donnerstag\, 17.10.2019
DESCRIPTION:12:00 bis 13.00 Uhr\nAnmeldung bei Armin: 0699 12848864\nDie Teilnehmerzahl ist begrenzt\, Anmeldung ist erforderlich. \nWir spielen mit 1 Schulklasse einer GTNMS in 1040 Wien. \nDieses Angebot richtet sich an alle\, die schon zumindest einen Workshop besucht haben und Spielpraxis sammeln wollen. Sie können erfahrene Original Play Apprentices in Schulen\, Kindergärten\, Einrichtungen für Menschen mit Behinderungen und Unterkünfte für Asylwerber*innen begleiten\, um einerseits bei der Arbeit mit Original Play zuzusehen und andererseits in sicherem Rahmen mitzuspielen.
URL:https://www.hiersein.at/op/veranstaltung/wien-mitspielen-mit-armin-in-einer-gtnms-1040-wien-donnerstag-17-10-2019/
LOCATION:Ort wird bei Anmeldung bekanntgegeben
CATEGORIES:Mitspielen,Mitspielen Armin,Mitspielen Wien
ATTACH;FMTTYPE=image/jpeg:https://www.hiersein.at/op/wp-content/uploads/2018/10/Armin_Knauthe_Original-Play_Libanon2017-IMG_6947-1.jpg
ORGANIZER;CN="Armin%20Knauthe%20-%20Verein%20Original%20Play%20%C3%96sterreich":MAILTO:armin@originalplay.at
END:VEVENT
BEGIN:VEVENT
DTSTART;TZID=Europe/Helsinki:20191018T083000
DTEND;TZID=Europe/Helsinki:20191018T113000
DTSTAMP:20260423T151130
CREATED:20190918T083110Z
LAST-MODIFIED:20190918T083931Z
UID:6077-1571387400-1571398200@www.hiersein.at
SUMMARY:Stadt Haag: Mitspielen mit Klaus in der Lebenshilfe Werkstätte Stadt Haag\, Steyrerstraße 57\, 3350 Stadt Haag
DESCRIPTION:Folgende Termine stehen zum Mitspielen zur Verfügung: \n27. September 2019 / 08.30 bis 11.30 Uhr\n18. Oktober 2019 / 08.30 bis 11.30 Uhr\n15. November 2019 / 08.30 bis 11.30 Uhr\n13. Dezbember 2019 / 08.30 bis 11.30 Uhr \nBegrenzte Plätze verfügbar\, Anmeldung erforderlich. Anmeldung bei Klaus unter +43 660 2135801 \nWir spielen mit Klienten der Lebenshilfe Werkstätte Stadt Haag\, Steyrerstraße 57\, 3350 Stadt Haag\, im Gruppen- und im Einzelsetting. \nDieses Angebot richtet sich an alle\, die schon zumindest einen Workshop besucht haben und Spielpraxis sammeln wollen. Sie können erfahrene Original Play Apprentices in Schulen\, Kindergärten\, Einrichtungen für Menschen mit besonderen Bedürfnissen und Unterkünfte für Asylwerber*innen begleiten\, um einerseits bei der Arbeit mit Original Play zuzusehen und andererseits in sicherem Rahmen mitzuspielen.
URL:https://www.hiersein.at/op/veranstaltung/stadt-haag-mitspielen-mit-klaus-in-der-lebenshilfe-werkstaette-stadt-haag-18-oktober-2019/
LOCATION:Lebenshilfe Werkstätte Haag\, Steyrerstraße 57\, 3350 Stadt Haag\, Steyrerstraße 57\, Stadt Haag\, Niederösterreich\, 3350\, Österreich
CATEGORIES:Mitspielen,Mitspielen Klaus,Mitspielen Niederösterreich
ATTACH;FMTTYPE=image/jpeg:https://www.hiersein.at/op/wp-content/uploads/2016/03/KlausBeimSpiel-05.jpg
ORGANIZER;CN="Klaus%20Seits%20-%20Verein%20Original%20Play%20%C3%96sterreich":MAILTO:klaus@originalplay.at
END:VEVENT
BEGIN:VEVENT
DTSTART;TZID=Europe/Helsinki:20191018T085000
DTEND;TZID=Europe/Helsinki:20191018T113000
DTSTAMP:20260423T151130
CREATED:20191014T140500Z
LAST-MODIFIED:20191014T140755Z
UID:6122-1571388600-1571398200@www.hiersein.at
SUMMARY:Wien: Mitspielen mit Armin im Kindergarten Hütteldorferstraße\, Freitag\, 18.10.2019
DESCRIPTION:08.50 bis 11.30 Uhr \nAnmeldung bei Armin: 0699 12848864\nDie Teilnehmerzahl ist begrenzt\, Anmeldung ist erforderlich.\n \nWir spielen Freitag vormittags mit 1 Krippe (bis 2 Jahre)\, 1 Familiengruppe und 2 Kindergartengruppen (3-6 Jahre). \nDieses Angebot richtet sich an alle\, die schon mindestens einen Workshop besucht haben und Spielpraxis sammeln wollen. Sie können erfahrene Original Play Apprentices in Schulen\, Kindergärten\, Einrichtungen für Menschen mit Behinderungen und Unterkünfte für Asylwerber*innen begleiten\, um einerseits bei der Arbeit mit Original Play zuzusehen und andererseits in sicherem Rahmen mitzuspielen.
URL:https://www.hiersein.at/op/veranstaltung/wien-mitspielen-mit-armin-im-kindergarten-huetteldorferstrasse-freitag-18-10-2019/
LOCATION:Ort wird bei Anmeldung bekanntgegeben
CATEGORIES:Mitspielen,Mitspielen Armin,Mitspielen Wien
ATTACH;FMTTYPE=image/jpeg:https://www.hiersein.at/op/wp-content/uploads/2017/11/Original_Play_Armin-Wien_19.jpg
ORGANIZER;CN="Armin%20Knauthe%20-%20Verein%20Original%20Play%20%C3%96sterreich":MAILTO:armin@originalplay.at
END:VEVENT
BEGIN:VEVENT
DTSTART;TZID=Europe/Helsinki:20191021T090000
DTEND;TZID=Europe/Helsinki:20191021T120000
DTSTAMP:20260423T151130
CREATED:20190617T125658Z
LAST-MODIFIED:20191014T140357Z
UID:5727-1571648400-1571659200@www.hiersein.at
SUMMARY:Wien: Mitspielen mit Armin im Kindergarten Forsthausgasse\, Montag\, 21.10.2019
DESCRIPTION:09:00 bis 12.00 Uhr\nAnmeldung bei Armin: 0699 12848864\nDie Teilnehmerzahl ist begrenzt\, Anmeldung ist erforderlich.\n \nWir spielen montags mit 2 Kindergartengruppen (3-6 Jahre) und mit 1 Kinderstube/Krippe (bis 2 Jahre). \nDieses Angebot richtet sich an alle\, die schon mindestens einen Workshop besucht haben und Spielpraxis sammeln wollen. Sie können erfahrene Original Play Apprentices in Schulen\, Kindergärten\, Einrichtungen für Menschen mit Behinderungen und Unterkünfte für Asylwerber*innen begleiten\, um einerseits bei der Arbeit mit Original Play zuzusehen und andererseits in sicherem Rahmen mitzuspielen.
URL:https://www.hiersein.at/op/veranstaltung/wien-mitspielen-mit-armin-im-kindergarten-forsthausgasse-montag-21-10-2019/
LOCATION:Ort wird bei Anmeldung bekanntgegeben
CATEGORIES:Mitspielen,Mitspielen Armin,Mitspielen Wien
ATTACH;FMTTYPE=image/jpeg:https://www.hiersein.at/op/wp-content/uploads/2017/11/Original_Play_Armin-Wien_18.jpg
ORGANIZER;CN="Armin%20Knauthe%20-%20Verein%20Original%20Play%20%C3%96sterreich":MAILTO:armin@originalplay.at
END:VEVENT
BEGIN:VEVENT
DTSTART;TZID=Europe/Helsinki:20191021T150000
DTEND;TZID=Europe/Helsinki:20191021T160000
DTSTAMP:20260423T151130
CREATED:20190918T070410Z
LAST-MODIFIED:20190918T072434Z
UID:6035-1571670000-1571673600@www.hiersein.at
SUMMARY:Stadt Haag: Spielgruppe im EKIFAZ\, Hauptplatz 1\, 3350 Stadt Haag\, wöchentlich ab 7. Oktober 2019
DESCRIPTION:Kosten: 10er-Block á € 60\,- pro Kind\n\n‚Von Herzen spielen‘ ist das\, was wir instinktiv mit Babys und Kleinkindern tun – oder wie junge Hunde miteinander spielen. Aber mit ca. drei Jahren weicht dieses liebevolle Spiel in unserer Kultur dem Wettbewerb\, Spielregeln oder sogar Raufen und Kämpfen! Und das verunsichert und frustriert Kinder wie Eltern. Original Play zeigt\, wie man diesen Schatz hinüberretten kann und weiter liebevoll und sicher miteinander spielen kann – von kuschelig bis wild und schnell! Erleben Sie das ‚ursprüngliche Spiel‘ mit Ihren Kindern auf der Mattenfläche.\n\nSpielgruppe für Kinder von 0-12 Jahren\, bei Bedarf wird die Gruppe nach Alter und Spielart geteilt.\n\nwöchentlich ab 07.10.2019\, 15:00 bis 16:00 Uhr\, EKIFAZ Stadt Haag\, Termine:\n07.10.2019\, 15 bis 16.00 Uhr\n14.10.2019\, 15 bis 16.00 Uhr\n\n21.10.2019\, 15 bis 16.00 Uhr\n\n28.10.2019\, 15 bis 16.00 Uhr\n\n04.11.2019\, 15 bis 16.00 Uhr\n\n11.11.2019\, 15 bis 16.00 Uhr\n\n18.11.2019\, 15 bis 16.00 Uhr\n\n25.11.2019\, 15 bis 16.00 Uhr\n\n02.12.2019\, 15 bis 16.00 Uhr\n\n09.12.2019\, 15 bis 16.00 Uhr\n\n\n\n\n\n\n\n\n\n\nAnmeldung: klaus@originalplay.at\, mobil: 0660 / 213 58 01
URL:https://www.hiersein.at/op/veranstaltung/stadt-haag-spielgruppe-im-ekifaz-stadt-haag-21-oktober-2019/
LOCATION:EKIFAZ\, Hauptplatz 1\, 3350 Stadt Haag\, Hauptplatz 1\, Stadt Haag\, Niederosterreich\, 3350\, Österreich
CATEGORIES:Spielgruppen,Spielgruppen Niederoesterreich
ATTACH;FMTTYPE=image/jpeg:https://www.hiersein.at/op/wp-content/uploads/2016/03/KlausBeimSpiel-12.jpg
ORGANIZER;CN="Klaus%20Seits%20-%20Verein%20Original%20Play%20%C3%96sterreich":MAILTO:klaus@originalplay.at
END:VEVENT
BEGIN:VEVENT
DTSTART;TZID=Europe/Helsinki:20191026T093000
DTEND;TZID=Europe/Helsinki:20191026T113000
DTSTAMP:20260423T151130
CREATED:20190918T085703Z
LAST-MODIFIED:20191012T054727Z
UID:6083-1572082200-1572089400@www.hiersein.at
SUMMARY:Wechselnder Ort: Monatliche Spielgruppe für Erwachsene\, ab 26. Oktober 2019
DESCRIPTION:Momentan stehen folgende Termine zum Spielen\, Ausprobieren\, Üben\, Austauschen\, Plaudern und den Moment spüren auf dem Plan\, danach steht jeweils die Möglichkeit zu gemeinsamem Essen offen: \n26. Oktober 2019 / 09.30 bis 11.30 Uhr\, Stadt Haag\, genauer Ort wird je nach Teilnehmerzahl festgelegt und an die angemeldeten Teilnehmer kommuniziert\n30. November 2019 / 09.30 bis 11.30 Uhr\, Ort wird beim vorangegangenen Termin vereinbart\n21. Dezember 2019 / 09.30 bis 11.30 Uhr\, Ort wird beim vorangegangenen Termin vereinbart\n25. Jänner 2020 / 9.30 bis 11.30 Uhr\, Ort wird beim vorangegangenen Termin vereinbart\n29. Feber 2020 / 9.30 bis 11.30 Uhr\, Ort wird beim vorangegangenen Termin vereinbart\n28. März 2020 / 9.30 bis 11.30 Uhr\, Ort wird beim vorangegangenen Termin vereinbart\n25. April 2020 / 9.30 bis 11.30 Uhr\, Ort wird beim vorangegangenen Termin vereinbart\n30. Mai 2020 / 9.30 bis 11.30 Uhr\, Ort wird beim vorangegangenen Termin vereinbart\n27. Juni 2020 / 9.30 bis 11.30 Uhr\, Ort wird beim vorangegangenen Termin vereinbart \nKosten: Kosten können je nach Ort entstehen und werden zu gleichen Teilen unter den Teilnehmern aufgeteilt. \nAnmeldung erforderlich! Anmeldung bei Klaus unter klaus@originalplay.at \nDieses Angebot richtet sich an alle\, die schon zumindest einen Workshop besucht haben\, schon etwas Spielpraxis gesammelt haben oder dabei sind\, das zu tun\, sich mit der Energie des ursprünglichen Spiels rückverbinden oder sich einfach einen Original Play Polster für den Alltag holen wollen. Bei den Terminen werden zumeist ein oder mehrere Original Play Apprentices zugegen sein. Wir freuen uns\, wenn die Gruppe der Spielenden wächst : )
URL:https://www.hiersein.at/op/veranstaltung/spielgruppe-fuer-erwachsene-26-oktober-2019/
LOCATION:Ort wird bei Anmeldung bekanntgegeben
CATEGORIES:Spielgruppen,Spielgruppen Burgenland,Spielgruppen Kärnten,Spielgruppen Niederoesterreich,Spielgruppen Oberösterreich,Spielgruppen Salzburg,Spielgruppen Steiermark,Spielgruppen Tirol,Spielgruppen Vorarlberg,Spielgruppen Wien
ATTACH;FMTTYPE=image/jpeg:https://www.hiersein.at/op/wp-content/uploads/2019/09/DSC_9118.jpg
ORGANIZER;CN="Klaus%20Seits%20-%20Verein%20Original%20Play%20%C3%96sterreich":MAILTO:klaus@originalplay.at
END:VEVENT
END:VCALENDAR