BEGIN:VCALENDAR
VERSION:2.0
PRODID:-//Original Play Österreich - ECPv6.0.8//NONSGML v1.0//EN
CALSCALE:GREGORIAN
METHOD:PUBLISH
X-WR-CALNAME:Original Play Österreich
X-ORIGINAL-URL:https://www.hiersein.at/op
X-WR-CALDESC:Veranstaltungen für Original Play Österreich
REFRESH-INTERVAL;VALUE=DURATION:PT1H
X-Robots-Tag:noindex
X-PUBLISHED-TTL:PT1H
BEGIN:VTIMEZONE
TZID:Europe/Helsinki
BEGIN:DAYLIGHT
TZOFFSETFROM:+0200
TZOFFSETTO:+0300
TZNAME:EEST
DTSTART:20180325T010000
END:DAYLIGHT
BEGIN:STANDARD
TZOFFSETFROM:+0300
TZOFFSETTO:+0200
TZNAME:EET
DTSTART:20181028T010000
END:STANDARD
END:VTIMEZONE
BEGIN:VEVENT
DTSTART;TZID=Europe/Helsinki:20180604T103000
DTEND;TZID=Europe/Helsinki:20180604T113000
DTSTAMP:20260423T153546
CREATED:20180506T191252Z
LAST-MODIFIED:20180506T191252Z
UID:4429-1528108200-1528111800@www.hiersein.at
SUMMARY:Pettenbach: Mitspielen mit Klaus in der Schule an der Alm
DESCRIPTION:Mo\, 4. Juni 2018 / 10.30 bis 11.30 Uhr \nBegrenzte Plätze verfügbar\, Anmeldung erforderlich. Anmeldung bei Klaus unter +43 660 2135801 \nWir spielen mit 1 Klasse in der Schule an der Alm. \nDieses Angebot richtet sich an alle\, die schon zumindest einen Workshop besucht haben und Spielpraxis sammeln wollen. Sie können erfahrene Original Play Apprentices in Schulen\, Kindergärten\, Einrichtungen für Menschen mit Behinderungen und Unterkünfte für Asylwerber*innen begleiten\, um einerseits bei der Arbeit mit Original Play zuzusehen und andererseits in sicherem Rahmen mitzuspielen.
URL:https://www.hiersein.at/op/veranstaltung/pettenbach-mitspielen-mit-klaus-in-der-schule-an-der-alm-2/
LOCATION:Ort wird bei Anmeldung bekanntgegeben
CATEGORIES:Mitspielen,Mitspielen Klaus,Mitspielen Oberösterreich
ORGANIZER;CN="Klaus%20Seits%20-%20Verein%20Original%20Play%20%C3%96sterreich":MAILTO:klaus@originalplay.at
END:VEVENT
BEGIN:VEVENT
DTSTART;TZID=Europe/Helsinki:20180607T080000
DTEND;TZID=Europe/Helsinki:20180607T114500
DTSTAMP:20260423T153546
CREATED:20180506T192010Z
LAST-MODIFIED:20180506T192010Z
UID:4433-1528358400-1528371900@www.hiersein.at
SUMMARY:Kirchdorf an der Krems: Mitspielen mit Klaus in der VS 2 Kirchdorf an der Krems
DESCRIPTION:Do\, 7. Juni 2018 / 8.00 bis 11.45 Uhr \nBegrenzte Plätze verfügbar\, Anmeldung erforderlich. Anmeldung bei Klaus unter +43 660 2135801 \nWir spielen mit 6 Schulklassen in der Volksschule 2 in Kirchdorf an der Krems. \nDieses Angebot richtet sich an alle\, die schon zumindest einen Workshop besucht haben und Spielpraxis sammeln wollen. Sie können erfahrene Original Play Apprentices in Schulen\, Kindergärten\, Einrichtungen für Menschen mit Behinderungen und Unterkünfte für Asylwerber*innen begleiten\, um einerseits bei der Arbeit mit Original Play zuzusehen und andererseits in sicherem Rahmen mitzuspielen.
URL:https://www.hiersein.at/op/veranstaltung/kirchdorf-an-der-krems-mitspielen-mit-klaus-in-der-vs-2-kirchdorf-an-der-krems/
LOCATION:Ort wird bei Anmeldung bekanntgegeben
CATEGORIES:Mitspielen,Mitspielen Klaus,Mitspielen Oberösterreich
ORGANIZER;CN="Klaus%20Seits%20-%20Verein%20Original%20Play%20%C3%96sterreich":MAILTO:klaus@originalplay.at
END:VEVENT
BEGIN:VEVENT
DTSTART;TZID=Europe/Helsinki:20180614T091500
DTEND;TZID=Europe/Helsinki:20180614T110000
DTSTAMP:20260423T153546
CREATED:20180506T192246Z
LAST-MODIFIED:20180506T192246Z
UID:4435-1528967700-1528974000@www.hiersein.at
SUMMARY:Linz: Mitspielen mit Klaus in der VS 52 Solarcity Linz
DESCRIPTION:Do\, 14. Juni 2018 / 9.15 bis 11.00 Uhr \nBegrenzte Plätze verfügbar\, Anmeldung erforderlich. Anmeldung bei Klaus unter +43 660 2135801 \nWir spielen mit 3 Klassen der VS 52 Solarcity Linz. \nDieses Angebot richtet sich an alle\, die schon zumindest einen Workshop besucht haben und Spielpraxis sammeln wollen. Sie können erfahrene Original Play Apprentices in Schulen\, Kindergärten\, Einrichtungen für Menschen mit Behinderungen und Unterkünfte für Asylwerber*innen begleiten\, um einerseits bei der Arbeit mit Original Play zuzusehen und andererseits in sicherem Rahmen mitzuspielen.
URL:https://www.hiersein.at/op/veranstaltung/linz-mitspielen-mit-klaus-in-der-vs-52-solarcity-linz-2/
LOCATION:Ort wird bei Anmeldung bekanntgegeben
CATEGORIES:Mitspielen,Mitspielen Klaus,Mitspielen Oberösterreich
ATTACH;FMTTYPE=image/jpeg:https://www.hiersein.at/op/wp-content/uploads/2016/03/KlausBeimSpiel-12.jpg
ORGANIZER;CN="Klaus%20Seits%20-%20Verein%20Original%20Play%20%C3%96sterreich":MAILTO:klaus@originalplay.at
END:VEVENT
BEGIN:VEVENT
DTSTART;TZID=Europe/Helsinki:20180615T103000
DTEND;TZID=Europe/Helsinki:20180615T113000
DTSTAMP:20260423T153546
CREATED:20180506T192518Z
LAST-MODIFIED:20180506T192518Z
UID:4437-1529058600-1529062200@www.hiersein.at
SUMMARY:Pettenbach: Mitspielen mit Klaus in der Schule an der Alm
DESCRIPTION:Fr\, 15. Juni 2018 / 10.30 bis 11.30 Uhr \nBegrenzte Plätze verfügbar\, Anmeldung erforderlich. Anmeldung bei Klaus unter +43 660 2135801 \nWir spielen mit 1 Klasse in der Schule an der Alm. \nDieses Angebot richtet sich an alle\, die schon zumindest einen Workshop besucht haben und Spielpraxis sammeln wollen. Sie können erfahrene Original Play Apprentices in Schulen\, Kindergärten\, Einrichtungen für Menschen mit Behinderungen und Unterkünfte für Asylwerber*innen begleiten\, um einerseits bei der Arbeit mit Original Play zuzusehen und andererseits in sicherem Rahmen mitzuspielen.
URL:https://www.hiersein.at/op/veranstaltung/pettenbach-mitspielen-mit-klaus-in-der-schule-an-der-alm-3/
LOCATION:Ort wird bei Anmeldung bekanntgegeben
CATEGORIES:Mitspielen,Mitspielen Klaus,Mitspielen Oberösterreich
ATTACH;FMTTYPE=image/jpeg:https://www.hiersein.at/op/wp-content/uploads/2016/03/KlausBeimSpiel-12.jpg
ORGANIZER;CN="Klaus%20Seits%20-%20Verein%20Original%20Play%20%C3%96sterreich":MAILTO:klaus@originalplay.at
END:VEVENT
END:VCALENDAR