BEGIN:VCALENDAR
VERSION:2.0
PRODID:-//Original Play Österreich - ECPv6.0.8//NONSGML v1.0//EN
CALSCALE:GREGORIAN
METHOD:PUBLISH
X-WR-CALNAME:Original Play Österreich
X-ORIGINAL-URL:https://www.hiersein.at/op
X-WR-CALDESC:Veranstaltungen für Original Play Österreich
REFRESH-INTERVAL;VALUE=DURATION:PT1H
X-Robots-Tag:noindex
X-PUBLISHED-TTL:PT1H
BEGIN:VTIMEZONE
TZID:Europe/Helsinki
BEGIN:DAYLIGHT
TZOFFSETFROM:+0200
TZOFFSETTO:+0300
TZNAME:EEST
DTSTART:20170326T010000
END:DAYLIGHT
BEGIN:STANDARD
TZOFFSETFROM:+0300
TZOFFSETTO:+0200
TZNAME:EET
DTSTART:20171029T010000
END:STANDARD
END:VTIMEZONE
BEGIN:VEVENT
DTSTART;TZID=Europe/Helsinki:20171205T075000
DTEND;TZID=Europe/Helsinki:20171205T122000
DTSTAMP:20260424T000556
CREATED:20171030T225323Z
LAST-MODIFIED:20171030T225323Z
UID:3787-1512460200-1512476400@www.hiersein.at
SUMMARY:Wien: Mitspielen mit Armin in einer Volksschule im 15. Bezirk\, Dienstag\, 5.12.2017
DESCRIPTION:07:50 bis 12.20 Uhr\nAnmeldung bei Armin: 0699 12848864\nDie Teilnehmerzahl ist begrenzt\, Anmeldung ist erforderlich. \nWir spielen mit 4-5 Schulklassen der Volksschule in der Goldschlagstrasse. \nDieses Angebot richtet sich an alle\, die schon zumindest einen Workshop besucht haben und Spielpraxis sammeln wollen. Sie können erfahrene Original Play Apprentices in Schulen\, Kindergärten\, Einrichtungen für Menschen mit Behinderungen und Unterkünfte für Asylwerber*innen begleiten\, um einerseits bei der Arbeit mit Original Play zuzusehen und andererseits in sicherem Rahmen mitzuspielen.
URL:https://www.hiersein.at/op/veranstaltung/wien-mitspielen-mit-armin-in-einer-volksschule-im-15-bezirk-dienstag-5-12-2017/
LOCATION:Ort wird bei Anmeldung bekanntgegeben
CATEGORIES:Mitspielen,Mitspielen Armin,Mitspielen Wien
ATTACH;FMTTYPE=image/jpeg:https://www.hiersein.at/op/wp-content/uploads/2017/10/MG_0695-1.jpg
ORGANIZER;CN="Armin%20Knauthe%20-%20Verein%20Original%20Play%20%C3%96sterreich":MAILTO:armin@originalplay.at
END:VEVENT
BEGIN:VEVENT
DTSTART;TZID=Europe/Helsinki:20171212T075000
DTEND;TZID=Europe/Helsinki:20171212T122000
DTSTAMP:20260424T000556
CREATED:20171030T225414Z
LAST-MODIFIED:20171030T225414Z
UID:3788-1513065000-1513081200@www.hiersein.at
SUMMARY:Wien: Mitspielen mit Armin in einer Volksschule im 15. Bezirk\, Dienstag\, 12.12.2017
DESCRIPTION:07:50 bis 12.20 Uhr\nAnmeldung bei Armin: 0699 12848864\nDie Teilnehmerzahl ist begrenzt\, Anmeldung ist erforderlich. \nWir spielen mit 4-5 Schulklassen der Volksschule in der Goldschlagstrasse. \nDieses Angebot richtet sich an alle\, die schon zumindest einen Workshop besucht haben und Spielpraxis sammeln wollen. Sie können erfahrene Original Play Apprentices in Schulen\, Kindergärten\, Einrichtungen für Menschen mit Behinderungen und Unterkünfte für Asylwerber*innen begleiten\, um einerseits bei der Arbeit mit Original Play zuzusehen und andererseits in sicherem Rahmen mitzuspielen.
URL:https://www.hiersein.at/op/veranstaltung/wien-mitspielen-mit-armin-in-einer-volksschule-im-15-bezirk-dienstag-12-12-2017/
LOCATION:Ort wird bei Anmeldung bekanntgegeben
CATEGORIES:Mitspielen,Mitspielen Armin,Mitspielen Wien
ATTACH;FMTTYPE=image/jpeg:https://www.hiersein.at/op/wp-content/uploads/2017/10/MG_0699-1.jpg
ORGANIZER;CN="Armin%20Knauthe%20-%20Verein%20Original%20Play%20%C3%96sterreich":MAILTO:armin@originalplay.at
END:VEVENT
BEGIN:VEVENT
DTSTART;TZID=Europe/Helsinki:20171214T085000
DTEND;TZID=Europe/Helsinki:20171214T110000
DTSTAMP:20260424T000556
CREATED:20171030T200708Z
LAST-MODIFIED:20171030T200708Z
UID:3754-1513241400-1513249200@www.hiersein.at
SUMMARY:Tulln: Mitspielen mit Armin in der Allgemeinen Sonderschule\, Donnerstag\, 14.12.2017
DESCRIPTION:08:50 bis 11.00 Uhr\nAnmeldung bei Armin: 0699 12848864\nDie Teilnehmerzahl ist begrenzt\, Anmeldung ist erforderlich. \nWir spielen Donnerstag vormittags in der Allgemeinen Sonderschule Tulln. Das Spiel-Setting kann sehr unterschiedlich stattfinden – ein hohes Maß an Flexibilität\, Kreativität und Einfühlungsvermögen sind erforderlich. \nDieses Angebot richtet sich an alle\, die schon zumindest einen Workshop besucht haben und Spielpraxis sammeln wollen. Sie können erfahrene Original Play Apprentices in Schulen\, Kindergärten\, Einrichtungen für Menschen mit Behinderungen und Unterkünfte für Asylwerber*innen begleiten\, um einerseits bei der Arbeit mit Original Play zuzusehen und andererseits in sicherem Rahmen mitzuspielen.
URL:https://www.hiersein.at/op/veranstaltung/tulln-mitspielen-mit-armin-in-der-allgemeinen-sonderschule-donnerstag-14-12-2017/
LOCATION:Allgemeine Sonderschule Tulln\, Wienerstraße 23\, Tulln\, Niederösterreich\, 3430\, Österreich
CATEGORIES:Mitspielen,Mitspielen Armin,Mitspielen Niederösterreich
ATTACH;FMTTYPE=image/jpeg:https://www.hiersein.at/op/wp-content/uploads/2017/10/IMG_4021.jpg
ORGANIZER;CN="Armin%20Knauthe%20-%20Verein%20Original%20Play%20%C3%96sterreich":MAILTO:armin@originalplay.at
END:VEVENT
BEGIN:VEVENT
DTSTART;TZID=Europe/Helsinki:20171219T075000
DTEND;TZID=Europe/Helsinki:20171219T122000
DTSTAMP:20260424T000556
CREATED:20171030T225500Z
LAST-MODIFIED:20171030T225500Z
UID:3789-1513669800-1513686000@www.hiersein.at
SUMMARY:Wien: Mitspielen mit Armin in einer Volksschule im 15. Bezirk\, Dienstag\, 19.12.2017
DESCRIPTION:07:50 bis 12.20 Uhr\nAnmeldung bei Armin: 0699 12848864\nDie Teilnehmerzahl ist begrenzt\, Anmeldung ist erforderlich. \nWir spielen mit 4-5 Schulklassen der Volksschule in der Goldschlagstrasse. \nDieses Angebot richtet sich an alle\, die schon zumindest einen Workshop besucht haben und Spielpraxis sammeln wollen. Sie können erfahrene Original Play Apprentices in Schulen\, Kindergärten\, Einrichtungen für Menschen mit Behinderungen und Unterkünfte für Asylwerber*innen begleiten\, um einerseits bei der Arbeit mit Original Play zuzusehen und andererseits in sicherem Rahmen mitzuspielen.
URL:https://www.hiersein.at/op/veranstaltung/wien-mitspielen-mit-armin-in-einer-volksschule-im-15-bezirk-dienstag-19-12-2017/
LOCATION:Ort wird bei Anmeldung bekanntgegeben
CATEGORIES:Mitspielen,Mitspielen Armin,Mitspielen Wien
ATTACH;FMTTYPE=image/jpeg:https://www.hiersein.at/op/wp-content/uploads/2017/10/DSC_1571-1-1.jpg
ORGANIZER;CN="Armin%20Knauthe%20-%20Verein%20Original%20Play%20%C3%96sterreich":MAILTO:armin@originalplay.at
END:VEVENT
END:VCALENDAR