BEGIN:VCALENDAR
VERSION:2.0
PRODID:-//Original Play Österreich - ECPv6.0.8//NONSGML v1.0//EN
CALSCALE:GREGORIAN
METHOD:PUBLISH
X-WR-CALNAME:Original Play Österreich
X-ORIGINAL-URL:https://www.hiersein.at/op
X-WR-CALDESC:Veranstaltungen für Original Play Österreich
REFRESH-INTERVAL;VALUE=DURATION:PT1H
X-Robots-Tag:noindex
X-PUBLISHED-TTL:PT1H
BEGIN:VTIMEZONE
TZID:Europe/Helsinki
BEGIN:DAYLIGHT
TZOFFSETFROM:+0200
TZOFFSETTO:+0300
TZNAME:EEST
DTSTART:20190331T010000
END:DAYLIGHT
BEGIN:STANDARD
TZOFFSETFROM:+0300
TZOFFSETTO:+0200
TZNAME:EET
DTSTART:20191027T010000
END:STANDARD
END:VTIMEZONE
BEGIN:VEVENT
DTSTART;TZID=Europe/Helsinki:20191123T093000
DTEND;TZID=Europe/Helsinki:20191123T113000
DTSTAMP:20260420T190806
CREATED:20190918T104144Z
LAST-MODIFIED:20191029T125932Z
UID:6098-1574501400-1574508600@www.hiersein.at
SUMMARY:Wechselnder Ort: Monatliche Spielgruppe für Erwachsene\, 23. November 2019
DESCRIPTION:Momentan stehen folgende Termine zum Spielen\, Ausprobieren\, Üben\, Austauschen\, Plaudern und den Moment spüren auf dem Plan\, danach steht jeweils die Möglichkeit zu gemeinsamem Essen offen: \n26. Oktober 2019 / 09.30 bis 11.30 Uhr\, Stadt Haag\, genauer Ort wird je nach Teilnehmerzahl festgelegt und an die angemeldeten Teilnehmer kommuniziert\n23. November 2019 / 09.30 bis 11.30 Uhr\, Ort wird beim vorangegangenen Termin vereinbart\n21. Dezember 2019 / 09.30 bis 11.30 Uhr\, Ort wird beim vorangegangenen Termin vereinbart\n25. Jänner 2020 / 9.30 bis 11.30 Uhr\, Ort wird beim vorangegangenen Termin vereinbart\n29. Feber 2020 / 9.30 bis 11.30 Uhr\, Ort wird beim vorangegangenen Termin vereinbart\n28. März 2020 / 9.30 bis 11.30 Uhr\, Ort wird beim vorangegangenen Termin vereinbart\n25. April 2020 / 9.30 bis 11.30 Uhr\, Ort wird beim vorangegangenen Termin vereinbart\n30. Mai 2020 / 9.30 bis 11.30 Uhr\, Ort wird beim vorangegangenen Termin vereinbart\n27. Juni 2020 / 9.30 bis 11.30 Uhr\, Ort wird beim vorangegangenen Termin vereinbart \nKosten: Kosten können je nach Ort entstehen und werden zu gleichen Teilen unter den Teilnehmern aufgeteilt. \nAnmeldung erforderlich! Anmeldung bei Klaus unter klaus@originalplay.at \nDieses Angebot richtet sich an alle\, die schon zumindest einen Workshop besucht haben\, schon etwas Spielpraxis gesammelt haben oder dabei sind\, das zu tun\, sich mit der Energie des ursprünglichen Spiels rückverbinden oder sich einfach einen Original Play Polster für den Alltag holen wollen. Bei den Terminen werden zumeist ein oder mehrere Original Play Apprentices zugegen sein. Wir freuen uns\, wenn die Gruppe der Spielenden wächst : )
URL:https://www.hiersein.at/op/veranstaltung/spielgruppe-fuer-erwachsene-23-november-2019/
LOCATION:Ort wird bei Anmeldung bekanntgegeben
CATEGORIES:Spielgruppen,Spielgruppen Burgenland,Spielgruppen Kärnten,Spielgruppen Niederoesterreich,Spielgruppen Oberösterreich,Spielgruppen Salzburg,Spielgruppen Steiermark,Spielgruppen Tirol,Spielgruppen Vorarlberg,Spielgruppen Wien
ATTACH;FMTTYPE=image/jpeg:https://www.hiersein.at/op/wp-content/uploads/2016/03/OP_Jola2.jpg
ORGANIZER;CN="Klaus%20Seits%20-%20Verein%20Original%20Play%20%C3%96sterreich":MAILTO:klaus@originalplay.at
END:VEVENT
BEGIN:VEVENT
DTSTART;TZID=Europe/Helsinki:20191130T100000
DTEND;TZID=Europe/Helsinki:20191201T173000
DTSTAMP:20260420T190806
CREATED:20190918T055946Z
LAST-MODIFIED:20191101T070305Z
UID:6021-1575108000-1575221400@www.hiersein.at
SUMMARY:Stadt Haag: Einführungsworkshop 30. November und 1. Dezember 2019
DESCRIPTION:Kosten: € 230\,- \nFred Donaldson wird diesen Einführungsworkshop leiten. Beim Workshop erzählt Fred Donaldson von seinen Erlebnissen im Spiel mit Kindern\, mit Menschen in besonderen Lebenssituationen und mit frei lebenden Tieren. Einfache Körperübungen lassen jeden/jede Teilnehmer*in den Unterschied von Spiel und Wettbewerb spüren. Sie lernen die Vision und Praxis von Original Play kennen\, wie sie von kleinen Kindern und frei lebenden Tieren gelehrt werden. Der Workshop ermutigt uns Erwachsene\, uns dem Original Play zu öffnen\, indem wir alle Kategorien beiseite lassen und uns in bedingungsloser Liebe und aufrichtiger Klarheit dem Spiel der Kinder zugänglich machen. Die Teilnehmer*innen lernen\, wie sie andere Mitspielende und sich selbst beim Original Play sicher halten und bekommen die Gelegenheit\, mit einander\, mit Fred Donaldson und mit Apprentices (erfahrene Spielleiter*innen) Original Play zu spielen. So können die Workshopteilnehmer*innen ihre ureigene Spielenergie wieder entdecken und werden darauf vorbereitet\, freudvoll und sicher mit Kindern und Jugendlichen Original Play zu spielen. Aus eigener Erfahrung können wir sagen: auch für schon Geübte immer wieder eine Bereicherung! \nDer Workshop findet in englischer Sprache mit deutscher Übersetzung statt. \n30.11.2019 / 10 bis 17.30 Uhr\n01.12.2019 / 10 bis 17.30 Uhr \nAnmeldung: klaus@originalplay.at\, mobil: 0660 / 213 58 01 \nMitglieder erhalten 10 % Ermäßigung – Mitglied werden \nEinführungsworkshops richten sich an: \nEltern\, Lehrer*innen\, Kindergartenpädagog*innen\, Sozialpädagog*innen\, Sonder- und Heilpädagog*innen\, Tagesmütter und -väter\, Therapeut*innen\, Mitarbeiter*innen im Sozial- und Gesundheitsbereich und in Einrichtungen für Kinder und Jugendliche mit Behinderungen. \nWorkshopteilnehmer*innen lernen \n• wie sie Vertrauen\, Sicherheit und das Gefühl der Zugehörigkeit in Beziehungen erreichen können\n• wie sie mit Überraschungs- und Veränderungsmomenten umgehen können\n• welche Rolle Spiel und Berührung im Leben einnehmen\n• dass das Spiel ein starkes Fundament für Lernen und Entwicklung bei Kindern legt\n• wie Erwachsene mit Kindern spielen können\n• wie sie mit Konflikten und Rivalität im privaten und beruflichen Leben umgehen können\n• wie sie mit Stress und Angst umgehen können\n• wie sich Verhaltensmuster von Aggression\, Ärger und Gewalt in Freundlichkeit\, Fürsorge und Offenheit verändern lassen\n• wie sich emotionale Flexibilität und Selbstachtung verbessern lassen\n• wie nonverbale zwischenmenschliche Fähigkeiten entwickelt werden können\n• ihr Körpergefühl zu sensibilisieren\n• das Gefühl der Verbundenheit als beste Alternative zu Angst und Wettbewerb kennen\n• Fertigkeiten\, um für sich selbst und die SpielgefährtInnen Sicherheit zu gewährleisten
URL:https://www.hiersein.at/op/veranstaltung/stadt-haag-einfuehrungsworkshop-30-november-und-01-dezember-2019/
CATEGORIES:Einführungsworkshop,Fred Donaldson
ATTACH;FMTTYPE=image/jpeg:https://www.hiersein.at/op/wp-content/uploads/2016/03/MitFredInSalzburg-02.jpg
ORGANIZER;CN="Klaus%20Seits%20-%20Verein%20Original%20Play%20%C3%96sterreich":MAILTO:klaus@originalplay.at
END:VEVENT
END:VCALENDAR