BEGIN:VCALENDAR
VERSION:2.0
PRODID:-//Original Play Österreich - ECPv6.0.8//NONSGML v1.0//EN
CALSCALE:GREGORIAN
METHOD:PUBLISH
X-WR-CALNAME:Original Play Österreich
X-ORIGINAL-URL:https://www.hiersein.at/op
X-WR-CALDESC:Veranstaltungen für Original Play Österreich
REFRESH-INTERVAL;VALUE=DURATION:PT1H
X-Robots-Tag:noindex
X-PUBLISHED-TTL:PT1H
BEGIN:VTIMEZONE
TZID:Europe/Helsinki
BEGIN:DAYLIGHT
TZOFFSETFROM:+0200
TZOFFSETTO:+0300
TZNAME:EEST
DTSTART:20190331T010000
END:DAYLIGHT
BEGIN:STANDARD
TZOFFSETFROM:+0300
TZOFFSETTO:+0200
TZNAME:EET
DTSTART:20191027T010000
END:STANDARD
END:VTIMEZONE
BEGIN:VEVENT
DTSTART;TZID=Europe/Helsinki:20190927T083000
DTEND;TZID=Europe/Helsinki:20190927T113000
DTSTAMP:20260420T221158
CREATED:20190918T081455Z
LAST-MODIFIED:20190918T084042Z
UID:6074-1569573000-1569583800@www.hiersein.at
SUMMARY:Stadt Haag: Mitspielen mit Klaus in der Lebenshilfe Werkstätte Stadt Haag\, Steyrerstraße 57\, 3350 Stadt Haag
DESCRIPTION:Folgende Termine stehen zum Mitspielen zur Verfügung: \n27. September 2019 / 08.30 bis 11.30 Uhr\n18. Oktober 2019 / 08.30 bis 11.30 Uhr\n15. November 2019 / 08.30 bis 11.30 Uhr\n13. Dezbember 2019 / 08.30 bis 11.30 Uhr \nBegrenzte Plätze verfügbar\, Anmeldung erforderlich. Anmeldung bei Klaus unter +43 660 2135801 \nWir spielen mit Klienten der Lebenshilfe Werkstätte Stadt Haag\, Steyrerstraße 57\, 3350 Stadt Haag\, im Gruppen- und im Einzelsetting. \nDieses Angebot richtet sich an alle\, die schon zumindest einen Workshop besucht haben und Spielpraxis sammeln wollen. Sie können erfahrene Original Play Apprentices in Schulen\, Kindergärten\, Einrichtungen für Menschen mit besonderen Bedürfnissen und Unterkünfte für Asylwerber*innen begleiten\, um einerseits bei der Arbeit mit Original Play zuzusehen und andererseits in sicherem Rahmen mitzuspielen.
URL:https://www.hiersein.at/op/veranstaltung/stadt-haag-mitspielen-mit-klaus-in-der-lebenshilfe-werkstaette-stadt-haag-27-september-2019/
LOCATION:Lebenshilfe Werkstätte Haag\, Steyrerstraße 57\, 3350 Stadt Haag\, Steyrerstraße 57\, Stadt Haag\, Niederösterreich\, 3350\, Österreich
CATEGORIES:Mitspielen,Mitspielen Klaus,Mitspielen Niederösterreich
ATTACH;FMTTYPE=image/jpeg:https://www.hiersein.at/op/wp-content/uploads/2016/03/KlausBeimSpiel-05.jpg
ORGANIZER;CN="Klaus%20Seits%20-%20Verein%20Original%20Play%20%C3%96sterreich":MAILTO:klaus@originalplay.at
END:VEVENT
END:VCALENDAR