BEGIN:VCALENDAR
VERSION:2.0
PRODID:-//Original Play Österreich - ECPv6.0.8//NONSGML v1.0//EN
CALSCALE:GREGORIAN
METHOD:PUBLISH
X-ORIGINAL-URL:https://www.hiersein.at/op
X-WR-CALDESC:Veranstaltungen für Original Play Österreich
REFRESH-INTERVAL;VALUE=DURATION:PT1H
X-Robots-Tag:noindex
X-PUBLISHED-TTL:PT1H
BEGIN:VTIMEZONE
TZID:Europe/Helsinki
BEGIN:DAYLIGHT
TZOFFSETFROM:+0200
TZOFFSETTO:+0300
TZNAME:EEST
DTSTART:20200329T010000
END:DAYLIGHT
BEGIN:STANDARD
TZOFFSETFROM:+0300
TZOFFSETTO:+0200
TZNAME:EET
DTSTART:20201025T010000
END:STANDARD
END:VTIMEZONE
BEGIN:VEVENT
DTSTART;TZID=Europe/Helsinki:20200314T093000
DTEND;TZID=Europe/Helsinki:20200314T113000
DTSTAMP:20260420T163151
CREATED:20200205T091103Z
LAST-MODIFIED:20200205T091401Z
UID:6270-1584178200-1584185400@www.hiersein.at
SUMMARY:Wechselnder Ort: Monatliche Spielgruppe für Erwachsene\, 14. März 2020
DESCRIPTION:Momentan stehen folgende Termine zum Spielen\, Ausprobieren\, Üben\, Austauschen\, Plaudern und uns selber und den Moment spüren auf dem Plan\, danach steht jeweils die Möglichkeit zu gemeinsamem Essen offen\, Veranstaltungsorte können variieren\, wenn du zu dir einladen magst\, bitte gern\, melde dich unter u.a. Kontaktdaten. Dauer ist mindestens 2 Stunden\, je nach Energie auch länger: \n22. Feber 2020 / 09.30 bis 11.30 Uhr\, Stadt Haag\, genauer Ort wird je nach Teilnehmerzahl festgelegt und an die angemeldeten Teilnehmer kommuniziert\n14. März 2020 / 09.30 bis 11.30 Uhr\, Ort wird beim vorangegangenen Termin vereinbart\n25. April 2020 / 09.30 bis 11.30 Uhr\, Ort wird beim vorangegangenen Termin vereinbart\n16. Mai 2020 / 9.30 bis 11.30 Uhr\, Ort wird beim vorangegangenen Termin vereinbart\n13. Juni 2020 / 9.30 bis 11.30 Uhr\, Ort wird beim vorangegangenen Termin vereinbart \nKosten: Kosten können je nach Ort entstehen und werden zu gleichen Teilen unter den Teilnehmern aufgeteilt. \nAnmeldung erforderlich! Anmeldung bei Klaus unter klaus@originalplay.at \nDieses Angebot richtet sich an alle\, die schon zumindest einen Workshop besucht haben\, schon etwas Spielpraxis gesammelt haben oder dabei sind\, das zu tun\, sich mit der Energie des ursprünglichen Spiels rückverbinden oder sich einfach einen Original Play Polster für den Alltag holen wollen. Bei den Terminen werden zumeist ein oder mehrere Original Play Apprentices zugegen sein. Wir freuen uns\, wenn die Gruppe der Spielenden wächst : )
URL:https://www.hiersein.at/op/veranstaltung/spielgruppe-fuer-erwachsene-14-maerz-2020/
LOCATION:Ort wird bei Anmeldung bekanntgegeben
CATEGORIES:Spielgruppen,Spielgruppen Burgenland,Spielgruppen Kärnten,Spielgruppen Niederoesterreich,Spielgruppen Oberösterreich,Spielgruppen Salzburg,Spielgruppen Steiermark,Spielgruppen Tirol,Spielgruppen Vorarlberg,Spielgruppen Wien
ATTACH;FMTTYPE=image/jpeg:https://www.hiersein.at/op/wp-content/uploads/2019/09/DSC_9118.jpg
ORGANIZER;CN="Klaus%20Seits%20-%20Verein%20Original%20Play%20%C3%96sterreich":MAILTO:klaus@originalplay.at
END:VEVENT
END:VCALENDAR