BEGIN:VCALENDAR
VERSION:2.0
PRODID:-//Original Play Österreich - ECPv6.0.8//NONSGML v1.0//EN
CALSCALE:GREGORIAN
METHOD:PUBLISH
X-ORIGINAL-URL:https://www.hiersein.at/op
X-WR-CALDESC:Veranstaltungen für Original Play Österreich
REFRESH-INTERVAL;VALUE=DURATION:PT1H
X-Robots-Tag:noindex
X-PUBLISHED-TTL:PT1H
BEGIN:VTIMEZONE
TZID:Europe/Helsinki
BEGIN:DAYLIGHT
TZOFFSETFROM:+0200
TZOFFSETTO:+0300
TZNAME:EEST
DTSTART:20190331T010000
END:DAYLIGHT
BEGIN:STANDARD
TZOFFSETFROM:+0300
TZOFFSETTO:+0200
TZNAME:EET
DTSTART:20191027T010000
END:STANDARD
END:VTIMEZONE
BEGIN:VEVENT
DTSTART;TZID=Europe/Helsinki:20191018T083000
DTEND;TZID=Europe/Helsinki:20191018T113000
DTSTAMP:20260421T005017
CREATED:20190918T083110Z
LAST-MODIFIED:20190918T083931Z
UID:6077-1571387400-1571398200@www.hiersein.at
SUMMARY:Stadt Haag: Mitspielen mit Klaus in der Lebenshilfe Werkstätte Stadt Haag\, Steyrerstraße 57\, 3350 Stadt Haag
DESCRIPTION:Folgende Termine stehen zum Mitspielen zur Verfügung: \n27. September 2019 / 08.30 bis 11.30 Uhr\n18. Oktober 2019 / 08.30 bis 11.30 Uhr\n15. November 2019 / 08.30 bis 11.30 Uhr\n13. Dezbember 2019 / 08.30 bis 11.30 Uhr \nBegrenzte Plätze verfügbar\, Anmeldung erforderlich. Anmeldung bei Klaus unter +43 660 2135801 \nWir spielen mit Klienten der Lebenshilfe Werkstätte Stadt Haag\, Steyrerstraße 57\, 3350 Stadt Haag\, im Gruppen- und im Einzelsetting. \nDieses Angebot richtet sich an alle\, die schon zumindest einen Workshop besucht haben und Spielpraxis sammeln wollen. Sie können erfahrene Original Play Apprentices in Schulen\, Kindergärten\, Einrichtungen für Menschen mit besonderen Bedürfnissen und Unterkünfte für Asylwerber*innen begleiten\, um einerseits bei der Arbeit mit Original Play zuzusehen und andererseits in sicherem Rahmen mitzuspielen.
URL:https://www.hiersein.at/op/veranstaltung/stadt-haag-mitspielen-mit-klaus-in-der-lebenshilfe-werkstaette-stadt-haag-18-oktober-2019/
LOCATION:Lebenshilfe Werkstätte Haag\, Steyrerstraße 57\, 3350 Stadt Haag\, Steyrerstraße 57\, Stadt Haag\, Niederösterreich\, 3350\, Österreich
CATEGORIES:Mitspielen,Mitspielen Klaus,Mitspielen Niederösterreich
ATTACH;FMTTYPE=image/jpeg:https://www.hiersein.at/op/wp-content/uploads/2016/03/KlausBeimSpiel-05.jpg
ORGANIZER;CN="Klaus%20Seits%20-%20Verein%20Original%20Play%20%C3%96sterreich":MAILTO:klaus@originalplay.at
END:VEVENT
BEGIN:VEVENT
DTSTART;TZID=Europe/Helsinki:20191026T093000
DTEND;TZID=Europe/Helsinki:20191026T113000
DTSTAMP:20260421T005017
CREATED:20190918T085703Z
LAST-MODIFIED:20191012T054727Z
UID:6083-1572082200-1572089400@www.hiersein.at
SUMMARY:Wechselnder Ort: Monatliche Spielgruppe für Erwachsene\, ab 26. Oktober 2019
DESCRIPTION:Momentan stehen folgende Termine zum Spielen\, Ausprobieren\, Üben\, Austauschen\, Plaudern und den Moment spüren auf dem Plan\, danach steht jeweils die Möglichkeit zu gemeinsamem Essen offen: \n26. Oktober 2019 / 09.30 bis 11.30 Uhr\, Stadt Haag\, genauer Ort wird je nach Teilnehmerzahl festgelegt und an die angemeldeten Teilnehmer kommuniziert\n30. November 2019 / 09.30 bis 11.30 Uhr\, Ort wird beim vorangegangenen Termin vereinbart\n21. Dezember 2019 / 09.30 bis 11.30 Uhr\, Ort wird beim vorangegangenen Termin vereinbart\n25. Jänner 2020 / 9.30 bis 11.30 Uhr\, Ort wird beim vorangegangenen Termin vereinbart\n29. Feber 2020 / 9.30 bis 11.30 Uhr\, Ort wird beim vorangegangenen Termin vereinbart\n28. März 2020 / 9.30 bis 11.30 Uhr\, Ort wird beim vorangegangenen Termin vereinbart\n25. April 2020 / 9.30 bis 11.30 Uhr\, Ort wird beim vorangegangenen Termin vereinbart\n30. Mai 2020 / 9.30 bis 11.30 Uhr\, Ort wird beim vorangegangenen Termin vereinbart\n27. Juni 2020 / 9.30 bis 11.30 Uhr\, Ort wird beim vorangegangenen Termin vereinbart \nKosten: Kosten können je nach Ort entstehen und werden zu gleichen Teilen unter den Teilnehmern aufgeteilt. \nAnmeldung erforderlich! Anmeldung bei Klaus unter klaus@originalplay.at \nDieses Angebot richtet sich an alle\, die schon zumindest einen Workshop besucht haben\, schon etwas Spielpraxis gesammelt haben oder dabei sind\, das zu tun\, sich mit der Energie des ursprünglichen Spiels rückverbinden oder sich einfach einen Original Play Polster für den Alltag holen wollen. Bei den Terminen werden zumeist ein oder mehrere Original Play Apprentices zugegen sein. Wir freuen uns\, wenn die Gruppe der Spielenden wächst : )
URL:https://www.hiersein.at/op/veranstaltung/spielgruppe-fuer-erwachsene-26-oktober-2019/
LOCATION:Ort wird bei Anmeldung bekanntgegeben
CATEGORIES:Spielgruppen,Spielgruppen Burgenland,Spielgruppen Kärnten,Spielgruppen Niederoesterreich,Spielgruppen Oberösterreich,Spielgruppen Salzburg,Spielgruppen Steiermark,Spielgruppen Tirol,Spielgruppen Vorarlberg,Spielgruppen Wien
ATTACH;FMTTYPE=image/jpeg:https://www.hiersein.at/op/wp-content/uploads/2019/09/DSC_9118.jpg
ORGANIZER;CN="Klaus%20Seits%20-%20Verein%20Original%20Play%20%C3%96sterreich":MAILTO:klaus@originalplay.at
END:VEVENT
END:VCALENDAR