BEGIN:VCALENDAR
VERSION:2.0
PRODID:-//Original Play Österreich - ECPv6.0.8//NONSGML v1.0//EN
CALSCALE:GREGORIAN
METHOD:PUBLISH
X-WR-CALNAME:Original Play Österreich
X-ORIGINAL-URL:https://www.hiersein.at/op
X-WR-CALDESC:Veranstaltungen für Original Play Österreich
REFRESH-INTERVAL;VALUE=DURATION:PT1H
X-Robots-Tag:noindex
X-PUBLISHED-TTL:PT1H
BEGIN:VTIMEZONE
TZID:Europe/Helsinki
BEGIN:DAYLIGHT
TZOFFSETFROM:+0200
TZOFFSETTO:+0300
TZNAME:EEST
DTSTART:20180325T010000
END:DAYLIGHT
BEGIN:STANDARD
TZOFFSETFROM:+0300
TZOFFSETTO:+0200
TZNAME:EET
DTSTART:20181028T010000
END:STANDARD
END:VTIMEZONE
BEGIN:VEVENT
DTSTART;TZID=Europe/Helsinki:20180516T131500
DTEND;TZID=Europe/Helsinki:20180516T154500
DTSTAMP:20260422T051722
CREATED:20180506T181923Z
LAST-MODIFIED:20180506T181923Z
UID:4410-1526476500-1526485500@www.hiersein.at
SUMMARY:Stadt Haag: Mitspielen mit Klaus in der Lebenshilfe Werkstätte Stadt Haag
DESCRIPTION:Mi\, 16. Mai 2018 / 13.15 bis 15.45 Uhr \nBegrenzte Plätze verfügbar\, Anmeldung erforderlich. Anmeldung bei Klaus unter +43 660 2135801 \nWir spielen mit Klienten der Lebenshilfe Werkstätte Stadt Haag im Gruppen- und im Einzelsetting. \nDieses Angebot richtet sich an alle\, die schon zumindest einen Workshop besucht haben und Spielpraxis sammeln wollen. Sie können erfahrene Original Play Apprentices in Schulen\, Kindergärten\, Einrichtungen für Menschen mit Behinderungen und Unterkünfte für Asylwerber*innen begleiten\, um einerseits bei der Arbeit mit Original Play zuzusehen und andererseits in sicherem Rahmen mitzuspielen.
URL:https://www.hiersein.at/op/veranstaltung/stadt-haag-mitspielen-mit-klaus-in-der-lebenshilfe-werkstaette-stadt-haag/
LOCATION:Ort wird bei Anmeldung bekanntgegeben
CATEGORIES:Mitspielen,Mitspielen Klaus,Mitspielen Niederösterreich
ATTACH;FMTTYPE=image/jpeg:https://www.hiersein.at/op/wp-content/uploads/2016/03/KlausBeimSpiel-01.jpg
ORGANIZER;CN="Klaus%20Seits%20-%20Verein%20Original%20Play%20%C3%96sterreich":MAILTO:klaus@originalplay.at
END:VEVENT
END:VCALENDAR