BEGIN:VCALENDAR
VERSION:2.0
PRODID:-//Original Play Österreich - ECPv6.0.8//NONSGML v1.0//EN
CALSCALE:GREGORIAN
METHOD:PUBLISH
X-ORIGINAL-URL:https://www.hiersein.at/op
X-WR-CALDESC:Veranstaltungen für Original Play Österreich
REFRESH-INTERVAL;VALUE=DURATION:PT1H
X-Robots-Tag:noindex
X-PUBLISHED-TTL:PT1H
BEGIN:VTIMEZONE
TZID:Europe/Helsinki
BEGIN:DAYLIGHT
TZOFFSETFROM:+0200
TZOFFSETTO:+0300
TZNAME:EEST
DTSTART:20190331T010000
END:DAYLIGHT
BEGIN:STANDARD
TZOFFSETFROM:+0300
TZOFFSETTO:+0200
TZNAME:EET
DTSTART:20191027T010000
END:STANDARD
END:VTIMEZONE
BEGIN:VEVENT
DTSTART;TZID=Europe/Helsinki:20190304T090000
DTEND;TZID=Europe/Helsinki:20190304T120000
DTSTAMP:20260422T131346
CREATED:20190227T120505Z
LAST-MODIFIED:20190227T120713Z
UID:5463-1551690000-1551700800@www.hiersein.at
SUMMARY:Wien: Mitspielen mit Armin im Kindergarten Forsthausgasse\, Montag\, 04.03.2019
DESCRIPTION:09:00 bis 12.00 Uhr\nAnmeldung bei Armin: 0699 12848864\nDie Teilnehmerzahl ist begrenzt\, Anmeldung ist erforderlich.\n \nWir spielen montags alternierend je mit 3 Kindergartengruppen (3-6 Jahre) oder mit 2 Krippen (bis 2 Jahre) und einer Kindergartengruppe. \nDieses Angebot richtet sich an alle\, die schon mindestens einen Workshop besucht haben und Spielpraxis sammeln wollen. Sie können erfahrene Original Play Apprentices in Schulen\, Kindergärten\, Einrichtungen für Menschen mit Behinderungen und Unterkünfte für Asylwerber*innen begleiten\, um einerseits bei der Arbeit mit Original Play zuzusehen und andererseits in sicherem Rahmen mitzuspielen.
URL:https://www.hiersein.at/op/veranstaltung/wien-mitspielen-mit-armin-im-kindergarten-forsthausgasse-montag-04-03-2019/
LOCATION:Ort wird bei Anmeldung bekanntgegeben
CATEGORIES:Mitspielen,Mitspielen Armin,Mitspielen Wien
ATTACH;FMTTYPE=image/jpeg:https://www.hiersein.at/op/wp-content/uploads/2017/10/IMG_7126.jpg
ORGANIZER;CN="Armin%20Knauthe%20-%20Verein%20Original%20Play%20%C3%96sterreich":MAILTO:armin@originalplay.at
END:VEVENT
BEGIN:VEVENT
DTSTART;TZID=Europe/Helsinki:20190304T150000
DTEND;TZID=Europe/Helsinki:20190304T160000
DTSTAMP:20260422T131346
CREATED:20181116T115018Z
LAST-MODIFIED:20181127T062713Z
UID:5226-1551711600-1551715200@www.hiersein.at
SUMMARY:Linz: Spielgruppe im EKIZ\, Figulystraße 20\, 4020 Linz 4. März 2019
DESCRIPTION:Kosten: 15 EUR pro Kind\n\n‚Von Herzen spielen‘ ist das\, was wir instinktiv mit Babys und Kleinkindern tun – oder wie junge Hunde miteinander spielen. Aber mit ca. drei Jahren weicht dieses liebevolle Spiel in unserer Kultur dem Wettbewerb\, Spielregeln oder sogar Raufen und Kämpfen! Und das verunsichert und frustriert Kinder wie Eltern. Original Play zeigt\, wie man diesen Schatz hinüberretten kann und weiter liebevoll und sicher miteinander spielen kann – von kuschelig bis wild und schnell! Erleben Sie das ‚ursprüngliche Spiel‘ mit Ihren Kindern auf der Mattenfläche.\n\nSpielgruppe für Kinder von 0-7 Jahren.\n\n04.03.2018\, 15:00 bis 16:00 Uhr\, EKIZ Figulystraße Linz\n\nAnmeldung: klaus@originalplay.at\, mobil: 0660 / 213 58 01
URL:https://www.hiersein.at/op/veranstaltung/linz-spielgruppe-im-ekiz-figulystrasse-linz-4-maerz-2019/
LOCATION:Ort wird bei Anmeldung bekanntgegeben
CATEGORIES:Spielgruppen,Spielgruppen Oberösterreich
ATTACH;FMTTYPE=image/jpeg:https://www.hiersein.at/op/wp-content/uploads/2016/03/KlausBeimSpiel-12.jpg
ORGANIZER;CN="Klaus%20Seits%20-%20Verein%20Original%20Play%20%C3%96sterreich":MAILTO:klaus@originalplay.at
END:VEVENT
BEGIN:VEVENT
DTSTART;TZID=Europe/Helsinki:20190306T130000
DTEND;TZID=Europe/Helsinki:20190306T140000
DTSTAMP:20260422T131346
CREATED:20190227T143443Z
LAST-MODIFIED:20190227T144742Z
UID:5546-1551877200-1551880800@www.hiersein.at
SUMMARY:Wien: Mitspielen mit Armin im Kindergarten Vorgartenstraße\, Mittwoch\, 06.03.2019
DESCRIPTION:13:00 bis 14.00 Uhr\nAnmeldung bei Armin: 0699 12848864\nDie Teilnehmerzahl ist begrenzt\, Anmeldung ist erforderlich.\n \nIm Rahmen der Wissensakademie der Wiener Kinderfreunde spielen wir mittwochs mit einer Teilgruppe von Kindergartenkindern im Alter von 3-6 Jahren. \nDieses Angebot richtet sich an alle\, die schon mindestens einen Workshop besucht haben und Spielpraxis sammeln wollen. Sie können erfahrene Original Play Apprentices in Schulen\, Kindergärten\, Einrichtungen für Menschen mit Behinderungen und Unterkünfte für Asylwerber*innen begleiten\, um einerseits bei der Arbeit mit Original Play zuzusehen und andererseits in sicherem Rahmen mitzuspielen.
URL:https://www.hiersein.at/op/veranstaltung/wien-mitspielen-mit-armin-im-kindergarten-vorgartenstrasse-mittwoch-06-03-2019/
LOCATION:Ort wird bei Anmeldung bekanntgegeben
CATEGORIES:Mitspielen,Mitspielen Armin,Mitspielen Wien
ATTACH;FMTTYPE=image/jpeg:https://www.hiersein.at/op/wp-content/uploads/2017/09/ArminFred-1.jpg
ORGANIZER;CN="Armin%20Knauthe%20-%20Verein%20Original%20Play%20%C3%96sterreich":MAILTO:armin@originalplay.at
END:VEVENT
BEGIN:VEVENT
DTSTART;TZID=Europe/Helsinki:20190308T085000
DTEND;TZID=Europe/Helsinki:20190308T113000
DTSTAMP:20260422T131346
CREATED:20190227T124457Z
LAST-MODIFIED:20190227T124904Z
UID:5500-1552035000-1552044600@www.hiersein.at
SUMMARY:Wien: Mitspielen mit Armin im Kindergarten Hütteldorferstraße\, Freitag\, 08.03.2019
DESCRIPTION:09.00 bis 11.30 Uhr \nAnmeldung bei Armin: 0699 12848864\nDie Teilnehmerzahl ist begrenzt\, Anmeldung ist erforderlich.\n \nWir spielen Mittwoch vormittags mit 1 Krippe (bis 2 Jahre) und 2 Kindergartengruppen (3-6 Jahre). \nDieses Angebot richtet sich an alle\, die schon mindestens einen Workshop besucht haben und Spielpraxis sammeln wollen. Sie können erfahrene Original Play Apprentices in Schulen\, Kindergärten\, Einrichtungen für Menschen mit Behinderungen und Unterkünfte für Asylwerber*innen begleiten\, um einerseits bei der Arbeit mit Original Play zuzusehen und andererseits in sicherem Rahmen mitzuspielen.
URL:https://www.hiersein.at/op/veranstaltung/wien-mitspielen-mit-armin-im-kindergarten-huetteldorferstrasse-freitag-08-03-2019/
LOCATION:Ort wird bei Anmeldung bekanntgegeben
CATEGORIES:Mitspielen,Mitspielen Armin,Mitspielen Wien
ATTACH;FMTTYPE=image/jpeg:https://www.hiersein.at/op/wp-content/uploads/2017/11/Original_Play_Armin-Wien_18.jpg
ORGANIZER;CN="Armin%20Knauthe%20-%20Verein%20Original%20Play%20%C3%96sterreich":MAILTO:armin@originalplay.at
END:VEVENT
BEGIN:VEVENT
DTSTART;TZID=Europe/Helsinki:20190311T090000
DTEND;TZID=Europe/Helsinki:20190311T120000
DTSTAMP:20260422T131346
CREATED:20190227T121043Z
LAST-MODIFIED:20190227T121628Z
UID:5467-1552294800-1552305600@www.hiersein.at
SUMMARY:Wien: Mitspielen mit Armin im Kindergarten Forsthausgasse\, Montag\, 11.03.2019
DESCRIPTION:09:00 bis 12.00 Uhr\nAnmeldung bei Armin: 0699 12848864\nDie Teilnehmerzahl ist begrenzt\, Anmeldung ist erforderlich.\n \nWir spielen montags alternierend je mit 3 Kindergartengruppen (3-6 Jahre) oder mit 2 Krippen (bis 2 Jahre) und einer Kindergartengruppe. \nDieses Angebot richtet sich an alle\, die schon mindestens einen Workshop besucht haben und Spielpraxis sammeln wollen. Sie können erfahrene Original Play Apprentices in Schulen\, Kindergärten\, Einrichtungen für Menschen mit Behinderungen und Unterkünfte für Asylwerber*innen begleiten\, um einerseits bei der Arbeit mit Original Play zuzusehen und andererseits in sicherem Rahmen mitzuspielen.
URL:https://www.hiersein.at/op/veranstaltung/wien-mitspielen-mit-armin-im-kindergarten-forsthausgasse-montag-11-03-2019/
LOCATION:Ort wird bei Anmeldung bekanntgegeben
CATEGORIES:Mitspielen,Mitspielen Armin,Mitspielen Wien
ATTACH;FMTTYPE=image/jpeg:https://www.hiersein.at/op/wp-content/uploads/2017/10/12183883_10153820370029382_652118710968708254_o-1.jpg
ORGANIZER;CN="Armin%20Knauthe%20-%20Verein%20Original%20Play%20%C3%96sterreich":MAILTO:armin@originalplay.at
END:VEVENT
BEGIN:VEVENT
DTSTART;TZID=Europe/Helsinki:20190311T150000
DTEND;TZID=Europe/Helsinki:20190311T160000
DTSTAMP:20260422T131346
CREATED:20181116T115316Z
LAST-MODIFIED:20181127T062654Z
UID:5228-1552316400-1552320000@www.hiersein.at
SUMMARY:Linz: Spielgruppe im EKIZ\, Figulystraße 20\, 4020 Linz 11. März 2019
DESCRIPTION:Kosten: 15 EUR pro Kind\n\n‚Von Herzen spielen‘ ist das\, was wir instinktiv mit Babys und Kleinkindern tun – oder wie junge Hunde miteinander spielen. Aber mit ca. drei Jahren weicht dieses liebevolle Spiel in unserer Kultur dem Wettbewerb\, Spielregeln oder sogar Raufen und Kämpfen! Und das verunsichert und frustriert Kinder wie Eltern. Original Play zeigt\, wie man diesen Schatz hinüberretten kann und weiter liebevoll und sicher miteinander spielen kann – von kuschelig bis wild und schnell! Erleben Sie das ‚ursprüngliche Spiel‘ mit Ihren Kindern auf der Mattenfläche.\n\nSpielgruppe für Kinder von 0-7 Jahren.\n\n11.03.2018\, 15:00 bis 16:00 Uhr\, EKIZ Figulystraße Linz\n\nAnmeldung: klaus@originalplay.at\, mobil: 0660 / 213 58 01
URL:https://www.hiersein.at/op/veranstaltung/linz-spielgruppe-im-ekiz-figulystrasse-linz-11-maerz-2019/
LOCATION:Ort wird bei Anmeldung bekanntgegeben
CATEGORIES:Spielgruppen,Spielgruppen Oberösterreich
ATTACH;FMTTYPE=image/jpeg:https://www.hiersein.at/op/wp-content/uploads/2016/03/KlausBeimSpiel-12.jpg
ORGANIZER;CN="Klaus%20Seits%20-%20Verein%20Original%20Play%20%C3%96sterreich":MAILTO:klaus@originalplay.at
END:VEVENT
BEGIN:VEVENT
DTSTART;TZID=Europe/Helsinki:20190312T133000
DTEND;TZID=Europe/Helsinki:20190312T143000
DTSTAMP:20260422T131346
CREATED:20190227T140626Z
LAST-MODIFIED:20190227T140756Z
UID:5535-1552397400-1552401000@www.hiersein.at
SUMMARY:Wien: Mitspielen mit Armin im AKH-Betriebskindergarten\, Dienstag\, 12.03.2019
DESCRIPTION:13:30 bis 14.30 Uhr\nAnmeldung bei Armin: 0699 12848864\nDie Teilnehmerzahl ist begrenzt\, Anmeldung ist erforderlich.\n \nIm Rahmen der Wissensakademie der Wiener Kinderfreunde spielen wir dienstags mit ein bis zwei Gruppen von Kindergartenkindern im Alter von 3-6 Jahren. \nDieses Angebot richtet sich an alle\, die schon mindestens einen Workshop besucht haben und Spielpraxis sammeln wollen. Sie können erfahrene Original Play Apprentices in Schulen\, Kindergärten\, Einrichtungen für Menschen mit Behinderungen und Unterkünfte für Asylwerber*innen begleiten\, um einerseits bei der Arbeit mit Original Play zuzusehen und andererseits in sicherem Rahmen mitzuspielen.
URL:https://www.hiersein.at/op/veranstaltung/wien-mitspielen-mit-armin-im-akh-betriebskindergarten-dienstag-12-03-2019/
LOCATION:Ort wird bei Anmeldung bekanntgegeben
CATEGORIES:Mitspielen,Mitspielen Armin,Mitspielen Wien
ATTACH;FMTTYPE=image/jpeg:https://www.hiersein.at/op/wp-content/uploads/2017/09/OP_Armin2.jpg
ORGANIZER;CN="Armin%20Knauthe%20-%20Verein%20Original%20Play%20%C3%96sterreich":MAILTO:armin@originalplay.at
END:VEVENT
BEGIN:VEVENT
DTSTART;TZID=Europe/Helsinki:20190313T130000
DTEND;TZID=Europe/Helsinki:20190313T140000
DTSTAMP:20260422T131346
CREATED:20190227T143451Z
LAST-MODIFIED:20190227T144825Z
UID:5547-1552482000-1552485600@www.hiersein.at
SUMMARY:Wien: Mitspielen mit Armin im Kindergarten Vorgartenstraße\, Mittwoch\, 13.03.2019
DESCRIPTION:13:00 bis 14.00 Uhr\nAnmeldung bei Armin: 0699 12848864\nDie Teilnehmerzahl ist begrenzt\, Anmeldung ist erforderlich.\n \nIm Rahmen der Wissensakademie der Wiener Kinderfreunde spielen wir mittwochs mit einer Teilgruppe von Kindergartenkindern im Alter von 3-6 Jahren. \nDieses Angebot richtet sich an alle\, die schon mindestens einen Workshop besucht haben und Spielpraxis sammeln wollen. Sie können erfahrene Original Play Apprentices in Schulen\, Kindergärten\, Einrichtungen für Menschen mit Behinderungen und Unterkünfte für Asylwerber*innen begleiten\, um einerseits bei der Arbeit mit Original Play zuzusehen und andererseits in sicherem Rahmen mitzuspielen.
URL:https://www.hiersein.at/op/veranstaltung/wien-mitspielen-mit-armin-im-kindergarten-vorgartenstrasse-mittwoch-13-03-2019/
LOCATION:Ort wird bei Anmeldung bekanntgegeben
CATEGORIES:Mitspielen,Mitspielen Armin,Mitspielen Wien
ATTACH;FMTTYPE=image/jpeg:https://www.hiersein.at/op/wp-content/uploads/2017/09/OP_Armin2.jpg
ORGANIZER;CN="Armin%20Knauthe%20-%20Verein%20Original%20Play%20%C3%96sterreich":MAILTO:armin@originalplay.at
END:VEVENT
BEGIN:VEVENT
DTSTART;TZID=Europe/Helsinki:20190318T090000
DTEND;TZID=Europe/Helsinki:20190318T120000
DTSTAMP:20260422T131346
CREATED:20190227T121135Z
LAST-MODIFIED:20190227T121854Z
UID:5470-1552899600-1552910400@www.hiersein.at
SUMMARY:Wien: Mitspielen mit Armin im Kindergarten Forsthausgasse\, Montag\, 18.03.2019
DESCRIPTION:09:00 bis 12.00 Uhr\nAnmeldung bei Armin: 0699 12848864\nDie Teilnehmerzahl ist begrenzt\, Anmeldung ist erforderlich.\n \nWir spielen montags alternierend je mit 3 Kindergartengruppen (3-6 Jahre) oder mit 2 Krippen (bis 2 Jahre) und einer Kindergartengruppe. \nDieses Angebot richtet sich an alle\, die schon mindestens einen Workshop besucht haben und Spielpraxis sammeln wollen. Sie können erfahrene Original Play Apprentices in Schulen\, Kindergärten\, Einrichtungen für Menschen mit Behinderungen und Unterkünfte für Asylwerber*innen begleiten\, um einerseits bei der Arbeit mit Original Play zuzusehen und andererseits in sicherem Rahmen mitzuspielen.
URL:https://www.hiersein.at/op/veranstaltung/wien-mitspielen-mit-armin-im-kindergarten-forsthausgasse-montag-18-03-2019/
LOCATION:Ort wird bei Anmeldung bekanntgegeben
CATEGORIES:Mitspielen,Mitspielen Armin,Mitspielen Wien
ATTACH;FMTTYPE=image/jpeg:https://www.hiersein.at/op/wp-content/uploads/2017/11/Original_Play_Armin-Wien_11.jpg
ORGANIZER;CN="Armin%20Knauthe%20-%20Verein%20Original%20Play%20%C3%96sterreich":MAILTO:armin@originalplay.at
END:VEVENT
BEGIN:VEVENT
DTSTART;TZID=Europe/Helsinki:20190318T150000
DTEND;TZID=Europe/Helsinki:20190318T160000
DTSTAMP:20260422T131346
CREATED:20181116T115500Z
LAST-MODIFIED:20181127T062548Z
UID:5230-1552921200-1552924800@www.hiersein.at
SUMMARY:Linz: Spielgruppe im EKIZ\, Figulystraße 20\, 4020 Linz 18. März 2019
DESCRIPTION:Kosten: 15 EUR pro Kind\n\n‚Von Herzen spielen‘ ist das\, was wir instinktiv mit Babys und Kleinkindern tun – oder wie junge Hunde miteinander spielen. Aber mit ca. drei Jahren weicht dieses liebevolle Spiel in unserer Kultur dem Wettbewerb\, Spielregeln oder sogar Raufen und Kämpfen! Und das verunsichert und frustriert Kinder wie Eltern. Original Play zeigt\, wie man diesen Schatz hinüberretten kann und weiter liebevoll und sicher miteinander spielen kann – von kuschelig bis wild und schnell! Erleben Sie das ‚ursprüngliche Spiel‘ mit Ihren Kindern auf der Mattenfläche.\n\nSpielgruppe für Kinder von 0-7 Jahren.\n\n18.03.2018\, 15:00 bis 16:00 Uhr\, EKIZ Figulystraße Linz\n\nAnmeldung: klaus@originalplay.at\, mobil: 0660 / 213 58 01
URL:https://www.hiersein.at/op/veranstaltung/linz-spielgruppe-im-ekiz-figulystrasse-linz-18-maerz-2019/
LOCATION:Ort wird bei Anmeldung bekanntgegeben
CATEGORIES:Spielgruppen,Spielgruppen Oberösterreich
ATTACH;FMTTYPE=image/jpeg:https://www.hiersein.at/op/wp-content/uploads/2016/03/KlausBeimSpiel-12.jpg
ORGANIZER;CN="Klaus%20Seits%20-%20Verein%20Original%20Play%20%C3%96sterreich":MAILTO:klaus@originalplay.at
END:VEVENT
BEGIN:VEVENT
DTSTART;TZID=Europe/Helsinki:20190319T133000
DTEND;TZID=Europe/Helsinki:20190319T143000
DTSTAMP:20260422T131346
CREATED:20190227T140602Z
LAST-MODIFIED:20190227T141030Z
UID:5534-1553002200-1553005800@www.hiersein.at
SUMMARY:Wien: Mitspielen mit Armin im AKH-Betriebskindergarten\, Dienstag\, 19.03.2019
DESCRIPTION:13:30 bis 14.30 Uhr\nAnmeldung bei Armin: 0699 12848864\nDie Teilnehmerzahl ist begrenzt\, Anmeldung ist erforderlich.\n \nIm Rahmen der Wissensakademie der Wiener Kinderfreunde spielen wir dienstags mit ein bis zwei Gruppen von Kindergartenkindern im Alter von 3-6 Jahren. \nDieses Angebot richtet sich an alle\, die schon mindestens einen Workshop besucht haben und Spielpraxis sammeln wollen. Sie können erfahrene Original Play Apprentices in Schulen\, Kindergärten\, Einrichtungen für Menschen mit Behinderungen und Unterkünfte für Asylwerber*innen begleiten\, um einerseits bei der Arbeit mit Original Play zuzusehen und andererseits in sicherem Rahmen mitzuspielen.
URL:https://www.hiersein.at/op/veranstaltung/wien-mitspielen-mit-armin-im-akh-betriebskindergarten-dienstag-19-03-2019/
LOCATION:Ort wird bei Anmeldung bekanntgegeben
CATEGORIES:Mitspielen,Mitspielen Armin,Mitspielen Wien
ATTACH;FMTTYPE=image/jpeg:https://www.hiersein.at/op/wp-content/uploads/2017/09/OP_Armin3.jpg
ORGANIZER;CN="Armin%20Knauthe%20-%20Verein%20Original%20Play%20%C3%96sterreich":MAILTO:armin@originalplay.at
END:VEVENT
BEGIN:VEVENT
DTSTART;TZID=Europe/Helsinki:20190320T130000
DTEND;TZID=Europe/Helsinki:20190320T140000
DTSTAMP:20260422T131346
CREATED:20190227T143703Z
LAST-MODIFIED:20190227T144907Z
UID:5556-1553086800-1553090400@www.hiersein.at
SUMMARY:Wien: Mitspielen mit Armin im Kindergarten Vorgartenstraße\, Mittwoch\, 20.03.2019
DESCRIPTION:13:00 bis 14.00 Uhr\nAnmeldung bei Armin: 0699 12848864\nDie Teilnehmerzahl ist begrenzt\, Anmeldung ist erforderlich.\n \nIm Rahmen der Wissensakademie der Wiener Kinderfreunde spielen wir mittwochs mit einer Teilgruppe von Kindergartenkindern im Alter von 3-6 Jahren. \nDieses Angebot richtet sich an alle\, die schon mindestens einen Workshop besucht haben und Spielpraxis sammeln wollen. Sie können erfahrene Original Play Apprentices in Schulen\, Kindergärten\, Einrichtungen für Menschen mit Behinderungen und Unterkünfte für Asylwerber*innen begleiten\, um einerseits bei der Arbeit mit Original Play zuzusehen und andererseits in sicherem Rahmen mitzuspielen.
URL:https://www.hiersein.at/op/veranstaltung/wien-mitspielen-mit-armin-im-kindergarten-vorgartenstrasse-mittwoch-20-03-2019/
LOCATION:Ort wird bei Anmeldung bekanntgegeben
CATEGORIES:Mitspielen,Mitspielen Armin,Mitspielen Wien
ATTACH;FMTTYPE=image/jpeg:https://www.hiersein.at/op/wp-content/uploads/2017/09/OP_Armin19.jpg
ORGANIZER;CN="Armin%20Knauthe%20-%20Verein%20Original%20Play%20%C3%96sterreich":MAILTO:armin@originalplay.at
END:VEVENT
BEGIN:VEVENT
DTSTART;TZID=Europe/Helsinki:20190325T090000
DTEND;TZID=Europe/Helsinki:20190325T120000
DTSTAMP:20260422T131346
CREATED:20190227T122012Z
LAST-MODIFIED:20190227T122114Z
UID:5483-1553504400-1553515200@www.hiersein.at
SUMMARY:Wien: Mitspielen mit Armin im Kindergarten Forsthausgasse\, Montag\, 25.03.2019
DESCRIPTION:09:00 bis 12.00 Uhr\nAnmeldung bei Armin: 0699 12848864\nDie Teilnehmerzahl ist begrenzt\, Anmeldung ist erforderlich.\n \nWir spielen montags alternierend je mit 3 Kindergartengruppen (3-6 Jahre) oder mit 2 Krippen (bis 2 Jahre) und einer Kindergartengruppe. \nDieses Angebot richtet sich an alle\, die schon mindestens einen Workshop besucht haben und Spielpraxis sammeln wollen. Sie können erfahrene Original Play Apprentices in Schulen\, Kindergärten\, Einrichtungen für Menschen mit Behinderungen und Unterkünfte für Asylwerber*innen begleiten\, um einerseits bei der Arbeit mit Original Play zuzusehen und andererseits in sicherem Rahmen mitzuspielen.
URL:https://www.hiersein.at/op/veranstaltung/wien-mitspielen-mit-armin-im-kindergarten-forsthausgasse-montag-25-03-2019/
LOCATION:Ort wird bei Anmeldung bekanntgegeben
CATEGORIES:Mitspielen,Mitspielen Armin,Mitspielen Wien
ATTACH;FMTTYPE=image/jpeg:https://www.hiersein.at/op/wp-content/uploads/2017/11/Original_Play_Armin-Wien_18.jpg
ORGANIZER;CN="Armin%20Knauthe%20-%20Verein%20Original%20Play%20%C3%96sterreich":MAILTO:armin@originalplay.at
END:VEVENT
BEGIN:VEVENT
DTSTART;TZID=Europe/Helsinki:20190325T150000
DTEND;TZID=Europe/Helsinki:20190325T160000
DTSTAMP:20260422T131346
CREATED:20181116T115628Z
LAST-MODIFIED:20181127T062611Z
UID:5232-1553526000-1553529600@www.hiersein.at
SUMMARY:Linz: Spielgruppe im EKIZ\, Figulystraße 20\, 4020 Linz 25. März 2019
DESCRIPTION:Kosten: 15 EUR pro Kind\n\n‚Von Herzen spielen‘ ist das\, was wir instinktiv mit Babys und Kleinkindern tun – oder wie junge Hunde miteinander spielen. Aber mit ca. drei Jahren weicht dieses liebevolle Spiel in unserer Kultur dem Wettbewerb\, Spielregeln oder sogar Raufen und Kämpfen! Und das verunsichert und frustriert Kinder wie Eltern. Original Play zeigt\, wie man diesen Schatz hinüberretten kann und weiter liebevoll und sicher miteinander spielen kann – von kuschelig bis wild und schnell! Erleben Sie das ‚ursprüngliche Spiel‘ mit Ihren Kindern auf der Mattenfläche.\n\nSpielgruppe für Kinder von 0-7 Jahren.\n\n25.03.2018\, 15:00 bis 16:00 Uhr\, EKIZ Figulystraße Linz\n\nAnmeldung: klaus@originalplay.at\, mobil: 0660 / 213 58 01
URL:https://www.hiersein.at/op/veranstaltung/linz-spielgruppe-im-ekiz-figulystrasse-linz-25-maerz-2019/
LOCATION:Ort wird bei Anmeldung bekanntgegeben
CATEGORIES:Spielgruppen,Spielgruppen Oberösterreich
ATTACH;FMTTYPE=image/jpeg:https://www.hiersein.at/op/wp-content/uploads/2016/03/KlausBeimSpiel-12.jpg
ORGANIZER;CN="Klaus%20Seits%20-%20Verein%20Original%20Play%20%C3%96sterreich":MAILTO:klaus@originalplay.at
END:VEVENT
BEGIN:VEVENT
DTSTART;TZID=Europe/Helsinki:20190326T133000
DTEND;TZID=Europe/Helsinki:20190326T143000
DTSTAMP:20260422T131346
CREATED:20190227T140545Z
LAST-MODIFIED:20190227T141125Z
UID:5533-1553607000-1553610600@www.hiersein.at
SUMMARY:Wien: Mitspielen mit Armin im AKH-Betriebskindergarten\, Dienstag\, 26.03.2019
DESCRIPTION:13:30 bis 14.30 Uhr\nAnmeldung bei Armin: 0699 12848864\nDie Teilnehmerzahl ist begrenzt\, Anmeldung ist erforderlich.\n \nIm Rahmen der Wissensakademie der Wiener Kinderfreunde spielen wir dienstags mit ein bis zwei Gruppen von Kindergartenkindern im Alter von 3-6 Jahren. \nDieses Angebot richtet sich an alle\, die schon mindestens einen Workshop besucht haben und Spielpraxis sammeln wollen. Sie können erfahrene Original Play Apprentices in Schulen\, Kindergärten\, Einrichtungen für Menschen mit Behinderungen und Unterkünfte für Asylwerber*innen begleiten\, um einerseits bei der Arbeit mit Original Play zuzusehen und andererseits in sicherem Rahmen mitzuspielen.
URL:https://www.hiersein.at/op/veranstaltung/wien-mitspielen-mit-armin-im-akh-betriebskindergarten-dienstag-26-03-2019/
LOCATION:Ort wird bei Anmeldung bekanntgegeben
CATEGORIES:Mitspielen,Mitspielen Armin,Mitspielen Wien
ATTACH;FMTTYPE=image/jpeg:https://www.hiersein.at/op/wp-content/uploads/2017/09/ArminFred-1.jpg
ORGANIZER;CN="Armin%20Knauthe%20-%20Verein%20Original%20Play%20%C3%96sterreich":MAILTO:armin@originalplay.at
END:VEVENT
BEGIN:VEVENT
DTSTART;TZID=Europe/Helsinki:20190327T130000
DTEND;TZID=Europe/Helsinki:20190327T140000
DTSTAMP:20260422T131346
CREATED:20190227T143638Z
LAST-MODIFIED:20190227T145004Z
UID:5555-1553691600-1553695200@www.hiersein.at
SUMMARY:Wien: Mitspielen mit Armin im Kindergarten Vorgartenstraße\, Mittwoch\, 27.03.2019
DESCRIPTION:13:00 bis 14.00 Uhr\nAnmeldung bei Armin: 0699 12848864\nDie Teilnehmerzahl ist begrenzt\, Anmeldung ist erforderlich.\n \nIm Rahmen der Wissensakademie der Wiener Kinderfreunde spielen wir mittwochs mit einer Teilgruppe von Kindergartenkindern im Alter von 3-6 Jahren. \nDieses Angebot richtet sich an alle\, die schon mindestens einen Workshop besucht haben und Spielpraxis sammeln wollen. Sie können erfahrene Original Play Apprentices in Schulen\, Kindergärten\, Einrichtungen für Menschen mit Behinderungen und Unterkünfte für Asylwerber*innen begleiten\, um einerseits bei der Arbeit mit Original Play zuzusehen und andererseits in sicherem Rahmen mitzuspielen.
URL:https://www.hiersein.at/op/veranstaltung/wien-mitspielen-mit-armin-im-kindergarten-vorgartenstrasse-mittwoch-27-03-2019/
LOCATION:Ort wird bei Anmeldung bekanntgegeben
CATEGORIES:Mitspielen,Mitspielen Armin,Mitspielen Wien
ATTACH;FMTTYPE=image/jpeg:https://www.hiersein.at/op/wp-content/uploads/2017/09/OP_Armin25.jpg
ORGANIZER;CN="Armin%20Knauthe%20-%20Verein%20Original%20Play%20%C3%96sterreich":MAILTO:armin@originalplay.at
END:VEVENT
BEGIN:VEVENT
DTSTART;TZID=Europe/Helsinki:20190329T085000
DTEND;TZID=Europe/Helsinki:20190329T113000
DTSTAMP:20260422T131346
CREATED:20190227T124506Z
LAST-MODIFIED:20190227T125548Z
UID:5501-1553849400-1553859000@www.hiersein.at
SUMMARY:Wien: Mitspielen mit Armin im Kindergarten Hütteldorferstraße\, Freitag\, 29.03.2019
DESCRIPTION:09.00 bis 11.00 Uhr \nAnmeldung bei Armin: 0699 12848864\nDie Teilnehmerzahl ist begrenzt\, Anmeldung ist erforderlich.\n \nWir spielen Mittwoch vormittags mit 1 Krippe (bis 2 Jahre) und 2 Kindergartengruppen (3-6 Jahre). \nDieses Angebot richtet sich an alle\, die schon mindestens einen Workshop besucht haben und Spielpraxis sammeln wollen. Sie können erfahrene Original Play Apprentices in Schulen\, Kindergärten\, Einrichtungen für Menschen mit Behinderungen und Unterkünfte für Asylwerber*innen begleiten\, um einerseits bei der Arbeit mit Original Play zuzusehen und andererseits in sicherem Rahmen mitzuspielen.
URL:https://www.hiersein.at/op/veranstaltung/wien-mitspielen-mit-armin-im-kindergarten-huetteldorferstrasse-freitag-29-03-2019/
LOCATION:Ort wird bei Anmeldung bekanntgegeben
CATEGORIES:Mitspielen,Mitspielen Armin,Mitspielen Wien
ATTACH;FMTTYPE=image/jpeg:https://www.hiersein.at/op/wp-content/uploads/2017/11/Original_Play_Armin-Wien_19.jpg
ORGANIZER;CN="Armin%20Knauthe%20-%20Verein%20Original%20Play%20%C3%96sterreich":MAILTO:armin@originalplay.at
END:VEVENT
END:VCALENDAR