BEGIN:VCALENDAR
VERSION:2.0
PRODID:-//Original Play Österreich - ECPv6.0.8//NONSGML v1.0//EN
CALSCALE:GREGORIAN
METHOD:PUBLISH
X-WR-CALNAME:Original Play Österreich
X-ORIGINAL-URL:https://www.hiersein.at/op
X-WR-CALDESC:Veranstaltungen für Original Play Österreich
REFRESH-INTERVAL;VALUE=DURATION:PT1H
X-Robots-Tag:noindex
X-PUBLISHED-TTL:PT1H
BEGIN:VTIMEZONE
TZID:Europe/Helsinki
BEGIN:DAYLIGHT
TZOFFSETFROM:+0200
TZOFFSETTO:+0300
TZNAME:EEST
DTSTART:20190331T010000
END:DAYLIGHT
BEGIN:STANDARD
TZOFFSETFROM:+0300
TZOFFSETTO:+0200
TZNAME:EET
DTSTART:20191027T010000
END:STANDARD
END:VTIMEZONE
BEGIN:VEVENT
DTSTART;TZID=Europe/Helsinki:20190204T080000
DTEND;TZID=Europe/Helsinki:20190204T112000
DTSTAMP:20260422T145109
CREATED:20181116T123707Z
LAST-MODIFIED:20181127T062725Z
UID:5245-1549267200-1549279200@www.hiersein.at
SUMMARY:Linz: Mitspielen mit Klaus in der VS 52 Solarcity Linz 4. Feber 2019
DESCRIPTION:Dieses Angebot richtet sich an alle\, die schon mindestens einen Workshop besucht haben und Spielpraxis sammeln wollen. Sie können erfahrene Original Play Apprentices in Schulen\, Kindergärten\, Einrichtungen für Menschen mit Behinderungen und Unterkünfte für Asylwerber*innen begleiten\, um einerseits bei der Arbeit mit Original Play zuzusehen und andererseits in sicherem Rahmen mitzuspielen. \n04.02.2019\, 08:00 bis 11:20 Uhr\, VS 52 Solarcity Linz\n\nDie Teilnehmerzahl ist begrenzt\, Anmeldung ist erforderlich.\n\nAnmeldung: klaus@originalplay.at\, mobil: 0660 / 213 58 01
URL:https://www.hiersein.at/op/veranstaltung/linz-mitspielen-mit-klaus-vs-52-solarcity-linz-4-feber-2019/
LOCATION:Volksschule 52 Solarcity-Pichling\, Heliosallee 140-142\, Linz\, Oberösterreich\, 4030\, Österreich
CATEGORIES:Mitspielen,Mitspielen Klaus,Mitspielen Oberösterreich
ATTACH;FMTTYPE=image/jpeg:https://www.hiersein.at/op/wp-content/uploads/2016/03/KlausBeimSpiel-12.jpg
ORGANIZER;CN="Klaus%20Seits%20-%20Verein%20Original%20Play%20%C3%96sterreich":MAILTO:klaus@originalplay.at
END:VEVENT
END:VCALENDAR