BEGIN:VCALENDAR
VERSION:2.0
PRODID:-//Original Play Österreich - ECPv6.0.8//NONSGML v1.0//EN
CALSCALE:GREGORIAN
METHOD:PUBLISH
X-WR-CALNAME:Original Play Österreich
X-ORIGINAL-URL:https://www.hiersein.at/op
X-WR-CALDESC:Veranstaltungen für Original Play Österreich
REFRESH-INTERVAL;VALUE=DURATION:PT1H
X-Robots-Tag:noindex
X-PUBLISHED-TTL:PT1H
BEGIN:VTIMEZONE
TZID:Europe/Helsinki
BEGIN:DAYLIGHT
TZOFFSETFROM:+0200
TZOFFSETTO:+0300
TZNAME:EEST
DTSTART:20190331T010000
END:DAYLIGHT
BEGIN:STANDARD
TZOFFSETFROM:+0300
TZOFFSETTO:+0200
TZNAME:EET
DTSTART:20191027T010000
END:STANDARD
END:VTIMEZONE
BEGIN:VEVENT
DTSTART;TZID=Europe/Helsinki:20190107T090000
DTEND;TZID=Europe/Helsinki:20190107T120000
DTSTAMP:20260422T162751
CREATED:20181015T193658Z
LAST-MODIFIED:20181015T193820Z
UID:4939-1546851600-1546862400@www.hiersein.at
SUMMARY:Wien: Mitspielen mit Armin im Kindergarten Forsthausgasse\, Montag\, 07.01.2019
DESCRIPTION:09:00 bis 12.00 Uhr\nAnmeldung bei Armin: 0699 12848864\nDie Teilnehmerzahl ist begrenzt\, Anmeldung ist erforderlich.\n \nWir spielen montags alternierend je mit 3 Kindergartengruppen (3-6 Jahre) oder mit 2 Krippen (bis 2 Jahre) und einer Kindergartengruppe. \nDieses Angebot richtet sich an alle\, die schon mindestens einen Workshop besucht haben und Spielpraxis sammeln wollen. Sie können erfahrene Original Play Apprentices in Schulen\, Kindergärten\, Einrichtungen für Menschen mit Behinderungen und Unterkünfte für Asylwerber*innen begleiten\, um einerseits bei der Arbeit mit Original Play zuzusehen und andererseits in sicherem Rahmen mitzuspielen.
URL:https://www.hiersein.at/op/veranstaltung/wien-mitspielen-mit-armin-im-kindergarten-forsthausgasse-montag-07-01-2019/
LOCATION:Ort wird bei Anmeldung bekanntgegeben
CATEGORIES:Mitspielen,Mitspielen Armin,Mitspielen Wien
ATTACH;FMTTYPE=image/jpeg:https://www.hiersein.at/op/wp-content/uploads/2017/11/Original_Play_Armin-Wien_18.jpg
ORGANIZER;CN="Armin%20Knauthe%20-%20Verein%20Original%20Play%20%C3%96sterreich":MAILTO:armin@originalplay.at
END:VEVENT
BEGIN:VEVENT
DTSTART;TZID=Europe/Helsinki:20190107T160000
DTEND;TZID=Europe/Helsinki:20190107T170000
DTSTAMP:20260422T162751
CREATED:20180814T122808Z
LAST-MODIFIED:20180915T102633Z
UID:4682-1546876800-1546880400@www.hiersein.at
SUMMARY:Wien: Spielgruppe im EKiZ Kind und Kegel\, Praterstraße 14\, 1020 Wien\, Montag\, 07.01.2019
DESCRIPTION:Offene Gruppe ‚Original Play‘ für Kinder von 3 bis 15 Jahren \nTermine: montags an Schultagen von 16 bis 17 Uhr\nAlle Termine: \n3.9.\, 10.9.\, 17.9.\, 24.9.\, \n1.10.\, 8.10.\, 15.10.\, 22.10.\, 29.10.\, \n5.11.\, 12.11.\, 19.11.\, 26.11.\, \n3.12.\, 10.12.\, 17.12.2018\, \n7.1.\, 14.1.\, 21.1.\, 28.1.2019 \n(Keine Anmeldung erforderlich) \nKosten: Schnupperstunde bei freier Spende\, Dreierblock um 28 €\, Sechserblock um 50 € \n‚Von Herzen spielen‘ ist das\, was wir instinktiv mit Babys und Kleinkindern tun – oder wie junge Hunde miteinander spielen. Aber mit ca. drei Jahren weicht dieses liebevolle Spiel in unserer Kultur dem Wettbewerb\, Spielregeln oder sogar Raufen und Kämpfen! Und das verunsichert und frustriert Kinder wie Eltern. Original Play zeigt\, wie man diesen Schatz hinüberretten kann und weiter liebevoll und sicher miteinander spielen kann – von kuschelig bis wild und schnell! Erleben Sie das ‚Ursprüngliche Spiel‘ mit Ihren Kindern auf der Mattenfläche. \nWeitere Informationen: Christian Bauer\, ‭0664 5166881‬
URL:https://www.hiersein.at/op/veranstaltung/wien-spielgruppe-im-ekiz-kind-und-kegel-praterstrasse-14-1020-wien-montag-07-01-2019/
LOCATION:EKiZ Kind&Kegel\, Praterstraße 14\, Wien\, Wien\, 1120\, Österreich
CATEGORIES:Spielgruppen,Spielgruppen Wien
ATTACH;FMTTYPE=image/jpeg:https://www.hiersein.at/op/wp-content/uploads/2017/10/OP_Armin18.jpg
ORGANIZER;CN="Armin%20Knauthe%20-%20Verein%20Original%20Play%20%C3%96sterreich":MAILTO:armin@originalplay.at
END:VEVENT
BEGIN:VEVENT
DTSTART;TZID=Europe/Helsinki:20190108T133000
DTEND;TZID=Europe/Helsinki:20190108T143000
DTSTAMP:20260422T162751
CREATED:20181015T190317Z
LAST-MODIFIED:20181015T190711Z
UID:4904-1546954200-1546957800@www.hiersein.at
SUMMARY:Wien: Mitspielen mit Armin im AKH-Betriebskindergarten\, Dienstag\, 08.01.2019
DESCRIPTION:13:30 bis 14.30 Uhr\nAnmeldung bei Armin: 0699 12848864\nDie Teilnehmerzahl ist begrenzt\, Anmeldung ist erforderlich.\n \nIm Rahmen der Wissensakademie der Wiener Kinderfreunde spielen wir dienstags mit ein bis zwei Gruppen von Kindergartenkindern im Alter von 3-6 Jahren. \nDieses Angebot richtet sich an alle\, die schon mindestens einen Workshop besucht haben und Spielpraxis sammeln wollen. Sie können erfahrene Original Play Apprentices in Schulen\, Kindergärten\, Einrichtungen für Menschen mit Behinderungen und Unterkünfte für Asylwerber*innen begleiten\, um einerseits bei der Arbeit mit Original Play zuzusehen und andererseits in sicherem Rahmen mitzuspielen.
URL:https://www.hiersein.at/op/veranstaltung/wien-mitspielen-mit-armin-im-akh-betriebskindergarten-dienstag-08-01-2019/
LOCATION:Ort wird bei Anmeldung bekanntgegeben
CATEGORIES:Mitspielen,Mitspielen Armin,Mitspielen Wien
ATTACH;FMTTYPE=image/jpeg:https://www.hiersein.at/op/wp-content/uploads/2016/10/OriginalPlayLibanon19.jpg
ORGANIZER;CN="Armin%20Knauthe%20-%20Verein%20Original%20Play%20%C3%96sterreich":MAILTO:armin@originalplay.at
END:VEVENT
BEGIN:VEVENT
DTSTART;TZID=Europe/Helsinki:20190109T130000
DTEND;TZID=Europe/Helsinki:20190109T140000
DTSTAMP:20260422T162751
CREATED:20181015T212046Z
LAST-MODIFIED:20181015T214317Z
UID:4993-1547038800-1547042400@www.hiersein.at
SUMMARY:Wien: Mitspielen mit Armin im Kindergarten Vorgartenstraße\, Mittwoch\, 09.01.2019
DESCRIPTION:13:00 bis 14.00 Uhr\nAnmeldung bei Armin: 0699 12848864\nDie Teilnehmerzahl ist begrenzt\, Anmeldung ist erforderlich.\n \nIm Rahmen der Wissensakademie der Wiener Kinderfreunde spielen wir mittwochs mit einer Teilgruppe von Kindergartenkindern im Alter von 3-6 Jahren. \nDieses Angebot richtet sich an alle\, die schon mindestens einen Workshop besucht haben und Spielpraxis sammeln wollen. Sie können erfahrene Original Play Apprentices in Schulen\, Kindergärten\, Einrichtungen für Menschen mit Behinderungen und Unterkünfte für Asylwerber*innen begleiten\, um einerseits bei der Arbeit mit Original Play zuzusehen und andererseits in sicherem Rahmen mitzuspielen.
URL:https://www.hiersein.at/op/veranstaltung/wien-mitspielen-mit-armin-im-kindergarten-vorgartenstrasse-mittwoch-09-01-2019/
LOCATION:Ort wird bei Anmeldung bekanntgegeben
CATEGORIES:Mitspielen,Mitspielen Armin,Mitspielen Wien
ATTACH;FMTTYPE=image/jpeg:https://www.hiersein.at/op/wp-content/uploads/2017/09/OP_Armin19.jpg
ORGANIZER;CN="Armin%20Knauthe%20-%20Verein%20Original%20Play%20%C3%96sterreich":MAILTO:armin@originalplay.at
END:VEVENT
BEGIN:VEVENT
DTSTART;TZID=Europe/Helsinki:20190111T085000
DTEND;TZID=Europe/Helsinki:20190111T113000
DTSTAMP:20260422T162751
CREATED:20181015T215309Z
LAST-MODIFIED:20181020T232248Z
UID:5009-1547196600-1547206200@www.hiersein.at
SUMMARY:Wien: Mitspielen mit Armin im Kindergarten Hütteldorferstraße\, Freitag\, 11.01.2019
DESCRIPTION:09.00 bis 11.00 Uhr \nAnmeldung bei Armin: 0699 12848864\nDie Teilnehmerzahl ist begrenzt\, Anmeldung ist erforderlich.\n \nWir spielen Mittwoch vormittags mit 1 Krippe (bis 2 Jahre) und 2 Kindergartengruppen (3-6 Jahre). \nDieses Angebot richtet sich an alle\, die schon mindestens einen Workshop besucht haben und Spielpraxis sammeln wollen. Sie können erfahrene Original Play Apprentices in Schulen\, Kindergärten\, Einrichtungen für Menschen mit Behinderungen und Unterkünfte für Asylwerber*innen begleiten\, um einerseits bei der Arbeit mit Original Play zuzusehen und andererseits in sicherem Rahmen mitzuspielen.
URL:https://www.hiersein.at/op/veranstaltung/wien-mitspielen-mit-armin-im-kindergarten-huetteldorferstrasse-freitag-11-01-2019/
LOCATION:Ort wird bei Anmeldung bekanntgegeben
CATEGORIES:Mitspielen,Mitspielen Armin,Mitspielen Wien
ATTACH;FMTTYPE=image/jpeg:https://www.hiersein.at/op/wp-content/uploads/2017/11/Original_Play_Armin-Wien_19.jpg
ORGANIZER;CN="Armin%20Knauthe%20-%20Verein%20Original%20Play%20%C3%96sterreich":MAILTO:armin@originalplay.at
END:VEVENT
BEGIN:VEVENT
DTSTART;TZID=Europe/Helsinki:20190114T080000
DTEND;TZID=Europe/Helsinki:20190114T112000
DTSTAMP:20260422T162751
CREATED:20181116T123334Z
LAST-MODIFIED:20181127T062821Z
UID:5240-1547452800-1547464800@www.hiersein.at
SUMMARY:Linz: Mitspielen mit Klaus in der VS 52 Solarcity Linz 14. Jänner 2019
DESCRIPTION:Dieses Angebot richtet sich an alle\, die schon mindestens einen Workshop besucht haben und Spielpraxis sammeln wollen. Sie können erfahrene Original Play Apprentices in Schulen\, Kindergärten\, Einrichtungen für Menschen mit Behinderungen und Unterkünfte für Asylwerber*innen begleiten\, um einerseits bei der Arbeit mit Original Play zuzusehen und andererseits in sicherem Rahmen mitzuspielen. \n14.01.2019\, 08:00 bis 11:20 Uhr\, VS 52 Solarcity Linz\n\nDie Teilnehmerzahl ist begrenzt\, Anmeldung ist erforderlich.\n\nAnmeldung: klaus@originalplay.at\, mobil: 0660 / 213 58 01
URL:https://www.hiersein.at/op/veranstaltung/linz-mitspielen-mit-klaus-vs-52-solarcity-linz-14-jaenner-2019/
LOCATION:Volksschule 52 Solarcity-Pichling\, Heliosallee 140-142\, Linz\, Oberösterreich\, 4030\, Österreich
CATEGORIES:Mitspielen,Mitspielen Klaus,Mitspielen Oberösterreich
ATTACH;FMTTYPE=image/jpeg:https://www.hiersein.at/op/wp-content/uploads/2016/03/KlausBeimSpiel-12.jpg
ORGANIZER;CN="Klaus%20Seits%20-%20Verein%20Original%20Play%20%C3%96sterreich":MAILTO:klaus@originalplay.at
END:VEVENT
BEGIN:VEVENT
DTSTART;TZID=Europe/Helsinki:20190114T090000
DTEND;TZID=Europe/Helsinki:20190114T120000
DTSTAMP:20260422T162751
CREATED:20181015T193931Z
LAST-MODIFIED:20181015T194219Z
UID:4941-1547456400-1547467200@www.hiersein.at
SUMMARY:Wien: Mitspielen mit Armin im Kindergarten Forsthausgasse\, Montag\, 14.01.2019
DESCRIPTION:09:00 bis 12.00 Uhr\nAnmeldung bei Armin: 0699 12848864\nDie Teilnehmerzahl ist begrenzt\, Anmeldung ist erforderlich.\n \nWir spielen montags alternierend je mit 3 Kindergartengruppen (3-6 Jahre) oder mit 2 Krippen (bis 2 Jahre) und einer Kindergartengruppe. \nDieses Angebot richtet sich an alle\, die schon mindestens einen Workshop besucht haben und Spielpraxis sammeln wollen. Sie können erfahrene Original Play Apprentices in Schulen\, Kindergärten\, Einrichtungen für Menschen mit Behinderungen und Unterkünfte für Asylwerber*innen begleiten\, um einerseits bei der Arbeit mit Original Play zuzusehen und andererseits in sicherem Rahmen mitzuspielen.
URL:https://www.hiersein.at/op/veranstaltung/wien-mitspielen-mit-armin-im-kindergarten-forsthausgasse-montag-14-01-2019/
LOCATION:Ort wird bei Anmeldung bekanntgegeben
CATEGORIES:Mitspielen,Mitspielen Armin,Mitspielen Wien
ATTACH;FMTTYPE=image/jpeg:https://www.hiersein.at/op/wp-content/uploads/2017/10/12183883_10153820370029382_652118710968708254_o-1.jpg
ORGANIZER;CN="Armin%20Knauthe%20-%20Verein%20Original%20Play%20%C3%96sterreich":MAILTO:armin@originalplay.at
END:VEVENT
BEGIN:VEVENT
DTSTART;TZID=Europe/Helsinki:20190114T160000
DTEND;TZID=Europe/Helsinki:20190114T170000
DTSTAMP:20260422T162751
CREATED:20180814T123023Z
LAST-MODIFIED:20180915T102622Z
UID:4683-1547481600-1547485200@www.hiersein.at
SUMMARY:Wien: Spielgruppe im EKiZ Kind und Kegel\, Praterstraße 14\, 1020 Wien\, Montag\, 14.01.2019
DESCRIPTION:Offene Gruppe ‚Original Play‘ für Kinder von 3 bis 15 Jahren \nTermine: montags an Schultagen von 16 bis 17 Uhr\nAlle Termine: \n3.9.\, 10.9.\, 17.9.\, 24.9.\, \n1.10.\, 8.10.\, 15.10.\, 22.10.\, 29.10.\, \n5.11.\, 12.11.\, 19.11.\, 26.11.\, \n3.12.\, 10.12.\, 17.12.2018\, \n7.1.\, 14.1.\, 21.1.\, 28.1.2019 \n(Keine Anmeldung erforderlich) \nKosten: Schnupperstunde bei freier Spende\, Dreierblock um 28 €\, Sechserblock um 50 € \n‚Von Herzen spielen‘ ist das\, was wir instinktiv mit Babys und Kleinkindern tun – oder wie junge Hunde miteinander spielen. Aber mit ca. drei Jahren weicht dieses liebevolle Spiel in unserer Kultur dem Wettbewerb\, Spielregeln oder sogar Raufen und Kämpfen! Und das verunsichert und frustriert Kinder wie Eltern. Original Play zeigt\, wie man diesen Schatz hinüberretten kann und weiter liebevoll und sicher miteinander spielen kann – von kuschelig bis wild und schnell! Erleben Sie das ‚Ursprüngliche Spiel‘ mit Ihren Kindern auf der Mattenfläche. \nWeitere Informationen: Christian Bauer\, ‭0664 5166881‬
URL:https://www.hiersein.at/op/veranstaltung/wien-spielgruppe-im-ekiz-kind-und-kegel-praterstrasse-14-1020-wien-montag-14-01-2019/
LOCATION:EKiZ Kind&Kegel\, Praterstraße 14\, Wien\, Wien\, 1120\, Österreich
CATEGORIES:Spielgruppen,Spielgruppen Wien
ATTACH;FMTTYPE=image/jpeg:https://www.hiersein.at/op/wp-content/uploads/2018/03/DSC00464.jpg
ORGANIZER;CN="Robin%20Rie%C3%9F%20-%20Verein%20Original%20Play%20%C3%96sterreich":MAILTO:robin@originalplay.at
END:VEVENT
BEGIN:VEVENT
DTSTART;TZID=Europe/Helsinki:20190116T130000
DTEND;TZID=Europe/Helsinki:20190116T140000
DTSTAMP:20260422T162751
CREATED:20181015T211310Z
LAST-MODIFIED:20181015T214238Z
UID:4983-1547643600-1547647200@www.hiersein.at
SUMMARY:Wien: Mitspielen mit Armin im Kindergarten Vorgartenstraße\, Mittwoch\, 16.01.2019
DESCRIPTION:13:00 bis 14.00 Uhr\nAnmeldung bei Armin: 0699 12848864\nDie Teilnehmerzahl ist begrenzt\, Anmeldung ist erforderlich.\n \nIm Rahmen der Wissensakademie der Wiener Kinderfreunde spielen wir mittwochs mit einer Teilgruppe von Kindergartenkindern im Alter von 3-6 Jahren. \nDieses Angebot richtet sich an alle\, die schon mindestens einen Workshop besucht haben und Spielpraxis sammeln wollen. Sie können erfahrene Original Play Apprentices in Schulen\, Kindergärten\, Einrichtungen für Menschen mit Behinderungen und Unterkünfte für Asylwerber*innen begleiten\, um einerseits bei der Arbeit mit Original Play zuzusehen und andererseits in sicherem Rahmen mitzuspielen.
URL:https://www.hiersein.at/op/veranstaltung/wien-mitspielen-mit-armin-im-kindergarten-vorgartenstrasse-mittwoch-16-01-2019/
LOCATION:Ort wird bei Anmeldung bekanntgegeben
CATEGORIES:Mitspielen,Mitspielen Armin,Mitspielen Wien
ATTACH;FMTTYPE=image/jpeg:https://www.hiersein.at/op/wp-content/uploads/2017/09/OP_Armin2.jpg
ORGANIZER;CN="Armin%20Knauthe%20-%20Verein%20Original%20Play%20%C3%96sterreich":MAILTO:armin@originalplay.at
END:VEVENT
BEGIN:VEVENT
DTSTART;TZID=Europe/Helsinki:20190121T090000
DTEND;TZID=Europe/Helsinki:20190121T120000
DTSTAMP:20260422T162751
CREATED:20181015T194000Z
LAST-MODIFIED:20181015T203645Z
UID:4943-1548061200-1548072000@www.hiersein.at
SUMMARY:Wien: Mitspielen mit Armin im Kindergarten Forsthausgasse\, Montag\, 21.01.2019
DESCRIPTION:09:00 bis 12.00 Uhr\nAnmeldung bei Armin: 0699 12848864\nDie Teilnehmerzahl ist begrenzt\, Anmeldung ist erforderlich.\n \nWir spielen montags alternierend je mit 3 Kindergartengruppen (3-6 Jahre) oder mit 2 Krippen (bis 2 Jahre) und einer Kindergartengruppe. \nDieses Angebot richtet sich an alle\, die schon mindestens einen Workshop besucht haben und Spielpraxis sammeln wollen. Sie können erfahrene Original Play Apprentices in Schulen\, Kindergärten\, Einrichtungen für Menschen mit Behinderungen und Unterkünfte für Asylwerber*innen begleiten\, um einerseits bei der Arbeit mit Original Play zuzusehen und andererseits in sicherem Rahmen mitzuspielen.
URL:https://www.hiersein.at/op/veranstaltung/wien-mitspielen-mit-armin-im-kindergarten-forsthausgasse-montag-21-01-2019/
LOCATION:Ort wird bei Anmeldung bekanntgegeben
CATEGORIES:Mitspielen,Mitspielen Armin,Mitspielen Wien
ATTACH;FMTTYPE=image/jpeg:https://www.hiersein.at/op/wp-content/uploads/2017/10/IMG_7126.jpg
ORGANIZER;CN="Armin%20Knauthe%20-%20Verein%20Original%20Play%20%C3%96sterreich":MAILTO:armin@originalplay.at
END:VEVENT
BEGIN:VEVENT
DTSTART;TZID=Europe/Helsinki:20190121T160000
DTEND;TZID=Europe/Helsinki:20190121T170000
DTSTAMP:20260422T162751
CREATED:20180814T123325Z
LAST-MODIFIED:20180915T102610Z
UID:4684-1548086400-1548090000@www.hiersein.at
SUMMARY:Wien: Spielgruppe im EKiZ Kind und Kegel\, Praterstraße 14\, 1020 Wien\, Montag\, 21.01.2019
DESCRIPTION:Offene Gruppe ‚Original Play‘ für Kinder von 3 bis 15 Jahren \nTermine: montags an Schultagen von 16 bis 17 Uhr\nAlle Termine: \n3.9.\, 10.9.\, 17.9.\, 24.9.\, \n1.10.\, 8.10.\, 15.10.\, 22.10.\, 29.10.\, \n5.11.\, 12.11.\, 19.11.\, 26.11.\, \n3.12.\, 10.12.\, 17.12.2018\, \n7.1.\, 14.1.\, 21.1.\, 28.1.2019 \n(Keine Anmeldung erforderlich) \nKosten: Schnupperstunde bei freier Spende\, Dreierblock um 28 €\, Sechserblock um 50 € \n‚Von Herzen spielen‘ ist das\, was wir instinktiv mit Babys und Kleinkindern tun – oder wie junge Hunde miteinander spielen. Aber mit ca. drei Jahren weicht dieses liebevolle Spiel in unserer Kultur dem Wettbewerb\, Spielregeln oder sogar Raufen und Kämpfen! Und das verunsichert und frustriert Kinder wie Eltern. Original Play zeigt\, wie man diesen Schatz hinüberretten kann und weiter liebevoll und sicher miteinander spielen kann – von kuschelig bis wild und schnell! Erleben Sie das ‚Ursprüngliche Spiel‘ mit Ihren Kindern auf der Mattenfläche. \nWeitere Informationen: Christian Bauer\, ‭0664 5166881‬
URL:https://www.hiersein.at/op/veranstaltung/wien-spielgruppe-im-ekiz-kind-und-kegel-praterstrasse-14-1020-wien-montag-21-01-2019/
LOCATION:EKiZ Kind&Kegel\, Praterstraße 14\, Wien\, Wien\, 1120\, Österreich
CATEGORIES:Spielgruppen,Spielgruppen Wien
ATTACH;FMTTYPE=image/jpeg:https://www.hiersein.at/op/wp-content/uploads/2017/10/MG_0699-1.jpg
ORGANIZER;CN="Armin%20Knauthe%20-%20Verein%20Original%20Play%20%C3%96sterreich":MAILTO:armin@originalplay.at
END:VEVENT
BEGIN:VEVENT
DTSTART;TZID=Europe/Helsinki:20190123T130000
DTEND;TZID=Europe/Helsinki:20190123T140000
DTSTAMP:20260422T162751
CREATED:20181015T211930Z
LAST-MODIFIED:20181106T110535Z
UID:4986-1548248400-1548252000@www.hiersein.at
SUMMARY:Wien: Mitspielen mit Armin im Kindergarten Vorgartenstraße\, Mittwoch\, 23.01.2019
DESCRIPTION:13:00 bis 14.00 Uhr\nAnmeldung bei Armin: 0699 12848864\nDie Teilnehmerzahl ist begrenzt\, Anmeldung ist erforderlich.\n \nIm Rahmen der Wissensakademie der Wiener Kinderfreunde spielen wir mittwochs mit einer Teilgruppe von Kindergartenkindern im Alter von 3-6 Jahren. \nDieses Angebot richtet sich an alle\, die schon mindestens einen Workshop besucht haben und Spielpraxis sammeln wollen. Sie können erfahrene Original Play Apprentices in Schulen\, Kindergärten\, Einrichtungen für Menschen mit Behinderungen und Unterkünfte für Asylwerber*innen begleiten\, um einerseits bei der Arbeit mit Original Play zuzusehen und andererseits in sicherem Rahmen mitzuspielen.
URL:https://www.hiersein.at/op/veranstaltung/wien-mitspielen-mit-armin-im-kindergarten-vorgartenstrasse-mittwoch-23-01-2019/
LOCATION:Ort wird bei Anmeldung bekanntgegeben
CATEGORIES:Mitspielen,Mitspielen Armin,Mitspielen Wien
ATTACH;FMTTYPE=image/jpeg:https://www.hiersein.at/op/wp-content/uploads/2017/09/ArminFred-1.jpg
ORGANIZER;CN="Armin%20Knauthe%20-%20Verein%20Original%20Play%20%C3%96sterreich":MAILTO:armin@originalplay.at
END:VEVENT
BEGIN:VEVENT
DTSTART;TZID=Europe/Helsinki:20190125T085000
DTEND;TZID=Europe/Helsinki:20190125T113000
DTSTAMP:20260422T162751
CREATED:20181015T215106Z
LAST-MODIFIED:20181020T232148Z
UID:5007-1548406200-1548415800@www.hiersein.at
SUMMARY:Wien: Mitspielen mit Armin im Kindergarten Hütteldorferstraße\, Freitag\, 25.01.2019
DESCRIPTION:09.00 bis 11.30 Uhr \nAnmeldung bei Armin: 0699 12848864\nDie Teilnehmerzahl ist begrenzt\, Anmeldung ist erforderlich.\n \nWir spielen Mittwoch vormittags mit 1 Krippe (bis 2 Jahre) und 2 Kindergartengruppen (3-6 Jahre). \nDieses Angebot richtet sich an alle\, die schon mindestens einen Workshop besucht haben und Spielpraxis sammeln wollen. Sie können erfahrene Original Play Apprentices in Schulen\, Kindergärten\, Einrichtungen für Menschen mit Behinderungen und Unterkünfte für Asylwerber*innen begleiten\, um einerseits bei der Arbeit mit Original Play zuzusehen und andererseits in sicherem Rahmen mitzuspielen.
URL:https://www.hiersein.at/op/veranstaltung/wien-mitspielen-mit-armin-im-kindergarten-huetteldorferstrasse-freitag-25-01-201/
LOCATION:Ort wird bei Anmeldung bekanntgegeben
CATEGORIES:Mitspielen,Mitspielen Armin,Mitspielen Wien
ATTACH;FMTTYPE=image/jpeg:https://www.hiersein.at/op/wp-content/uploads/2017/11/Original_Play_Armin-Wien_18.jpg
ORGANIZER;CN="Armin%20Knauthe%20-%20Verein%20Original%20Play%20%C3%96sterreich":MAILTO:armin@originalplay.at
END:VEVENT
BEGIN:VEVENT
DTSTART;TZID=Europe/Helsinki:20190128T080000
DTEND;TZID=Europe/Helsinki:20190128T112000
DTSTAMP:20260422T162751
CREATED:20181116T123543Z
LAST-MODIFIED:20181127T062756Z
UID:5242-1548662400-1548674400@www.hiersein.at
SUMMARY:Linz: Mitspielen mit Klaus in der VS 52 Solarcity Linz 28. Jänner 2019
DESCRIPTION:Dieses Angebot richtet sich an alle\, die schon mindestens einen Workshop besucht haben und Spielpraxis sammeln wollen. Sie können erfahrene Original Play Apprentices in Schulen\, Kindergärten\, Einrichtungen für Menschen mit Behinderungen und Unterkünfte für Asylwerber*innen begleiten\, um einerseits bei der Arbeit mit Original Play zuzusehen und andererseits in sicherem Rahmen mitzuspielen. \n28.01.2019\, 08:00 bis 11:20 Uhr\, VS 52 Solarcity Linz\n\nDie Teilnehmerzahl ist begrenzt\, Anmeldung ist erforderlich.\n\nAnmeldung: klaus@originalplay.at\, mobil: 0660 / 213 58 01
URL:https://www.hiersein.at/op/veranstaltung/linz-mitspielen-mit-klaus-vs-52-solarcity-linz-28-jaenner-2019/
LOCATION:Volksschule 52 Solarcity-Pichling\, Heliosallee 140-142\, Linz\, Oberösterreich\, 4030\, Österreich
CATEGORIES:Mitspielen,Mitspielen Klaus,Mitspielen Oberösterreich
ATTACH;FMTTYPE=image/jpeg:https://www.hiersein.at/op/wp-content/uploads/2016/03/KlausBeimSpiel-12.jpg
ORGANIZER;CN="Klaus%20Seits%20-%20Verein%20Original%20Play%20%C3%96sterreich":MAILTO:klaus@originalplay.at
END:VEVENT
BEGIN:VEVENT
DTSTART;TZID=Europe/Helsinki:20190128T090000
DTEND;TZID=Europe/Helsinki:20190128T120000
DTSTAMP:20260422T162751
CREATED:20181015T193945Z
LAST-MODIFIED:20181015T194431Z
UID:4942-1548666000-1548676800@www.hiersein.at
SUMMARY:Wien: Mitspielen mit Armin im Kindergarten Forsthausgasse\, Montag\, 28.01.2019
DESCRIPTION:09:00 bis 12.00 Uhr\nAnmeldung bei Armin: 0699 12848864\nDie Teilnehmerzahl ist begrenzt\, Anmeldung ist erforderlich.\n \nWir spielen montags alternierend je mit 3 Kindergartengruppen (3-6 Jahre) oder mit 2 Krippen (bis 2 Jahre) und einer Kindergartengruppe. \nDieses Angebot richtet sich an alle\, die schon mindestens einen Workshop besucht haben und Spielpraxis sammeln wollen. Sie können erfahrene Original Play Apprentices in Schulen\, Kindergärten\, Einrichtungen für Menschen mit Behinderungen und Unterkünfte für Asylwerber*innen begleiten\, um einerseits bei der Arbeit mit Original Play zuzusehen und andererseits in sicherem Rahmen mitzuspielen.
URL:https://www.hiersein.at/op/veranstaltung/wien-mitspielen-mit-armin-im-kindergarten-forsthausgasse-montag-22-01-2019/
LOCATION:Ort wird bei Anmeldung bekanntgegeben
CATEGORIES:Mitspielen,Mitspielen Armin,Mitspielen Wien
ATTACH;FMTTYPE=image/jpeg:https://www.hiersein.at/op/wp-content/uploads/2017/10/IMG_7126.jpg
ORGANIZER;CN="Armin%20Knauthe%20-%20Verein%20Original%20Play%20%C3%96sterreich":MAILTO:armin@originalplay.at
END:VEVENT
BEGIN:VEVENT
DTSTART;TZID=Europe/Helsinki:20190128T160000
DTEND;TZID=Europe/Helsinki:20190128T170000
DTSTAMP:20260422T162751
CREATED:20180814T123511Z
LAST-MODIFIED:20190120T203604Z
UID:4685-1548691200-1548694800@www.hiersein.at
SUMMARY:Wien: Spielgruppe im EKiZ Kind & Kegel\, Praterstraße 14\, 1020 Wien\, Montag\, 28.01.2019
DESCRIPTION:Offene Gruppe ‚Original Play‘ für Kinder von 3 bis 15 Jahren \nTermine: montags an Schultagen von 16 bis 17 Uhr\nAlle Termine: \n3.9.\, 10.9.\, 17.9.\, 24.9.\, \n1.10.\, 8.10.\, 15.10.\, 22.10.\, 29.10.\, \n5.11.\, 12.11.\, 19.11.\, 26.11.\, \n3.12.\, 10.12.\, 17.12.2018\, \n7.1.\, 14.1.\, 21.1.\, 28.1.2019 \n(Keine Anmeldung erforderlich) \nKosten: Schnupperstunde bei freier Spende\, Dreierblock um 28 €\, Sechserblock um 50 € \n‚Von Herzen spielen‘ ist das\, was wir instinktiv mit Babys und Kleinkindern tun – oder wie junge Hunde miteinander spielen. Aber mit ca. drei Jahren weicht dieses liebevolle Spiel in unserer Kultur dem Wettbewerb\, Spielregeln oder sogar Raufen und Kämpfen! Und das verunsichert und frustriert Kinder wie Eltern. Original Play zeigt\, wie man diesen Schatz hinüberretten kann und weiter liebevoll und sicher miteinander spielen kann – von kuschelig bis wild und schnell! Erleben Sie das ‚Ursprüngliche Spiel‘ mit Ihren Kindern auf der Mattenfläche. \nWeitere Informationen: Christian Bauer\, ‭0664 5166881‬
URL:https://www.hiersein.at/op/veranstaltung/wien-spielgruppe-im-ekiz-kind-und-kegel-praterstrasse-14-1020-wien-montag-28-01-2019/
LOCATION:EKiZ Kind&Kegel\, Praterstraße 14\, Wien\, Wien\, 1120\, Österreich
CATEGORIES:Spielgruppen,Spielgruppen Wien
ATTACH;FMTTYPE=image/jpeg:https://www.hiersein.at/op/wp-content/uploads/2018/03/RKiB.jpg
ORGANIZER;CN="Robin%20Rie%C3%9F%20-%20Verein%20Original%20Play%20%C3%96sterreich":MAILTO:robin@originalplay.at
END:VEVENT
END:VCALENDAR