BEGIN:VCALENDAR
VERSION:2.0
PRODID:-//Original Play Österreich - ECPv6.0.8//NONSGML v1.0//EN
CALSCALE:GREGORIAN
METHOD:PUBLISH
X-ORIGINAL-URL:https://www.hiersein.at/op
X-WR-CALDESC:Veranstaltungen für Original Play Österreich
REFRESH-INTERVAL;VALUE=DURATION:PT1H
X-Robots-Tag:noindex
X-PUBLISHED-TTL:PT1H
BEGIN:VTIMEZONE
TZID:Europe/Helsinki
BEGIN:DAYLIGHT
TZOFFSETFROM:+0200
TZOFFSETTO:+0300
TZNAME:EEST
DTSTART:20180325T010000
END:DAYLIGHT
BEGIN:STANDARD
TZOFFSETFROM:+0300
TZOFFSETTO:+0200
TZNAME:EET
DTSTART:20181028T010000
END:STANDARD
END:VTIMEZONE
BEGIN:VEVENT
DTSTART;TZID=Europe/Helsinki:20181001T160000
DTEND;TZID=Europe/Helsinki:20181001T170000
DTSTAMP:20260422T210008
CREATED:20180814T115815Z
LAST-MODIFIED:20180915T103207Z
UID:4669-1538409600-1538413200@www.hiersein.at
SUMMARY:Wien: Spielgruppe im EKiZ Kind und Kegel\, Praterstraße 14\, 1020 Wien\, Montag\, 01.10.2018
DESCRIPTION:Offene Gruppe ‚Original Play‘ für Kinder von 3 bis 15 Jahren \nTermine: montags an Schultagen von 16 bis 17 Uhr\nAlle Termine: \n3.9.\, 10.9.\, 17.9.\, 24.9.\, \n1.10.\, 8.10.\, 15.10.\, 22.10.\, 29.10.\, \n5.11.\, 12.11.\, 19.11.\, 26.11.\, \n3.12.\, 10.12.\, 17.12.2018\, \n7.1.\, 14.1.\, 21.1.\, 28.1.2019 \n(Keine Anmeldung erforderlich) \nKosten: Schnupperstunde bei freier Spende\, Dreierblock um 28 €\, Sechserblock um 50 € \n‚Von Herzen spielen‘ ist das\, was wir instinktiv mit Babys und Kleinkindern tun – oder wie junge Hunde miteinander spielen. Aber mit ca. drei Jahren weicht dieses liebevolle Spiel in unserer Kultur dem Wettbewerb\, Spielregeln oder sogar Raufen und Kämpfen! Und das verunsichert und frustriert Kinder wie Eltern. Original Play zeigt\, wie man diesen Schatz hinüberretten kann und weiter liebevoll und sicher miteinander spielen kann – von kuschelig bis wild und schnell! Erleben Sie das ‚Ursprüngliche Spiel‘ mit Ihren Kindern auf der Mattenfläche. \nWeitere Informationen: Christian Bauer\, ‭0664 5166881‬
URL:https://www.hiersein.at/op/veranstaltung/wien-spielgruppe-im-ekiz-kind-und-kegel-praterstrasse-14-1020-wien-montag-01-10-2018/
LOCATION:EKiZ Kind&Kegel\, Praterstraße 14\, Wien\, Wien\, 1120\, Österreich
CATEGORIES:Spielgruppen,Spielgruppen Wien
ATTACH;FMTTYPE=image/jpeg:https://www.hiersein.at/op/wp-content/uploads/2018/03/DSC00464.jpg
ORGANIZER;CN="Robin%20Rie%C3%9F%20-%20Verein%20Original%20Play%20%C3%96sterreich":MAILTO:robin@originalplay.at
END:VEVENT
BEGIN:VEVENT
DTSTART;TZID=Europe/Helsinki:20181002T133000
DTEND;TZID=Europe/Helsinki:20181002T143000
DTSTAMP:20260422T210008
CREATED:20180721T130324Z
LAST-MODIFIED:20180721T131700Z
UID:4634-1538487000-1538490600@www.hiersein.at
SUMMARY:Wien: Mitspielen mit Armin im AKH-Betriebskindergarten\, Dienstag\, 02.10.2018
DESCRIPTION:13:30 bis 14.30 Uhr\nAnmeldung bei Armin: 0699 12848864\nDie Teilnehmerzahl ist begrenzt\, Anmeldung ist erforderlich.\n \nIm Rahmen der Wissensakademie der Wiener Kinderfreunde spielen wir dienstags mit ein bis zwei Gruppen von Kindergartenkindern im Alter von 3-6 Jahren. \nDieses Angebot richtet sich an alle\, die schon mindestens einen Workshop besucht haben und Spielpraxis sammeln wollen. Sie können erfahrene Original Play Apprentices in Schulen\, Kindergärten\, Einrichtungen für Menschen mit Behinderungen und Unterkünfte für Asylwerber*innen begleiten\, um einerseits bei der Arbeit mit Original Play zuzusehen und andererseits in sicherem Rahmen mitzuspielen.
URL:https://www.hiersein.at/op/veranstaltung/wien-mitspielen-mit-armin-im-akh-betriebskindergarten-dienstag-02-10-2018/
LOCATION:Ort wird bei Anmeldung bekanntgegeben
CATEGORIES:Mitspielen,Mitspielen Armin,Mitspielen Wien
ATTACH;FMTTYPE=image/jpeg:https://www.hiersein.at/op/wp-content/uploads/2017/09/OP_Armin2.jpg
ORGANIZER;CN="Armin%20Knauthe%20-%20Verein%20Original%20Play%20%C3%96sterreich":MAILTO:armin@originalplay.at
END:VEVENT
BEGIN:VEVENT
DTSTART;TZID=Europe/Helsinki:20181008T160000
DTEND;TZID=Europe/Helsinki:20181008T170000
DTSTAMP:20260422T210008
CREATED:20180814T120014Z
LAST-MODIFIED:20180915T103156Z
UID:4670-1539014400-1539018000@www.hiersein.at
SUMMARY:Wien: Spielgruppe im EKiZ Kind und Kegel\, Praterstraße 14\, 1020 Wien\, Montag\, 08.10.2018
DESCRIPTION:Offene Gruppe ‚Original Play‘ für Kinder von 3 bis 15 Jahren \nTermine: montags an Schultagen von 16 bis 17 Uhr\nAlle Termine: \n3.9.\, 10.9.\, 17.9.\, 24.9.\, \n1.10.\, 8.10.\, 15.10.\, 22.10.\, 29.10.\, \n5.11.\, 12.11.\, 19.11.\, 26.11.\, \n3.12.\, 10.12.\, 17.12.2018\, \n7.1.\, 14.1.\, 21.1.\, 28.1.2019 \n(Keine Anmeldung erforderlich) \nKosten: Schnupperstunde bei freier Spende\, Dreierblock um 28 €\, Sechserblock um 50 € \n‚Von Herzen spielen‘ ist das\, was wir instinktiv mit Babys und Kleinkindern tun – oder wie junge Hunde miteinander spielen. Aber mit ca. drei Jahren weicht dieses liebevolle Spiel in unserer Kultur dem Wettbewerb\, Spielregeln oder sogar Raufen und Kämpfen! Und das verunsichert und frustriert Kinder wie Eltern. Original Play zeigt\, wie man diesen Schatz hinüberretten kann und weiter liebevoll und sicher miteinander spielen kann – von kuschelig bis wild und schnell! Erleben Sie das ‚Ursprüngliche Spiel‘ mit Ihren Kindern auf der Mattenfläche. \nWeitere Informationen: Christian Bauer\, ‭0664 5166881‬
URL:https://www.hiersein.at/op/veranstaltung/wien-spielgruppe-im-ekiz-kind-und-kegel-praterstrasse-14-1020-wien-montag-08-10-2018/
LOCATION:EKiZ Kind&Kegel\, Praterstraße 14\, Wien\, Wien\, 1120\, Österreich
CATEGORIES:Spielgruppen,Spielgruppen Wien
ATTACH;FMTTYPE=image/jpeg:https://www.hiersein.at/op/wp-content/uploads/2017/11/Original_Play_Armin-Fred_Wien_1.jpg
ORGANIZER;CN="Armin%20Knauthe%20-%20Verein%20Original%20Play%20%C3%96sterreich":MAILTO:armin@originalplay.at
END:VEVENT
BEGIN:VEVENT
DTSTART;TZID=Europe/Helsinki:20181015T160000
DTEND;TZID=Europe/Helsinki:20181015T170000
DTSTAMP:20260422T210008
CREATED:20180814T120155Z
LAST-MODIFIED:20180915T103146Z
UID:4671-1539619200-1539622800@www.hiersein.at
SUMMARY:Wien: Spielgruppe im EKiZ Kind und Kegel\, Praterstraße 14\, 1020 Wien\, Montag\, 15.10.2018
DESCRIPTION:Offene Gruppe ‚Original Play‘ für Kinder von 3 bis 15 Jahren \nTermine: montags an Schultagen von 16 bis 17 Uhr\nAlle Termine: \n3.9.\, 10.9.\, 17.9.\, 24.9.\, \n1.10.\, 8.10.\, 15.10.\, 22.10.\, 29.10.\, \n5.11.\, 12.11.\, 19.11.\, 26.11.\, \n3.12.\, 10.12.\, 17.12.2018\, \n7.1.\, 14.1.\, 21.1.\, 28.1.2019 \n(Keine Anmeldung erforderlich) \nKosten: Schnupperstunde bei freier Spende\, Dreierblock um 28 €\, Sechserblock um 50 € \n‚Von Herzen spielen‘ ist das\, was wir instinktiv mit Babys und Kleinkindern tun – oder wie junge Hunde miteinander spielen. Aber mit ca. drei Jahren weicht dieses liebevolle Spiel in unserer Kultur dem Wettbewerb\, Spielregeln oder sogar Raufen und Kämpfen! Und das verunsichert und frustriert Kinder wie Eltern. Original Play zeigt\, wie man diesen Schatz hinüberretten kann und weiter liebevoll und sicher miteinander spielen kann – von kuschelig bis wild und schnell! Erleben Sie das ‚Ursprüngliche Spiel‘ mit Ihren Kindern auf der Mattenfläche. \n\nWeitere Informationen: Christian Bauer\, ‭0664 5166881‬
URL:https://www.hiersein.at/op/veranstaltung/wien-spielgruppe-im-ekiz-kind-und-kegel-praterstrasse-14-1020-wien-montag-15-10-2018/
LOCATION:EKiZ Kind&Kegel\, Praterstraße 14\, Wien\, Wien\, 1120\, Österreich
CATEGORIES:Spielgruppen,Spielgruppen Wien
ATTACH;FMTTYPE=image/jpeg:https://www.hiersein.at/op/wp-content/uploads/2018/03/OP_Robin14.jpg
ORGANIZER;CN="Robin%20Rie%C3%9F%20-%20Verein%20Original%20Play%20%C3%96sterreich":MAILTO:robin@originalplay.at
END:VEVENT
BEGIN:VEVENT
DTSTART;TZID=Europe/Helsinki:20181016T133000
DTEND;TZID=Europe/Helsinki:20181016T143000
DTSTAMP:20260422T210008
CREATED:20180721T130337Z
LAST-MODIFIED:20180721T131733Z
UID:4635-1539696600-1539700200@www.hiersein.at
SUMMARY:Wien: Mitspielen mit Armin im AKH-Betriebskindergarten\, Dienstag\, 16.10.2018
DESCRIPTION:13:30 bis 14.30 Uhr\nAnmeldung bei Armin: 0699 12848864\nDie Teilnehmerzahl ist begrenzt\, Anmeldung ist erforderlich.\n \nIm Rahmen der Wissensakademie der Wiener Kinderfreunde spielen wir dienstags mit ein bis zwei Gruppen von Kindergartenkindern im Alter von 3-6 Jahren. \nDieses Angebot richtet sich an alle\, die schon mindestens einen Workshop besucht haben und Spielpraxis sammeln wollen. Sie können erfahrene Original Play Apprentices in Schulen\, Kindergärten\, Einrichtungen für Menschen mit Behinderungen und Unterkünfte für Asylwerber*innen begleiten\, um einerseits bei der Arbeit mit Original Play zuzusehen und andererseits in sicherem Rahmen mitzuspielen.
URL:https://www.hiersein.at/op/veranstaltung/wien-mitspielen-mit-armin-im-akh-betriebskindergarten-dienstag-16-10-2018/
LOCATION:Ort wird bei Anmeldung bekanntgegeben
CATEGORIES:Mitspielen,Mitspielen Armin,Mitspielen Wien
ATTACH;FMTTYPE=image/jpeg:https://www.hiersein.at/op/wp-content/uploads/2017/09/OP_Armin3.jpg
ORGANIZER;CN="Armin%20Knauthe%20-%20Verein%20Original%20Play%20%C3%96sterreich":MAILTO:armin@originalplay.at
END:VEVENT
BEGIN:VEVENT
DTSTART;TZID=Europe/Helsinki:20181017T090000
DTEND;TZID=Europe/Helsinki:20181017T100000
DTSTAMP:20260422T210008
CREATED:20181015T205543Z
LAST-MODIFIED:20181015T210133Z
UID:4962-1539766800-1539770400@www.hiersein.at
SUMMARY:Wien: Mitspielen mit Armin im Kindergarten Kardinal-Rauscher-Platz\, Mittwoch\, 17.10.2018
DESCRIPTION:09:00 bis 10.00 Uhr\nAnmeldung bei Armin: 0699 12848864\nDie Teilnehmerzahl ist begrenzt\, Anmeldung ist erforderlich.\n \nIm Rahmen der Wissensakademie der Wiener Kinderfreunde spielen wir mittwochs mit einer Gruppe von Kindergartenkindern im Alter von 3-6 Jahren. \nDieses Angebot richtet sich an alle\, die schon mindestens einen Workshop besucht haben und Spielpraxis sammeln wollen. Sie können erfahrene Original Play Apprentices in Schulen\, Kindergärten\, Einrichtungen für Menschen mit Behinderungen und Unterkünfte für Asylwerber*innen begleiten\, um einerseits bei der Arbeit mit Original Play zuzusehen und andererseits in sicherem Rahmen mitzuspielen.
URL:https://www.hiersein.at/op/veranstaltung/wien-mitspielen-mit-armin-im-kindergarten-kardinal-rauscher-platz-mittwoch-17-10-2018/
LOCATION:Ort wird bei Anmeldung bekanntgegeben
CATEGORIES:Mitspielen,Mitspielen Armin,Mitspielen Wien
ATTACH;FMTTYPE=image/jpeg:https://www.hiersein.at/op/wp-content/uploads/2018/10/ArminOriginalPlay_7057.jpg
ORGANIZER;CN="Armin%20Knauthe%20-%20Verein%20Original%20Play%20%C3%96sterreich":MAILTO:armin@originalplay.at
END:VEVENT
BEGIN:VEVENT
DTSTART;TZID=Europe/Helsinki:20181019T091500
DTEND;TZID=Europe/Helsinki:20181019T120000
DTSTAMP:20260422T210008
CREATED:20181015T215943Z
LAST-MODIFIED:20181015T220100Z
UID:5017-1539940500-1539950400@www.hiersein.at
SUMMARY:Wien: Mitspielen mit Armin im Kindergarten Hütteldorferstraße\, Freitag\, 19.10.2018
DESCRIPTION:09.15 bis 12.00 Uhr \nAnmeldung bei Armin: 0699 12848864\nDie Teilnehmerzahl ist begrenzt\, Anmeldung ist erforderlich.\n \nWir spielen Mittwoch vormittags mit 1 Krippe (bis 2 Jahre) und 2 Kindergartengruppen (3-6 Jahre). \nDieses Angebot richtet sich an alle\, die schon mindestens einen Workshop besucht haben und Spielpraxis sammeln wollen. Sie können erfahrene Original Play Apprentices in Schulen\, Kindergärten\, Einrichtungen für Menschen mit Behinderungen und Unterkünfte für Asylwerber*innen begleiten\, um einerseits bei der Arbeit mit Original Play zuzusehen und andererseits in sicherem Rahmen mitzuspielen.
URL:https://www.hiersein.at/op/veranstaltung/wien-mitspielen-mit-armin-im-kindergarten-huetteldorferstrasse-freitag-09-11-2018-2/
LOCATION:Ort wird bei Anmeldung bekanntgegeben
CATEGORIES:Mitspielen,Mitspielen Armin,Mitspielen Wien
ATTACH;FMTTYPE=image/jpeg:https://www.hiersein.at/op/wp-content/uploads/2018/10/ArminOriginalPlay_6932.jpg
ORGANIZER;CN="Armin%20Knauthe%20-%20Verein%20Original%20Play%20%C3%96sterreich":MAILTO:armin@originalplay.at
END:VEVENT
BEGIN:VEVENT
DTSTART;TZID=Europe/Helsinki:20181022T080000
DTEND;TZID=Europe/Helsinki:20181022T160000
DTSTAMP:20260422T210008
CREATED:20180814T120339Z
LAST-MODIFIED:20180915T103136Z
UID:4672-1540195200-1540224000@www.hiersein.at
SUMMARY:Wien: Spielgruppe im EKiZ Kind und Kegel\, Praterstraße 14\, 1020 Wien\, Montag\, 22.10.2018
DESCRIPTION:Offene Gruppe ‚Original Play‘ für Kinder von 3 bis 15 Jahren \nTermine: montags an Schultagen von 16 bis 17 Uhr\nAlle Termine: \n3.9.\, 10.9.\, 17.9.\, 24.9.\, \n1.10.\, 8.10.\, 15.10.\, 22.10.\, 29.10.\, \n5.11.\, 12.11.\, 19.11.\, 26.11.\, \n3.12.\, 10.12.\, 17.12.2018\, \n7.1.\, 14.1.\, 21.1.\, 28.1.2019 \n(Keine Anmeldung erforderlich) \nKosten: Schnupperstunde bei freier Spende\, Dreierblock um 28 €\, Sechserblock um 50 € \n‚Von Herzen spielen‘ ist das\, was wir instinktiv mit Babys und Kleinkindern tun – oder wie junge Hunde miteinander spielen. Aber mit ca. drei Jahren weicht dieses liebevolle Spiel in unserer Kultur dem Wettbewerb\, Spielregeln oder sogar Raufen und Kämpfen! Und das verunsichert und frustriert Kinder wie Eltern. Original Play zeigt\, wie man diesen Schatz hinüberretten kann und weiter liebevoll und sicher miteinander spielen kann – von kuschelig bis wild und schnell! Erleben Sie das ‚Ursprüngliche Spiel‘ mit Ihren Kindern auf der Mattenfläche. \n\nWeitere Informationen: Christian Bauer\, ‭0664 5166881‬
URL:https://www.hiersein.at/op/veranstaltung/wien-spielgruppe-im-ekiz-kind-und-kegel-praterstrasse-14-1020-wien-montag-22-10-2018/
LOCATION:EKiZ Kind&Kegel\, Praterstraße 14\, Wien\, Wien\, 1120\, Österreich
CATEGORIES:Spielgruppen,Spielgruppen Wien
ATTACH;FMTTYPE=image/jpeg:https://www.hiersein.at/op/wp-content/uploads/2017/11/Original_Play_Armin-Wien_19.jpg
ORGANIZER;CN="Armin%20Knauthe%20-%20Verein%20Original%20Play%20%C3%96sterreich":MAILTO:armin@originalplay.at
END:VEVENT
BEGIN:VEVENT
DTSTART;TZID=Europe/Helsinki:20181022T090000
DTEND;TZID=Europe/Helsinki:20181022T120000
DTSTAMP:20260422T210008
CREATED:20181015T190904Z
LAST-MODIFIED:20181015T191329Z
UID:4910-1540198800-1540209600@www.hiersein.at
SUMMARY:Wien: Mitspielen mit Armin im Kindergarten Forsthausgasse\, Montag\, 22.10.2018
DESCRIPTION:09:00 bis 12.00 Uhr\nAnmeldung bei Armin: 0699 12848864\nDie Teilnehmerzahl ist begrenzt\, Anmeldung ist erforderlich.\n \nWir spielen montags alternierend je mit 3 Kindergartengruppen (3-6 Jahre) oder mit 2 Krippen (bis 2 Jahre) und einer Kindergartengruppe. \nDieses Angebot richtet sich an alle\, die schon mindestens einen Workshop besucht haben und Spielpraxis sammeln wollen. Sie können erfahrene Original Play Apprentices in Schulen\, Kindergärten\, Einrichtungen für Menschen mit Behinderungen und Unterkünfte für Asylwerber*innen begleiten\, um einerseits bei der Arbeit mit Original Play zuzusehen und andererseits in sicherem Rahmen mitzuspielen.
URL:https://www.hiersein.at/op/veranstaltung/wien-mitspielen-mit-armin-im-kindergarten-forsthausgasse-montag-22-10-2018/
LOCATION:Ort wird bei Anmeldung bekanntgegeben
CATEGORIES:Mitspielen,Mitspielen Armin,Mitspielen Wien
ATTACH;FMTTYPE=image/jpeg:https://www.hiersein.at/op/wp-content/uploads/2017/10/IMG_6947.jpg
ORGANIZER;CN="Armin%20Knauthe%20-%20Verein%20Original%20Play%20%C3%96sterreich":MAILTO:armin@originalplay.at
END:VEVENT
BEGIN:VEVENT
DTSTART;TZID=Europe/Helsinki:20181029T160000
DTEND;TZID=Europe/Helsinki:20181029T170000
DTSTAMP:20260422T210008
CREATED:20180814T120525Z
LAST-MODIFIED:20180915T103039Z
UID:4674-1540828800-1540832400@www.hiersein.at
SUMMARY:Wien: Spielgruppe im EKiZ Kind und Kegel\, Praterstraße 14\, 1020 Wien\, Montag\, 29.10.2018
DESCRIPTION:Offene Gruppe ‚Original Play‘ für Kinder von 3 bis 15 Jahren \nTermine: montags an Schultagen von 16 bis 17 Uhr\nAlle Termine: \n3.9.\, 10.9.\, 17.9.\, 24.9.\, \n1.10.\, 8.10.\, 15.10.\, 22.10.\, 29.10.\, \n5.11.\, 12.11.\, 19.11.\, 26.11.\, \n3.12.\, 10.12.\, 17.12.2018\, \n7.1.\, 14.1.\, 21.1.\, 28.1.2019 \n(Keine Anmeldung erforderlich) \nKosten: Schnupperstunde bei freier Spende\, Dreierblock um 28 €\, Sechserblock um 50 € \n‚Von Herzen spielen‘ ist das\, was wir instinktiv mit Babys und Kleinkindern tun – oder wie junge Hunde miteinander spielen. Aber mit ca. drei Jahren weicht dieses liebevolle Spiel in unserer Kultur dem Wettbewerb\, Spielregeln oder sogar Raufen und Kämpfen! Und das verunsichert und frustriert Kinder wie Eltern. Original Play zeigt\, wie man diesen Schatz hinüberretten kann und weiter liebevoll und sicher miteinander spielen kann – von kuschelig bis wild und schnell! Erleben Sie das ‚Ursprüngliche Spiel‘ mit Ihren Kindern auf der Mattenfläche. \nWeitere Informationen: Christian Bauer\, ‭0664 5166881‬
URL:https://www.hiersein.at/op/veranstaltung/wien-spielgruppe-im-ekiz-kind-und-kegel-praterstrasse-14-1020-wien-montag-29-10-2018/
LOCATION:EKiZ Kind&Kegel\, Praterstraße 14\, Wien\, Wien\, 1120\, Österreich
CATEGORIES:Spielgruppen,Spielgruppen Wien
ATTACH;FMTTYPE=image/jpeg:https://www.hiersein.at/op/wp-content/uploads/2018/03/RKiB.jpg
ORGANIZER;CN="Robin%20Rie%C3%9F%20-%20Verein%20Original%20Play%20%C3%96sterreich":MAILTO:robin@originalplay.at
END:VEVENT
BEGIN:VEVENT
DTSTART;TZID=Europe/Helsinki:20181031T090000
DTEND;TZID=Europe/Helsinki:20181031T100000
DTSTAMP:20260422T210008
CREATED:20181015T205700Z
LAST-MODIFIED:20181015T210028Z
UID:4964-1540976400-1540980000@www.hiersein.at
SUMMARY:Wien: Mitspielen mit Armin im Kindergarten Kardinal-Rauscher-Platz\, Mittwoch\, 31.10.2018
DESCRIPTION:09:00 bis 10.00 Uhr\nAnmeldung bei Armin: 0699 12848864\nDie Teilnehmerzahl ist begrenzt\, Anmeldung ist erforderlich.\n \nIm Rahmen der Wissensakademie der Wiener Kinderfreunde spielen wir mittwochs mit einer Gruppe von Kindergartenkindern im Alter von 3-6 Jahren. \nDieses Angebot richtet sich an alle\, die schon mindestens einen Workshop besucht haben und Spielpraxis sammeln wollen. Sie können erfahrene Original Play Apprentices in Schulen\, Kindergärten\, Einrichtungen für Menschen mit Behinderungen und Unterkünfte für Asylwerber*innen begleiten\, um einerseits bei der Arbeit mit Original Play zuzusehen und andererseits in sicherem Rahmen mitzuspielen.
URL:https://www.hiersein.at/op/veranstaltung/wien-mitspielen-mit-armin-im-kindergarten-kardinal-rauscher-platz-mittwoch-31-10-2018/
LOCATION:Ort wird bei Anmeldung bekanntgegeben
CATEGORIES:Mitspielen,Mitspielen Armin,Mitspielen Wien
ATTACH;FMTTYPE=image/jpeg:https://www.hiersein.at/op/wp-content/uploads/2018/10/ArminOriginalPlay_6976.jpg
ORGANIZER;CN="Armin%20Knauthe%20-%20Verein%20Original%20Play%20%C3%96sterreich":MAILTO:armin@originalplay.at
END:VEVENT
BEGIN:VEVENT
DTSTART;TZID=Europe/Helsinki:20181031T130000
DTEND;TZID=Europe/Helsinki:20181031T140000
DTSTAMP:20260422T210008
CREATED:20181015T211918Z
LAST-MODIFIED:20181015T213830Z
UID:4985-1540990800-1540994400@www.hiersein.at
SUMMARY:Wien: Mitspielen mit Armin im Kindergarten Vorgartenstraße\, Mittwoch\, 31.10.2018
DESCRIPTION:13:00 bis 14.00 Uhr\nAnmeldung bei Armin: 0699 12848864\nDie Teilnehmerzahl ist begrenzt\, Anmeldung ist erforderlich.\n \nIm Rahmen der Wissensakademie der Wiener Kinderfreunde spielen wir mittwochs mit einer Teilgruppe von Kindergartenkindern im Alter von 3-6 Jahren. \nDieses Angebot richtet sich an alle\, die schon mindestens einen Workshop besucht haben und Spielpraxis sammeln wollen. Sie können erfahrene Original Play Apprentices in Schulen\, Kindergärten\, Einrichtungen für Menschen mit Behinderungen und Unterkünfte für Asylwerber*innen begleiten\, um einerseits bei der Arbeit mit Original Play zuzusehen und andererseits in sicherem Rahmen mitzuspielen.
URL:https://www.hiersein.at/op/veranstaltung/wien-mitspielen-mit-armin-im-kindergarten-vorgartenstrasse-mittwoch-31-10-2018/
LOCATION:Ort wird bei Anmeldung bekanntgegeben
CATEGORIES:Mitspielen,Mitspielen Armin,Mitspielen Wien
ATTACH;FMTTYPE=image/jpeg:https://www.hiersein.at/op/wp-content/uploads/2017/09/OP_Armin19.jpg
ORGANIZER;CN="Armin%20Knauthe%20-%20Verein%20Original%20Play%20%C3%96sterreich":MAILTO:armin@originalplay.at
END:VEVENT
END:VCALENDAR