BEGIN:VCALENDAR
VERSION:2.0
PRODID:-//Original Play Österreich - ECPv6.0.8//NONSGML v1.0//EN
CALSCALE:GREGORIAN
METHOD:PUBLISH
X-WR-CALNAME:Original Play Österreich
X-ORIGINAL-URL:https://www.hiersein.at/op
X-WR-CALDESC:Veranstaltungen für Original Play Österreich
REFRESH-INTERVAL;VALUE=DURATION:PT1H
X-Robots-Tag:noindex
X-PUBLISHED-TTL:PT1H
BEGIN:VTIMEZONE
TZID:Europe/Helsinki
BEGIN:DAYLIGHT
TZOFFSETFROM:+0200
TZOFFSETTO:+0300
TZNAME:EEST
DTSTART:20180325T010000
END:DAYLIGHT
BEGIN:STANDARD
TZOFFSETFROM:+0300
TZOFFSETTO:+0200
TZNAME:EET
DTSTART:20181028T010000
END:STANDARD
END:VTIMEZONE
BEGIN:VEVENT
DTSTART;TZID=Europe/Helsinki:20180507T091500
DTEND;TZID=Europe/Helsinki:20180507T120000
DTSTAMP:20260423T054406
CREATED:20180211T210750Z
LAST-MODIFIED:20180211T210750Z
UID:4021-1525684500-1525694400@www.hiersein.at
SUMMARY:Wien: Mitspielen mit Armin im Kindergarten Forsthausgasse\, Montag\, 07.05.2018
DESCRIPTION:09:15 bis 12.00 Uhr\nAnmeldung bei Armin: 0699 12848864\nDie Teilnehmerzahl ist begrenzt\, Anmeldung ist erforderlich.\n \nWir spielen montags alternierend je mit 3 Kindergartengruppen (3-6 Jahre) oder mit 2 Krippen (bis 2 Jahre) und einer Kindergartengruppe. \nDieses Angebot richtet sich an alle\, die schon mindestens einen Workshop besucht haben und Spielpraxis sammeln wollen. Sie können erfahrene Original Play Apprentices in Schulen\, Kindergärten\, Einrichtungen für Menschen mit Behinderungen und Unterkünfte für Asylwerber*innen begleiten\, um einerseits bei der Arbeit mit Original Play zuzusehen und andererseits in sicherem Rahmen mitzuspielen.
URL:https://www.hiersein.at/op/veranstaltung/wien-mitspielen-mit-armin-im-kindergarten-forsthausgasse-montag-07-05-2018/
LOCATION:Ort wird bei Anmeldung bekanntgegeben
CATEGORIES:Mitspielen,Mitspielen Armin,Mitspielen Wien
ATTACH;FMTTYPE=image/jpeg:https://www.hiersein.at/op/wp-content/uploads/2017/10/MG_0699-1.jpg
ORGANIZER;CN="Armin%20Knauthe%20-%20Verein%20Original%20Play%20%C3%96sterreich":MAILTO:armin@originalplay.at
END:VEVENT
BEGIN:VEVENT
DTSTART;TZID=Europe/Helsinki:20180507T160000
DTEND;TZID=Europe/Helsinki:20180507T170000
DTSTAMP:20260423T054406
CREATED:20180305T224805Z
LAST-MODIFIED:20180423T054003Z
UID:4236-1525708800-1525712400@www.hiersein.at
SUMMARY:Wien: Spielgruppe im EKiZ Kind und Kegel\, Praterstraße 14\, 1020 Wien\, Montag\, 07.05.2018
DESCRIPTION:Offene Gruppe ‚Original Play‘ für Kinder von 3 bis 15 Jahren\n\nTermine: montags an Schultagen von 16 bis 17 Uhr\n\nAlle Termine: 09.04.\, 16.04.\, 23.04.\, 30.04.\, 07.05.\, 14.05.\, 28.05.\, 04.06.\, 11.06.\, 18.06. und 25.06.18\n(Keine Anmeldung erforderlich)Kosten: Schnupperstunde bei freier Spende\, Dreierblock um 28 €\, Sechserblock um 50 € \n‚Von Herzen spielen‘ ist das\, was wir instinktiv mit Babys und Kleinkindern tun – oder wie junge Hunde miteinander spielen. Aber mit ca. drei Jahren weicht dieses liebevolle Spiel in unserer Kultur dem Wettbewerb\, Spielregeln oder sogar Raufen und Kämpfen! Und das verunsichert und frustriert Kinder wie Eltern. Original Play zeigt\, wie man diesen Schatz hinüberretten kann und weiter liebevoll und sicher miteinander spielen kann – von kuschelig bis wild und schnell! Erleben Sie das ‚Ursprüngliche Spiel‘ mit Ihren Kindern auf der Mattenfläche. \nBlockkarten vor Ort oder jetzt  kaufen:\n3er-Block jetzt kaufen\nhttps://www.hiersein.at/op/produkt/wien-spielgruppe-im-kind-und-kegel-3er-block/\n6er-Block jetzt kaufen\nhttps://www.hiersein.at/op/produkt/wien-spielgruppe-im-kind-und-kegel-6er-block-kopie/\n\nWeitere Informationen: Armin Knauthe\, 0699 12848864
URL:https://www.hiersein.at/op/veranstaltung/wien-spielgruppe-im-ekiz-kind-und-kegel-praterstrasse-14-1020-wien-montag-07-05-2018/
LOCATION:EKiZ Kind&Kegel\, Praterstraße 14\, Wien\, Wien\, 1120\, Österreich
CATEGORIES:Spielgruppen,Spielgruppen Wien
ATTACH;FMTTYPE=image/jpeg:https://www.hiersein.at/op/wp-content/uploads/2017/11/Original_Play_Armin-Wien_11.jpg
ORGANIZER;CN="Armin%20Knauthe%20-%20Verein%20Original%20Play%20%C3%96sterreich":MAILTO:armin@originalplay.at
END:VEVENT
BEGIN:VEVENT
DTSTART;TZID=Europe/Helsinki:20180509T074500
DTEND;TZID=Europe/Helsinki:20180509T112500
DTSTAMP:20260423T054406
CREATED:20180506T180144Z
LAST-MODIFIED:20180506T181255Z
UID:4409-1525851900-1525865100@www.hiersein.at
SUMMARY:Bad Hall: Mitspielen mit Klaus in der VS Bad Hall
DESCRIPTION:Mi\, 9. Mai 2018 / 7.45 bis 11.25 Uhr \nBegrenzte Plätze verfügbar\, Anmeldung erforderlich. Anmeldung bei Klaus unter +43 660 2135801 \nWir spielen mit 4 Schulklassen in der Volksschule Bad Hall. \nDieses Angebot richtet sich an alle\, die schon zumindest einen Workshop besucht haben und Spielpraxis sammeln wollen. Sie können erfahrene Original Play Apprentices in Schulen\, Kindergärten\, Einrichtungen für Menschen mit Behinderungen und Unterkünfte für Asylwerber*innen begleiten\, um einerseits bei der Arbeit mit Original Play zuzusehen und andererseits in sicherem Rahmen mitzuspielen.
URL:https://www.hiersein.at/op/veranstaltung/bad-hall-mitspielen-mit-klaus-in-der-vs-bad-hall-9-5-2018/
LOCATION:Ort wird bei Anmeldung bekanntgegeben
CATEGORIES:Mitspielen,Mitspielen Klaus,Mitspielen Oberösterreich
ORGANIZER;CN="Klaus%20Seits%20-%20Verein%20Original%20Play%20%C3%96sterreich":MAILTO:klaus@originalplay.at
END:VEVENT
BEGIN:VEVENT
DTSTART;TZID=Europe/Helsinki:20180514T091500
DTEND;TZID=Europe/Helsinki:20180514T120000
DTSTAMP:20260423T054406
CREATED:20180211T210759Z
LAST-MODIFIED:20180211T210759Z
UID:4022-1526289300-1526299200@www.hiersein.at
SUMMARY:Wien: Mitspielen mit Armin im Kindergarten Forsthausgasse\, Montag\, 14.05.2018
DESCRIPTION:09:15 bis 12.00 Uhr\nAnmeldung bei Armin: 0699 12848864\nDie Teilnehmerzahl ist begrenzt\, Anmeldung ist erforderlich.\n \nWir spielen montags alternierend je mit 3 Kindergartengruppen (3-6 Jahre) oder mit 2 Krippen (bis 2 Jahre) und einer Kindergartengruppe. \nDieses Angebot richtet sich an alle\, die schon mindestens einen Workshop besucht haben und Spielpraxis sammeln wollen. Sie können erfahrene Original Play Apprentices in Schulen\, Kindergärten\, Einrichtungen für Menschen mit Behinderungen und Unterkünfte für Asylwerber*innen begleiten\, um einerseits bei der Arbeit mit Original Play zuzusehen und andererseits in sicherem Rahmen mitzuspielen.
URL:https://www.hiersein.at/op/veranstaltung/wien-mitspielen-mit-armin-im-kindergarten-forsthausgasse-montag-14-05-2018/
LOCATION:Ort wird bei Anmeldung bekanntgegeben
CATEGORIES:Mitspielen,Mitspielen Armin,Mitspielen Wien
ATTACH;FMTTYPE=image/jpeg:https://www.hiersein.at/op/wp-content/uploads/2017/10/OP_Armin6.jpg
ORGANIZER;CN="Armin%20Knauthe%20-%20Verein%20Original%20Play%20%C3%96sterreich":MAILTO:armin@originalplay.at
END:VEVENT
BEGIN:VEVENT
DTSTART;TZID=Europe/Helsinki:20180514T160000
DTEND;TZID=Europe/Helsinki:20180514T170000
DTSTAMP:20260423T054406
CREATED:20180305T224841Z
LAST-MODIFIED:20180423T052537Z
UID:4237-1526313600-1526317200@www.hiersein.at
SUMMARY:Wien: Spielgruppe im EKiZ Kind und Kegel\, Praterstraße 14\, 1020 Wien\, Montag\, 14.05.2018
DESCRIPTION:Offene Gruppe ‚Original Play‘ für Kinder von 3 bis 15 Jahren \nTermine: montags an Schultagen von 16 bis 17 Uhr\nAlle Termine: 09.04.\, 16.04.\, 23.04.\, 30.04.\, 07.05.\, 14.05.\, 28.05.\, 04.06.\, 11.06.\, 18.06. und 25.06.18\n(Keine Anmeldung erforderlich) \nKosten: Schnupperstunde bei freier Spende\, Dreierblock um 28 €\, Sechserblock um 50 € \n‚Von Herzen spielen‘ ist das\, was wir instinktiv mit Babys und Kleinkindern tun – oder wie junge Hunde miteinander spielen. Aber mit ca. drei Jahren weicht dieses liebevolle Spiel in unserer Kultur dem Wettbewerb\, Spielregeln oder sogar Raufen und Kämpfen! Und das verunsichert und frustriert Kinder wie Eltern. Original Play zeigt\, wie man diesen Schatz hinüberretten kann und weiter liebevoll und sicher miteinander spielen kann – von kuschelig bis wild und schnell! Erleben Sie das ‚Ursprüngliche Spiel‘ mit Ihren Kindern auf der Mattenfläche. \nBlockkarten vor Ort oder jetzt  kaufen:\n3er-Block jetzt kaufen\nhttps://www.hiersein.at/op/produkt/wien-spielgruppe-im-kind-und-kegel-3er-block/\n6er-Block jetzt kaufen\nhttps://www.hiersein.at/op/produkt/wien-spielgruppe-im-kind-und-kegel-6er-block-kopie/\n\nWeitere Informationen: Armin Knauthe\, 0699 12848864
URL:https://www.hiersein.at/op/veranstaltung/wien-spielgruppe-im-ekiz-kind-und-kegel-praterstrasse-14-1020-wien-montag-14-05-2018/
LOCATION:EKiZ Kind&Kegel\, Praterstraße 14\, Wien\, Wien\, 1120\, Österreich
CATEGORIES:Spielgruppen,Spielgruppen Wien
ATTACH;FMTTYPE=image/jpeg:https://www.hiersein.at/op/wp-content/uploads/2018/03/OP_Robin22.jpg
ORGANIZER;CN="Robin%20Rie%C3%9F%20-%20Verein%20Original%20Play%20%C3%96sterreich":MAILTO:robin@originalplay.at
END:VEVENT
BEGIN:VEVENT
DTSTART;TZID=Europe/Helsinki:20180517T091500
DTEND;TZID=Europe/Helsinki:20180517T110000
DTSTAMP:20260423T054406
CREATED:20180506T182434Z
LAST-MODIFIED:20180506T182434Z
UID:4418-1526548500-1526554800@www.hiersein.at
SUMMARY:Linz: Mitspielen mit Klaus in der VS 52 Solarcity Linz
DESCRIPTION:Do\, 17. Mai 2018 / 9.15 bis 11.00 Uhr \nBegrenzte Plätze verfügbar\, Anmeldung erforderlich. Anmeldung bei Klaus unter +43 660 2135801 \nWir spielen mit 3 Klassen der VS 52 Solarcity Linz. \nDieses Angebot richtet sich an alle\, die schon zumindest einen Workshop besucht haben und Spielpraxis sammeln wollen. Sie können erfahrene Original Play Apprentices in Schulen\, Kindergärten\, Einrichtungen für Menschen mit Behinderungen und Unterkünfte für Asylwerber*innen begleiten\, um einerseits bei der Arbeit mit Original Play zuzusehen und andererseits in sicherem Rahmen mitzuspielen.
URL:https://www.hiersein.at/op/veranstaltung/linz-mitspielen-mit-klaus-in-der-vs-52-solarcity-linz/
LOCATION:Ort wird bei Anmeldung bekanntgegeben
CATEGORIES:Mitspielen,Mitspielen Klaus,Mitspielen Oberösterreich
ATTACH;FMTTYPE=image/jpeg:https://www.hiersein.at/op/wp-content/uploads/2016/03/KlausBeimSpiel-11.jpg
ORGANIZER;CN="Klaus%20Seits%20-%20Verein%20Original%20Play%20%C3%96sterreich":MAILTO:klaus@originalplay.at
END:VEVENT
BEGIN:VEVENT
DTSTART;TZID=Europe/Helsinki:20180518T103000
DTEND;TZID=Europe/Helsinki:20180518T113000
DTSTAMP:20260423T054406
CREATED:20180506T182840Z
LAST-MODIFIED:20180506T182840Z
UID:4420-1526639400-1526643000@www.hiersein.at
SUMMARY:Pettenbach: Mitspielen mit Klaus in der Schule an der Alm
DESCRIPTION:Fr\, 18. Mai 2018 / 10.30 bis 11.30 Uhr \nBegrenzte Plätze verfügbar\, Anmeldung erforderlich. Anmeldung bei Klaus unter +43 660 2135801 \nWir spielen mit 1 Klasse in der Schule an der Alm. \nDieses Angebot richtet sich an alle\, die schon zumindest einen Workshop besucht haben und Spielpraxis sammeln wollen. Sie können erfahrene Original Play Apprentices in Schulen\, Kindergärten\, Einrichtungen für Menschen mit Behinderungen und Unterkünfte für Asylwerber*innen begleiten\, um einerseits bei der Arbeit mit Original Play zuzusehen und andererseits in sicherem Rahmen mitzuspielen.
URL:https://www.hiersein.at/op/veranstaltung/pettenbach-mitspielen-mit-klaus-in-der-schule-an-der-alm/
LOCATION:Ort wird bei Anmeldung bekanntgegeben
CATEGORIES:Mitspielen,Mitspielen Klaus,Mitspielen Oberösterreich
ATTACH;FMTTYPE=image/jpeg:https://www.hiersein.at/op/wp-content/uploads/2016/03/KlausBeimSpiel-07.jpg
ORGANIZER;CN="Klaus%20Seits%20-%20Verein%20Original%20Play%20%C3%96sterreich":MAILTO:klaus@originalplay.at
END:VEVENT
BEGIN:VEVENT
DTSTART;TZID=Europe/Helsinki:20180523T132000
DTEND;TZID=Europe/Helsinki:20180523T153000
DTSTAMP:20260423T054406
CREATED:20180522T231725Z
LAST-MODIFIED:20181015T214616Z
UID:4505-1527081600-1527089400@www.hiersein.at
SUMMARY:Wien: Mitspielen mit Armin in einer Volksschule in der Vorgartenstraße\, Mittwoch\, 23.05.2018
DESCRIPTION:13:20 bis 15.30 Uhr\nAnmeldung bei Armin: 0699 12848864\nDie Teilnehmerzahl ist begrenzt\, Anmeldung ist erforderlich. \nWir spielen mit 2 Schulklassen einer Volksschule in der Vorgartenstraße. \nDieses Angebot richtet sich an alle\, die schon zumindest einen Workshop besucht haben und Spielpraxis sammeln wollen. Sie können erfahrene Original Play Apprentices in Schulen\, Kindergärten\, Einrichtungen für Menschen mit Behinderungen und Unterkünfte für Asylwerber*innen begleiten\, um einerseits bei der Arbeit mit Original Play zuzusehen und andererseits in sicherem Rahmen mitzuspielen.
URL:https://www.hiersein.at/op/veranstaltung/wien-mitspielen-mit-armin-in-einer-volksschule-in-der-vorgartenstrasse-mittwoch-23-05-2018/
LOCATION:Ort wird bei Anmeldung bekanntgegeben
CATEGORIES:Mitspielen,Mitspielen Armin,Mitspielen Wien
ATTACH;FMTTYPE=image/jpeg:https://www.hiersein.at/op/wp-content/uploads/2017/09/OP_Armin4.jpg
ORGANIZER;CN="Armin%20Knauthe%20-%20Verein%20Original%20Play%20%C3%96sterreich":MAILTO:armin@originalplay.at
END:VEVENT
BEGIN:VEVENT
DTSTART;TZID=Europe/Helsinki:20180524T074500
DTEND;TZID=Europe/Helsinki:20180524T112500
DTSTAMP:20260423T054406
CREATED:20180506T184450Z
LAST-MODIFIED:20180506T184450Z
UID:4423-1527147900-1527161100@www.hiersein.at
SUMMARY:Bad Hall: Mitspielen mit Klaus in der VS Bad Hall
DESCRIPTION:Mi\, 24. Mai 2018 / 7.45 bis 11.25 Uhr \nBegrenzte Plätze verfügbar\, Anmeldung erforderlich. Anmeldung bei Klaus unter +43 660 2135801 \nWir spielen mit 4 Schulklassen in der Volksschule Bad Hall. \nDieses Angebot richtet sich an alle\, die schon zumindest einen Workshop besucht haben und Spielpraxis sammeln wollen. Sie können erfahrene Original Play Apprentices in Schulen\, Kindergärten\, Einrichtungen für Menschen mit Behinderungen und Unterkünfte für Asylwerber*innen begleiten\, um einerseits bei der Arbeit mit Original Play zuzusehen und andererseits in sicherem Rahmen mitzuspielen.
URL:https://www.hiersein.at/op/veranstaltung/bad-hall-mitspielen-mit-klaus-in-der-vs-bad-hall/
LOCATION:Ort wird bei Anmeldung bekanntgegeben
CATEGORIES:Mitspielen,Mitspielen Klaus,Mitspielen Oberösterreich
ATTACH;FMTTYPE=image/jpeg:https://www.hiersein.at/op/wp-content/uploads/2016/03/KlausBeimSpiel-12.jpg
ORGANIZER;CN="Klaus%20Seits%20-%20Verein%20Original%20Play%20%C3%96sterreich":MAILTO:klaus@originalplay.at
END:VEVENT
BEGIN:VEVENT
DTSTART;TZID=Europe/Helsinki:20180524T091500
DTEND;TZID=Europe/Helsinki:20180524T120000
DTSTAMP:20260423T054406
CREATED:20190227T124642Z
LAST-MODIFIED:20190227T130213Z
UID:5507-1527153300-1527163200@www.hiersein.at
SUMMARY:Wien: Mitspielen mit Armin im Kindergarten Hütteldorferstraße\, Freitag\, 24.05.2019
DESCRIPTION:09.15 bis 12.00 Uhr \nAnmeldung bei Armin: 0699 12848864\nDie Teilnehmerzahl ist begrenzt\, Anmeldung ist erforderlich.\n \nWir spielen Mittwoch vormittags mit 1 Krippe (bis 2 Jahre) und 2 Kindergartengruppen (3-6 Jahre). \nDieses Angebot richtet sich an alle\, die schon mindestens einen Workshop besucht haben und Spielpraxis sammeln wollen. Sie können erfahrene Original Play Apprentices in Schulen\, Kindergärten\, Einrichtungen für Menschen mit Behinderungen und Unterkünfte für Asylwerber*innen begleiten\, um einerseits bei der Arbeit mit Original Play zuzusehen und andererseits in sicherem Rahmen mitzuspielen.
URL:https://www.hiersein.at/op/veranstaltung/wien-mitspielen-mit-armin-im-kindergarten-huetteldorferstrasse-freitag-24-05-2019/
LOCATION:Ort wird bei Anmeldung bekanntgegeben
CATEGORIES:Mitspielen,Mitspielen Armin,Mitspielen Wien
ATTACH;FMTTYPE=image/jpeg:https://www.hiersein.at/op/wp-content/uploads/2018/10/ArminOriginalPlay_6932.jpg
ORGANIZER;CN="Armin%20Knauthe%20-%20Verein%20Original%20Play%20%C3%96sterreich":MAILTO:armin@originalplay.at
END:VEVENT
BEGIN:VEVENT
DTSTART;TZID=Europe/Helsinki:20180525T125000
DTEND;TZID=Europe/Helsinki:20180525T140000
DTSTAMP:20260423T054406
CREATED:20180522T231326Z
LAST-MODIFIED:20180522T233334Z
UID:4499-1527252600-1527256800@www.hiersein.at
SUMMARY:Wien: Mitspielen mit Armin im Hort in Kaiserebersdorf\, Freitag\, 25.05.2018
DESCRIPTION:12:50 bis 14:00 Uhr\nAnmeldung bei Armin: 0699 12848864\nDie Teilnehmerzahl ist begrenzt\, Anmeldung ist erforderlich.\n \nWir spielen Freitag nachmittags mit einer Hortgruppe (6-10 Jahre). \nDieses Angebot richtet sich an alle\, die schon mindestens einen Workshop besucht haben und Spielpraxis sammeln wollen. Sie können erfahrene Original Play Apprentices in Schulen\, Kindergärten\, Einrichtungen für Menschen mit Behinderungen und Unterkünfte für Asylwerber*innen begleiten\, um einerseits bei der Arbeit mit Original Play zuzusehen und andererseits in sicherem Rahmen mitzuspielen.
URL:https://www.hiersein.at/op/veranstaltung/wien-mitspielen-mit-armin-im-hort-in-kaiserebersdorf-freitag-25-05-2018/
LOCATION:Ort wird bei Anmeldung bekanntgegeben
CATEGORIES:Mitspielen,Mitspielen Armin,Mitspielen Wien
ATTACH;FMTTYPE=image/jpeg:https://www.hiersein.at/op/wp-content/uploads/2017/10/OP_Armin7.jpg
ORGANIZER;CN="Armin%20Knauthe%20-%20Verein%20Original%20Play%20%C3%96sterreich":MAILTO:armin@originalplay.at
END:VEVENT
BEGIN:VEVENT
DTSTART;TZID=Europe/Helsinki:20180525T143000
DTEND;TZID=Europe/Helsinki:20180525T160000
DTSTAMP:20260423T054406
CREATED:20180506T185327Z
LAST-MODIFIED:20180506T192936Z
UID:4425-1527258600-1527264000@www.hiersein.at
SUMMARY:Stadt Haag: Spielgruppe im EKIFAZ\, Hauptplatz 1\, 3350 Stadt Haag
DESCRIPTION:Fr\, 25. Mai 2018 / 14.30 bis 15.00 und 15.00 bis 16.00\n\nOffene Gruppe ‚Original Play‘ für Kinder von 0 bis 4 Jahren von 14.30 bis 15.00 und für Kinder ab 5 Jahren von 15.00 bis 16.00\nKosten: Für die Kleinen: 3 EUR pro Kind\, für die Großen: 6 EUR pro Kind\n\nAnmeldung erforderlich\, Anmeldung bei Klaus unter +43 660 2135801\n\n‚Von Herzen spielen‘ ist das\, was wir instinktiv mit Babys und Kleinkindern tun – oder wie junge Hunde miteinander spielen. Aber mit ca. drei Jahren weicht dieses liebevolle Spiel in unserer Kultur dem Wettbewerb\, Spielregeln oder sogar Raufen und Kämpfen! Und das verunsichert und frustriert Kinder wie Eltern. Original Play zeigt\, wie man diesen Schatz hinüberretten kann und weiter liebevoll und sicher miteinander spielen kann – von kuschelig bis wild und schnell! Erleben Sie das ‚ursprüngliche Spiel‘ mit Ihren Kindern auf der Mattenfläche.
URL:https://www.hiersein.at/op/veranstaltung/stadt-haag-spielgruppe-im-ekifaz-hauptplatz-1-3350-stadt-haag/
LOCATION:Ort wird bei Anmeldung bekanntgegeben
CATEGORIES:Mitspielen,Mitspielen Klaus,Mitspielen Niederösterreich,Spielgruppen,Spielgruppen Niederoesterreich
ATTACH;FMTTYPE=image/jpeg:https://www.hiersein.at/op/wp-content/uploads/2016/03/KlausBeimSpiel-12.jpg
ORGANIZER;CN="Klaus%20Seits%20-%20Verein%20Original%20Play%20%C3%96sterreich":MAILTO:klaus@originalplay.at
END:VEVENT
BEGIN:VEVENT
DTSTART;TZID=Europe/Helsinki:20180528T091500
DTEND;TZID=Europe/Helsinki:20180528T120000
DTSTAMP:20260423T054406
CREATED:20180211T210811Z
LAST-MODIFIED:20180211T210811Z
UID:4023-1527498900-1527508800@www.hiersein.at
SUMMARY:Wien: Mitspielen mit Armin im Kindergarten Forsthausgasse\, Montag\, 28.05.2018
DESCRIPTION:09:15 bis 12.00 Uhr\nAnmeldung bei Armin: 0699 12848864\nDie Teilnehmerzahl ist begrenzt\, Anmeldung ist erforderlich.\n \nWir spielen montags alternierend je mit 3 Kindergartengruppen (3-6 Jahre) oder mit 2 Krippen (bis 2 Jahre) und einer Kindergartengruppe. \nDieses Angebot richtet sich an alle\, die schon mindestens einen Workshop besucht haben und Spielpraxis sammeln wollen. Sie können erfahrene Original Play Apprentices in Schulen\, Kindergärten\, Einrichtungen für Menschen mit Behinderungen und Unterkünfte für Asylwerber*innen begleiten\, um einerseits bei der Arbeit mit Original Play zuzusehen und andererseits in sicherem Rahmen mitzuspielen.
URL:https://www.hiersein.at/op/veranstaltung/wien-mitspielen-mit-armin-im-kindergarten-forsthausgasse-montag-28-05-2018/
LOCATION:Ort wird bei Anmeldung bekanntgegeben
CATEGORIES:Mitspielen,Mitspielen Armin,Mitspielen Wien
ATTACH;FMTTYPE=image/jpeg:https://www.hiersein.at/op/wp-content/uploads/2017/10/MG_0695-1.jpg
ORGANIZER;CN="Armin%20Knauthe%20-%20Verein%20Original%20Play%20%C3%96sterreich":MAILTO:armin@originalplay.at
END:VEVENT
BEGIN:VEVENT
DTSTART;TZID=Europe/Helsinki:20180528T160000
DTEND;TZID=Europe/Helsinki:20180528T170000
DTSTAMP:20260423T054406
CREATED:20180305T224946Z
LAST-MODIFIED:20180423T052457Z
UID:4239-1527523200-1527526800@www.hiersein.at
SUMMARY:Wien: Spielgruppe im EKiZ Kind und Kegel\, Praterstraße 14\, 1020 Wien\, Montag\, 28.05.2018
DESCRIPTION:Offene Gruppe ‚Original Play‘ für Kinder von 3 bis 15 Jahren \nTermine: montags an Schultagen von 16 bis 17 Uhr\nAlle Termine: 09.04.\, 16.04.\, 23.04.\, 30.04.\, 07.05.\, 14.05.\, 28.05.\, 04.06.\, 11.06.\, 18.06. und 25.06.18\n(Keine Anmeldung erforderlich) \nKosten: Schnupperstunde bei freier Spende\, Dreierblock um 28 €\, Sechserblock um 50 € \n‚Von Herzen spielen‘ ist das\, was wir instinktiv mit Babys und Kleinkindern tun – oder wie junge Hunde miteinander spielen. Aber mit ca. drei Jahren weicht dieses liebevolle Spiel in unserer Kultur dem Wettbewerb\, Spielregeln oder sogar Raufen und Kämpfen! Und das verunsichert und frustriert Kinder wie Eltern. Original Play zeigt\, wie man diesen Schatz hinüberretten kann und weiter liebevoll und sicher miteinander spielen kann – von kuschelig bis wild und schnell! Erleben Sie das ‚Ursprüngliche Spiel‘ mit Ihren Kindern auf der Mattenfläche. \nBlockkarten vor Ort oder jetzt  kaufen:\n3er-Block jetzt kaufen\nhttps://www.hiersein.at/op/produkt/wien-spielgruppe-im-kind-und-kegel-3er-block/\n6er-Block jetzt kaufen\nhttps://www.hiersein.at/op/produkt/wien-spielgruppe-im-kind-und-kegel-6er-block-kopie/\n\nWeitere Informationen: Armin Knauthe\, 0699 12848864
URL:https://www.hiersein.at/op/veranstaltung/wien-spielgruppe-im-ekiz-kind-und-kegel-praterstrasse-14-1020-wien-montag-28-05-2018/
LOCATION:EKiZ Kind&Kegel\, Praterstraße 14\, Wien\, Wien\, 1120\, Österreich
CATEGORIES:Spielgruppen,Spielgruppen Wien
ATTACH;FMTTYPE=image/jpeg:https://www.hiersein.at/op/wp-content/uploads/2017/11/Original_Play_Armin-Wien_2.jpg
ORGANIZER;CN="Armin%20Knauthe%20-%20Verein%20Original%20Play%20%C3%96sterreich":MAILTO:armin@originalplay.at
END:VEVENT
BEGIN:VEVENT
DTSTART;TZID=Europe/Helsinki:20180529T074500
DTEND;TZID=Europe/Helsinki:20180529T112500
DTSTAMP:20260423T054406
CREATED:20180506T190959Z
LAST-MODIFIED:20180506T190959Z
UID:4427-1527579900-1527593100@www.hiersein.at
SUMMARY:Bad Hall: Mitspielen mit Klaus in der VS Bad Hall
DESCRIPTION:Di\, 29. Mai 2018 / 7.45 bis 11.25 Uhr \nBegrenzte Plätze verfügbar\, Anmeldung erforderlich. Anmeldung bei Klaus unter +43 660 2135801 \nWir spielen mit 4 Schulklassen in der Volksschule Bad Hall. \nDieses Angebot richtet sich an alle\, die schon zumindest einen Workshop besucht haben und Spielpraxis sammeln wollen. Sie können erfahrene Original Play Apprentices in Schulen\, Kindergärten\, Einrichtungen für Menschen mit Behinderungen und Unterkünfte für Asylwerber*innen begleiten\, um einerseits bei der Arbeit mit Original Play zuzusehen und andererseits in sicherem Rahmen mitzuspielen.
URL:https://www.hiersein.at/op/veranstaltung/bad-hall-mitspielen-mit-klaus-in-der-vs-bad-hall-2/
LOCATION:Ort wird bei Anmeldung bekanntgegeben
CATEGORIES:Mitspielen,Mitspielen Klaus,Mitspielen Oberösterreich
ORGANIZER;CN="Klaus%20Seits%20-%20Verein%20Original%20Play%20%C3%96sterreich":MAILTO:klaus@originalplay.at
END:VEVENT
BEGIN:VEVENT
DTSTART;TZID=Europe/Helsinki:20180529T091500
DTEND;TZID=Europe/Helsinki:20180529T103000
DTSTAMP:20260423T054406
CREATED:20180522T225753Z
LAST-MODIFIED:20180522T233245Z
UID:4493-1527585300-1527589800@www.hiersein.at
SUMMARY:Wien: Mitspielen mit Armin im Kindergarten Spengergasse\, Dienstag\, 29.05.2018
DESCRIPTION:09:15 bis 10.30 Uhr\nAnmeldung bei Armin: 0699 12848864\nDie Teilnehmerzahl ist begrenzt\, Anmeldung ist erforderlich.\n \nWir spielen dienstags mit einer Kindergartengruppen (3-6 Jahre). \nDieses Angebot richtet sich an alle\, die schon mindestens einen Workshop besucht haben und Spielpraxis sammeln wollen. Sie können erfahrene Original Play Apprentices in Schulen\, Kindergärten\, Einrichtungen für Menschen mit Behinderungen und Unterkünfte für Asylwerber*innen begleiten\, um einerseits bei der Arbeit mit Original Play zuzusehen und andererseits in sicherem Rahmen mitzuspielen.
URL:https://www.hiersein.at/op/veranstaltung/wien-mitspielen-mit-armin-im-kindergarten-spengergasse-dienstag-29-05-2018/
LOCATION:Ort wird bei Anmeldung bekanntgegeben
CATEGORIES:Mitspielen,Mitspielen Armin,Mitspielen Wien
ATTACH;FMTTYPE=image/jpeg:https://www.hiersein.at/op/wp-content/uploads/2017/11/Original_Play_Armin-Wien_11.jpg
ORGANIZER;CN="Armin%20Knauthe%20-%20Verein%20Original%20Play%20%C3%96sterreich":MAILTO:armin@originalplay.at
END:VEVENT
END:VCALENDAR