BEGIN:VCALENDAR
VERSION:2.0
PRODID:-//Original Play Österreich - ECPv6.0.8//NONSGML v1.0//EN
CALSCALE:GREGORIAN
METHOD:PUBLISH
X-WR-CALNAME:Original Play Österreich
X-ORIGINAL-URL:https://www.hiersein.at/op
X-WR-CALDESC:Veranstaltungen für Original Play Österreich
REFRESH-INTERVAL;VALUE=DURATION:PT1H
X-Robots-Tag:noindex
X-PUBLISHED-TTL:PT1H
BEGIN:VTIMEZONE
TZID:Europe/Helsinki
BEGIN:DAYLIGHT
TZOFFSETFROM:+0200
TZOFFSETTO:+0300
TZNAME:EEST
DTSTART:20180325T010000
END:DAYLIGHT
BEGIN:STANDARD
TZOFFSETFROM:+0300
TZOFFSETTO:+0200
TZNAME:EET
DTSTART:20181028T010000
END:STANDARD
END:VTIMEZONE
BEGIN:VEVENT
DTSTART;TZID=Europe/Helsinki:20180302T140000
DTEND;TZID=Europe/Helsinki:20180302T150000
DTSTAMP:20260423T090300
CREATED:20180211T213824Z
LAST-MODIFIED:20180211T213824Z
UID:4047-1519999200-1520002800@www.hiersein.at
SUMMARY:Wien: Mitspielen mit Armin im Hort in der Hütteldorferstraße\, Freitag\, 02.03.2018
DESCRIPTION:14.05 bis 15.05 Uhr\nAnmeldung bei Armin: 0699 12848864\nDie Teilnehmerzahl ist begrenzt\, Anmeldung ist erforderlich.\n \nWir spielen Freitag nachmittags mit einer Hortgruppe (6-10 Jahre). \nDieses Angebot richtet sich an alle\, die schon mindestens einen Workshop besucht haben und Spielpraxis sammeln wollen. Sie können erfahrene Original Play Apprentices in Schulen\, Kindergärten\, Einrichtungen für Menschen mit Behinderungen und Unterkünfte für Asylwerber*innen begleiten\, um einerseits bei der Arbeit mit Original Play zuzusehen und andererseits in sicherem Rahmen mitzuspielen.
URL:https://www.hiersein.at/op/veranstaltung/wien-mitspielen-mit-armin-im-hort-in-der-huetteldorferstrasse-freitag-02-03-2018/
LOCATION:Ort wird bei Anmeldung bekanntgegeben
CATEGORIES:Mitspielen,Mitspielen Armin,Mitspielen Wien
ATTACH;FMTTYPE=image/jpeg:https://www.hiersein.at/op/wp-content/uploads/2017/10/IMG_2371.jpg
ORGANIZER;CN="Armin%20Knauthe%20-%20Verein%20Original%20Play%20%C3%96sterreich":MAILTO:armin@originalplay.at
END:VEVENT
BEGIN:VEVENT
DTSTART;TZID=Europe/Helsinki:20180305T091500
DTEND;TZID=Europe/Helsinki:20180305T120000
DTSTAMP:20260423T090300
CREATED:20180211T210637Z
LAST-MODIFIED:20180211T210637Z
UID:4012-1520241300-1520251200@www.hiersein.at
SUMMARY:Wien: Mitspielen mit Armin im Kindergarten Forsthausgasse\, Montag\, 05.03.2018
DESCRIPTION:09:15 bis 12.00 Uhr\nAnmeldung bei Armin: 0699 12848864\nDie Teilnehmerzahl ist begrenzt\, Anmeldung ist erforderlich.\n \nWir spielen montags alternierend je mit 3 Kindergartengruppen (3-6 Jahre) oder mit 2 Krippen (bis 2 Jahre) und einer Kindergartengruppe. \nDieses Angebot richtet sich an alle\, die schon mindestens einen Workshop besucht haben und Spielpraxis sammeln wollen. Sie können erfahrene Original Play Apprentices in Schulen\, Kindergärten\, Einrichtungen für Menschen mit Behinderungen und Unterkünfte für Asylwerber*innen begleiten\, um einerseits bei der Arbeit mit Original Play zuzusehen und andererseits in sicherem Rahmen mitzuspielen.
URL:https://www.hiersein.at/op/veranstaltung/wien-mitspielen-mit-armin-im-kindergarten-forsthausgasse-montag-05-03-2018/
LOCATION:Ort wird bei Anmeldung bekanntgegeben
CATEGORIES:Mitspielen,Mitspielen Armin,Mitspielen Wien
ATTACH;FMTTYPE=image/jpeg:https://www.hiersein.at/op/wp-content/uploads/2017/11/Original_Play_Armin-Wien_11.jpg
ORGANIZER;CN="Armin%20Knauthe%20-%20Verein%20Original%20Play%20%C3%96sterreich":MAILTO:armin@originalplay.at
END:VEVENT
BEGIN:VEVENT
DTSTART;TZID=Europe/Helsinki:20180312T091500
DTEND;TZID=Europe/Helsinki:20180312T120000
DTSTAMP:20260423T090300
CREATED:20180211T210650Z
LAST-MODIFIED:20180211T210650Z
UID:4013-1520846100-1520856000@www.hiersein.at
SUMMARY:Wien: Mitspielen mit Armin im Kindergarten Forsthausgasse\, Montag\, 12.03.2018
DESCRIPTION:09:15 bis 12.00 Uhr\nAnmeldung bei Armin: 0699 12848864\nDie Teilnehmerzahl ist begrenzt\, Anmeldung ist erforderlich.\n \nWir spielen montags alternierend je mit 3 Kindergartengruppen (3-6 Jahre) oder mit 2 Krippen (bis 2 Jahre) und einer Kindergartengruppe. \nDieses Angebot richtet sich an alle\, die schon mindestens einen Workshop besucht haben und Spielpraxis sammeln wollen. Sie können erfahrene Original Play Apprentices in Schulen\, Kindergärten\, Einrichtungen für Menschen mit Behinderungen und Unterkünfte für Asylwerber*innen begleiten\, um einerseits bei der Arbeit mit Original Play zuzusehen und andererseits in sicherem Rahmen mitzuspielen.
URL:https://www.hiersein.at/op/veranstaltung/wien-mitspielen-mit-armin-im-kindergarten-forsthausgasse-montag-12-03-2018/
LOCATION:Ort wird bei Anmeldung bekanntgegeben
CATEGORIES:Mitspielen,Mitspielen Armin,Mitspielen Wien
ATTACH;FMTTYPE=image/jpeg:https://www.hiersein.at/op/wp-content/uploads/2017/11/Original_Play_Armin-Wien_2.jpg
ORGANIZER;CN="Armin%20Knauthe%20-%20Verein%20Original%20Play%20%C3%96sterreich":MAILTO:armin@originalplay.at
END:VEVENT
BEGIN:VEVENT
DTSTART;TZID=Europe/Helsinki:20180312T160000
DTEND;TZID=Europe/Helsinki:20180312T170000
DTSTAMP:20260423T090300
CREATED:20180305T223259Z
LAST-MODIFIED:20180305T230138Z
UID:4228-1520870400-1520874000@www.hiersein.at
SUMMARY:Wien: Spielgruppe im EKiZ Kind und Kegel\, Praterstraße 14\, 1020 Wien\, Montag\, 12.03.2018
DESCRIPTION:Offene Gruppe ‚Original Play‘\nfür Kinder von 3 bis 15 Jahren \nTermine: 12.03. bis 25.06.\, montags an Schultagen von 16 bis 17 Uhr\nKosten: Schnupperstunde bei freier Spende\, Dreierblock um 28 €\, Sechserblock um 50 €\n(Keine Anmeldung erforderlich)\nBlockkarten vor Ort oder jetzt  kaufen auf  https://www.hiersein.at/op/shop/\nWeitere Informationen: Armin Knauthe\, 0699 12848864 und http://originalplay.at \n‚Von Herzen spielen‘ ist das\, was wir instinktiv mit Babys und Kleinkindern tun – oder wie junge Hunde miteinander spielen. Aber mit ca. drei Jahren weicht dieses liebevolle Spiel in unserer Kultur dem Wettbewerb\, Spielregeln oder sogar Raufen und Kämpfen! Und das verunsichert und frustriert Kinder wie Eltern.\nOriginal Play zeigt\, wie man diesen Schatz hinüberretten kann und weiter liebevoll und sicher miteinander spielen kann – von kuschelig bis wild und schnell!\nErleben Sie das ‚Ursprüngliche Spiel‘ mit Ihren Kindern auf der Mattenfläche. \n3er-Block jetzt kaufen\nhttps://www.hiersein.at/op/produkt/wien-spielgruppe-im-kind-und-kegel-3er-block/\n\n6er-Block jetzt kaufen\nhttps://www.hiersein.at/op/produkt/wien-spielgruppe-im-kind-und-kegel-6er-block-kopie/
URL:https://www.hiersein.at/op/veranstaltung/wien-spielgruppe-im-ekiz-kind-und-kegel-praterstrasse-14-1020-wien-montag-12-03-2018/
LOCATION:EKiZ Kind&Kegel\, Praterstraße 14\, Wien\, Wien\, 1120\, Österreich
CATEGORIES:Spielgruppen,Spielgruppen Wien
ATTACH;FMTTYPE=image/jpeg:https://www.hiersein.at/op/wp-content/uploads/2018/03/RKiB.jpg
ORGANIZER;CN="Robin%20Rie%C3%9F%20-%20Verein%20Original%20Play%20%C3%96sterreich":MAILTO:robin@originalplay.at
END:VEVENT
BEGIN:VEVENT
DTSTART;TZID=Europe/Helsinki:20180319T160000
DTEND;TZID=Europe/Helsinki:20180319T170000
DTSTAMP:20260423T090300
CREATED:20180305T223700Z
LAST-MODIFIED:20180305T230124Z
UID:4247-1521475200-1521478800@www.hiersein.at
SUMMARY:Wien: Spielgruppe im EKiZ Kind und Kegel\, Praterstraße 14\, 1020 Wien\, Montag\, 19.03.2018
DESCRIPTION:Offene Gruppe ‚Original Play‘\nfür Kinder von 3 bis 15 Jahren \nTermine: 12.03. bis 25.06.\, montags an Schultagen von 16 bis 17 Uhr\nKosten: Schnupperstunde bei freier Spende\, Dreierblock um 28 €\, Sechserblock um 50 €\n(Keine Anmeldung erforderlich)\nBlockkarten vor Ort oder jetzt  kaufen auf  https://www.hiersein.at/op/shop/\nWeitere Informationen: Armin Knauthe\, 0699 12848864 und http://originalplay.at \n‚Von Herzen spielen‘ ist das\, was wir instinktiv mit Babys und Kleinkindern tun – oder wie junge Hunde miteinander spielen. Aber mit ca. drei Jahren weicht dieses liebevolle Spiel in unserer Kultur dem Wettbewerb\, Spielregeln oder sogar Raufen und Kämpfen! Und das verunsichert und frustriert Kinder wie Eltern.\nOriginal Play zeigt\, wie man diesen Schatz hinüberretten kann und weiter liebevoll und sicher miteinander spielen kann – von kuschelig bis wild und schnell!\nErleben Sie das ‚Ursprüngliche Spiel‘ mit Ihren Kindern auf der Mattenfläche. \n3er-Block jetzt kaufen\nhttps://www.hiersein.at/op/produkt/wien-spielgruppe-im-kind-und-kegel-3er-block/\n\n6er-Block jetzt kaufen\nhttps://www.hiersein.at/op/produkt/wien-spielgruppe-im-kind-und-kegel-6er-block-kopie/
URL:https://www.hiersein.at/op/veranstaltung/wien-spielgruppe-im-ekiz-kind-und-kegel-praterstrasse-14-1020-wien-montag-19-03-2018/
LOCATION:EKiZ Kind&Kegel\, Praterstraße 14\, Wien\, Wien\, 1120\, Österreich
CATEGORIES:Spielgruppen,Spielgruppen Wien
ATTACH;FMTTYPE=image/jpeg:https://www.hiersein.at/op/wp-content/uploads/2017/10/OPArmin2.jpg
ORGANIZER;CN="Armin%20Knauthe%20-%20Verein%20Original%20Play%20%C3%96sterreich":MAILTO:armin@originalplay.at
END:VEVENT
END:VCALENDAR